Workbook
Name proba: 'VIZSGÁLATI DOKUMENTÁCIÓ'!#REF!

Sheet VIZSGÁLATI DOKUMENTÁCIÓ
B2: Esemény minősítése | M2: =IF(OR(M4="N",M5="N"),1,0) -> 0
C4: Baleset | M4: I | N4: ¯ | O4: Igen, Nem
C5: Munkabaleset | M5: I | N5: ¯ | O5: Igen, Nem
B7: Indoklás (Baleset vagy munkabaleset NEM-leges választása esetén) | T7: (Az alábbi szövegmezőn belül, új sor beillesztése -> ALT+ENTER)
B19: Értesítendők
C21: Munkavédelmi hatóság megnevezése:
N22: Értesítése megtörtént? | Q22: ¯ | R22: Igen, Nem, - Nem vonatkozik rá
C24: Munkáltató képviselőjének neve:
N25: Értesítése megtörtént? | Q25: ¯ | R25: Igen, Nem, - Nem vonatkozik rá
C27: Foglalkozás-egészségügyi orvos:
N28: Értesítése megtörtént? | Q28: ¯ | R28: Igen, Nem
C30: Munkavédelmi képviselő (ha van) neve:
N31: Értesítése megtörtént? | Q31: ¯ | R31: Igen, Nem, - Nincs
B33: Folytatta a munkát? | Q33: ¯ | R33: Igen, Nem
B35: Nyilvántartási szám: | N35: 20 | R35: év | Z35: sorszám
B38: (A) Munkáltató adatai
C40: Neve:
C42: Székhelye (címe):
C44: Adószáma: | O44: - | Q44: - | V44: (Vagy) | AC44: Adóazonosító jele:
C46: Telefonszám: | J46: + | K46: 36 | M46: / | P46: - | W46: =CONCATENATE("(",N46,") ",Q46) -> ()
C47: Mobil: | M47: / | P47: - | W47: =CONCATENATE(J47,K47,"(",N47,") ",Q47) -> ()
C48: Fax: | M48: / | P48: - | W48: =CONCATENATE(J48,K48,"(",N48,") ",Q48) -> ()
C50: E-mail címe:
C52: Gazdálkodási forma:
C54: Fő tevékenysége | R54: (TEÁOR ’08)
C56: Helyi egység fő tevékenysége | R56: (TEÁOR ’08)
C58: Összlétszám kategória: | R58: ¯ | T58: Helyi egység létszám kategória: | AI58: ¯
B63: (B) A sérült (munkavállaló) adatai:
C65: Sérült neve
C67: Sérült születési neve
C69: Anyja neve
C71: Születési ideje | O71: év | R71: hó | U71: nap | W71: Helye:
C73: TAJ száma | N73: - | R73: - | W73: Neme: | AA73: ¯
C75: Állampolgársága | L75: ¯
C77: Lakcíme | I77: Irszám. | S77: Település | AE77: út/utca | AI77: hsz.
M79: ép. | Q79: lh. | U79: em. | Y79: ajtó
C81: Telefonszám | J81: + | K81: 36 | M81: / | P81: - | V81: =CONCATENATE(J81,K81," (",N81,") ",Q81) -> +36 () | W81: (+ ország hívószám / Körzetszám - Telefonszám)
C83: Munkaköre/beosztása
C85: Foglalkozása (FEOR)
C87: Foglalkoztatási jogviszonya | AJ87: ¯
...

Sheet 1.a Munkabaleset minősítése 
R2: Munkabaleset minősítése
R3: (amennyiben a munkáltató nem minősíti az eseményt munkabalesetnek)
B4: A sérült
B5: Neve | I5: ='VIZSGÁLATI DOKUMENTÁCIÓ'!$K$65 -> 0
B7: Születési ideje, | I7: ='VIZSGÁLATI DOKUMENTÁCIÓ'!$K$71 -> 0 | M7: . | N7: ='VIZSGÁLATI DOKUMENTÁCIÓ'!$P$71 -> 0 | P7: . | Q7: ='VIZSGÁLATI DOKUMENTÁCIÓ'!$S$71 -> 0 | S7: . | T7: helye | V7: ='VIZSGÁLATI DOKUMENTÁCIÓ'!$Z$71 -> 0
B9: Anyja neve, | I9: ='VIZSGÁLATI DOKUMENTÁCIÓ'!$K$69 -> 0
B11: Munkaköre/beosztása | K11: ='VIZSGÁLATI DOKUMENTÁCIÓ'!$K$83 -> 0
B13: Sérülés jellege | I13: ='VIZSGÁLATI DOKUMENTÁCIÓ'!$O$106 -> 0
B15: Sérülés helyszíne | I15: ='VIZSGÁLATI DOKUMENTÁCIÓ'!$O$107 -> 0
B18: Tájékoztatom, hogy a | I18: ='VIZSGÁLATI DOKUMENTÁCIÓ'!$K$94 -> 0 | L18: . | M18: ='VIZSGÁLATI DOKUMENTÁCIÓ'!$O$94 -> 0 | O18: . | P18: ='VIZSGÁLATI DOKUMENTÁCIÓ'!$R$94 -> 0 | R18: napján történt eseményt,
B20: (munkáltató megnevezése) | K20: ='VIZSGÁLATI DOKUMENTÁCIÓ'!$K$40 -> 0
B22: (munkáltató adószáma) | M22: ='VIZSGÁLATI DOKUMENTÁCIÓ'!$K$44 -> 0 | U22: - | V22: ='VIZSGÁLATI DOKUMENTÁCIÓ'!$P$44 -> 0 | W22: - | X22: ='VIZSGÁLATI DOKUMENTÁCIÓ'!$R$44 -> 0
B24: (munkáltató adóazonosító jele) | M24: ='VIZSGÁLATI DOKUMENTÁCIÓ'!$AD$44 -> 0
B26: mint munkáltató részéről,
R27: nem minősítem munkabalesetnek
B29: Indoklás:
B30: ='VIZSGÁLATI DOKUMENTÁCIÓ'!$B$9 -> 0
B47: Felhívom a munkavállaló figyelmét, hogy e minősítéssel szemben jogorvoslattal élhet az Mvt.68. § alapján, a területileg illetékes munkavédelmi hatóságnál.
AA49: P.H.
B50: Kelt:
AA53: aláírás
AA54: (munkáltatói jogkör gyakorló)

Sheet 1.b Munkabaleseti nyilvántartás
Y1: év | AC1: sorszám
V2: Nyilvántartási szám: | X2: 20 | Y2: ='VIZSGÁLATI DOKUMENTÁCIÓ'!$P$35 -> 0 | AC2: ='VIZSGÁLATI DOKUMENTÁCIÓ'!$T$35 -> 0
R4: Munkabaleseti nyilvántartás
B6: Munkáltató neve: | J6: ='VIZSGÁLATI DOKUMENTÁCIÓ'!$K$40 -> 0
B8: Adószáma: | J8: ='VIZSGÁLATI DOKUMENTÁCIÓ'!$K$44 -> 0 | R8: - | S8: ='VIZSGÁLATI DOKUMENTÁCIÓ'!$P$44 -> 0 | T8: - | U8: ='VIZSGÁLATI DOKUMENTÁCIÓ'!$R$44 -> 0
B10: (Adóazonosító jele:) | J10: ='VIZSGÁLATI DOKUMENTÁCIÓ'!$AD$44 -> 0
B12: A sérült
B14: Neve: | I14: ='VIZSGÁLATI DOKUMENTÁCIÓ'!$K$65 -> 0
B16: Születési ideje, | I16: ='VIZSGÁLATI DOKUMENTÁCIÓ'!$K$71 -> 0 | M16: . | N16: ='VIZSGÁLATI DOKUMENTÁCIÓ'!$P$71 -> 0 | P16: . | Q16: ='VIZSGÁLATI DOKUMENTÁCIÓ'!$S$71 -> 0 | S16: . | U16: helye: | X16: ='VIZSGÁLATI DOKUMENTÁCIÓ'!$Z$71 -> 0
B18: Anyja neve: | I18: ='VIZSGÁLATI DOKUMENTÁCIÓ'!$K$69 -> 0
B20: TAJ száma: | I20: ='VIZSGÁLATI DOKUMENTÁCIÓ'!$K$73 -> 0 | L20: - | M20: ='VIZSGÁLATI DOKUMENTÁCIÓ'!$O$73 -> 0 | P20: - | Q20: ='VIZSGÁLATI DOKUMENTÁCIÓ'!$S$73 -> 0 | U20: Neme: | X20: ='VIZSGÁLATI DOKUMENTÁCIÓ'!$Z$73 -> 0
B22: Állampolgársága: | K22: ='VIZSGÁLATI DOKUMENTÁCIÓ'!$K$75 -> 0
B24: Lakcíme: | G24: ='VIZSGÁLATI DOKUMENTÁCIÓ'!$G$77 -> 0 | I24: ='VIZSGÁLATI DOKUMENTÁCIÓ'!$K$77 -> 0 | Q24: Település | T24: ='VIZSGÁLATI DOKUMENTÁCIÓ'!$V$77 -> 0 | AC24: út/utca | AE24: ='VIZSGÁLATI DOKUMENTÁCIÓ'!$AG$77 -> 0 | AG24: hsz.
B26: Munkaköre/beosztása: | K26: ='VIZSGÁLATI DOKUMENTÁCIÓ'!$K$83 -> 0
B28: Sérülés ideje: | I28: ='VIZSGÁLATI DOKUMENTÁCIÓ'!$K$94 -> 0 | M28: . | N28: ='VIZSGÁLATI DOKUMENTÁCIÓ'!$O$94 -> 0 | P28: . | Q28: ='VIZSGÁLATI DOKUMENTÁCIÓ'!$R$94 -> 0 | S28: .
B30: Sérülés jellege: | I30: ='VIZSGÁLATI DOKUMENTÁCIÓ'!$O$106 -> 0
B32: Sérülés helyszíne: | I32: ='VIZSGÁLATI DOKUMENTÁCIÓ'!$O$107 -> 0
B34: Folytatta a munkát? | K34: ='VIZSGÁLATI DOKUMENTÁCIÓ'!$P$33 -> 0 | M34: (I - Igen, N - Nem)
B36: A sérült ellátására tett intézkedések (szöveges):
B38: ='VIZSGÁLATI DOKUMENTÁCIÓ'!$B$513 -> 0
B45: Munkáltatói intézkedés(ek) a hasonló balesetek megelőzésére:
B54: Kelt:
AA57: aláírás

Sheet 2. JKV munkablst vizsgálatáról
Y1: év | AC1: sorszám
V2: Nyilvántartási szám: | X2: 20 | Y2: ='VIZSGÁLATI DOKUMENTÁCIÓ'!$P$35 -> 0 | AC2: ='VIZSGÁLATI DOKUMENTÁCIÓ'!$T$35 -> 0
R4: Jegyzőkönyv munkabaleset vizsgálatáról
B7: Készült | I7: . | L7: . | O7: . | P7: napján | Y7: óra | AC7: perctől
B9: Tárgy: | F9: ='VIZSGÁLATI DOKUMENTÁCIÓ'!$K$65 -> 0 | AC9: (név)
F11: ='VIZSGÁLATI DOKUMENTÁCIÓ'!$K$69 -> 0 | AC11: (anyja neve)
B13: Születési ideje, | H13: ='VIZSGÁLATI DOKUMENTÁCIÓ'!$K$71 -> 0 | L13: . | M13: ='VIZSGÁLATI DOKUMENTÁCIÓ'!$P$71 -> 0 | O13: . | P13: ='VIZSGÁLATI DOKUMENTÁCIÓ'!$S$71 -> 0 | R13: . | S13: helye | U13: ='VIZSGÁLATI DOKUMENTÁCIÓ'!$Z$71 -> 0
B15: munkavállaló | H15: ='VIZSGÁLATI DOKUMENTÁCIÓ'!$K$94 -> 0 | L15: . | M15: ='VIZSGÁLATI DOKUMENTÁCIÓ'!$O$94 -> 0 | O15: . | P15: ='VIZSGÁLATI DOKUMENTÁCIÓ'!$R$94 -> 0 | R15: . | S15: napján | W15: ='VIZSGÁLATI DOKUMENTÁCIÓ'!$K$96 -> 0 | Y15: óra | AA15: ='VIZSGÁLATI DOKUMENTÁCIÓ'!$P$96 -> 0 | AC15: perckor bekövetkezett
B16: munkabalesetéről.
B18: Munkáltató
B20: Megnevezése: | J20: ='VIZSGÁLATI DOKUMENTÁCIÓ'!$K$40 -> 0
B22: Adószáma: | J22: ='VIZSGÁLATI DOKUMENTÁCIÓ'!$K$44 -> 0 | O22: - | P22: ='VIZSGÁLATI DOKUMENTÁCIÓ'!$P$44 -> 0 | Q22: - | R22: ='VIZSGÁLATI DOKUMENTÁCIÓ'!$R$44 -> 0
B24: (Adóazonosító jele:) | J24: ='VIZSGÁLATI DOKUMENTÁCIÓ'!$AD$44 -> 0
B26: Székhelye / Lakcíme: | J26: ='VIZSGÁLATI DOKUMENTÁCIÓ'!$K$42 -> 0 | N26: ='VIZSGÁLATI DOKUMENTÁCIÓ'!$P$42 -> 0
B28: Tel., e-mail, egyéb elérhetőség
B30: Jelen vannak
B32: Munkáltató részéről | AC32: (neve, beosztása)
B34: Meghallgatott személy | AC34: (neve, beosztása)
B36: Meghallgatást végző | AC36: (neve, beosztása)
B38: További résztvevő | AC38: (neve, beosztása)
B40: A meghallgatott személynek feltett kérdések és válaszok
A52: Aláírások
A55: Munkáltató részéről | J55: Meghallgatott személy | S55: Meghallgatást végző | AB55: =$B$38 -> További résztvevő
A86: Mást elmondani nem kívánok, észrevételt nem teszek.
A88: A jegyzőkönyv/feljegyzés lezárva: | N88: óra | R88: perckor.
A90: A jegyzőkönyvben foglaltak a valóságnak megfelelnek, azt elolvasás és értelmezés után, mint a valósággal egyezőt
A91: helybenhagyóan aláírjuk. A jegyzőkönyv eredeti példánya a munkabaleset kivizsgálási dokumentáció része.
A92: A jegyzőkönyv egy példányának átvételét a meghallgatott személy aláírásával elismeri.
A94: Aláírások
A97: Munkáltató részéről | J97: Meghallgatott személy | S97: Meghallgatást végző | AB97: =$B$38 -> További résztvevő
R98: Jegyzőkönyv munkabaleset vizsgálatáról - Pótlap
A133: Aláírások
A136: Munkáltató részéről | J136: Meghallgatott személy | S136: Meghallgatást végző | AB136: =$B$38 -> További résztvevő

Sheet 3. MBJKV
A1: 5 évig irattárban megőrzendő! | AF1: év | AJ1: sorszám
AC2: Nyilvántartási szám: | AE2: 20 | AF2: ='VIZSGÁLATI DOKUMENTÁCIÓ'!$P$35 -> 0 | AJ2: ='VIZSGÁLATI DOKUMENTÁCIÓ'!$T$35 -> 0
U4: MUNKABALESETI JEGYZŐKÖNYV
U5: (Az 5/1993. (XII. 26.) MüM rendelet 4/a. melléklete alapján)
U6: Számítógéppel, írógéppel vagy nyomtatott betűvel töltendő ki!
AJ7: Területi kód:
AK9: Adatszolgáltatás jellege:*
B10: (A) A munkáltató adatai:
B12: 1. | C12: Neve: | F12: ='VIZSGÁLATI DOKUMENTÁCIÓ'!$K$40 -> 0
B13: 2. | C13: Címe: | F13: ='VIZSGÁLATI DOKUMENTÁCIÓ'!$K$42 -> 0 | K13: ='VIZSGÁLATI DOKUMENTÁCIÓ'!$P$42 -> 0
B14: 3. | C14: Telefonszám: | H14: ='VIZSGÁLATI DOKUMENTÁCIÓ'!$K$46 -> 36 | J14: / | K14: ='VIZSGÁLATI DOKUMENTÁCIÓ'!$W$46 -> () | U14: Fax: | V14: ='VIZSGÁLATI DOKUMENTÁCIÓ'!$W$48 -> () | AH14: Mobil: | AI14: ='VIZSGÁLATI DOKUMENTÁCIÓ'!$W$47 -> ()
B15: 4. | C15: E-mail címe: | H15: ='VIZSGÁLATI DOKUMENTÁCIÓ'!$K$50 -> 0
B16: 5. | C16: Adószáma: | H16: ='VIZSGÁLATI DOKUMENTÁCIÓ'!$K$44 -> 0 | P16: - | Q16: ='VIZSGÁLATI DOKUMENTÁCIÓ'!$P$44 -> 0 | R16: - | S16: ='VIZSGÁLATI DOKUMENTÁCIÓ'!$R$44 -> 0 | AD16: Adóazonosító jele: | AE16: ='VIZSGÁLATI DOKUMENTÁCIÓ'!$AD$44 -> 0
B17: 6. | C17: Gazdálkodási forma: | K17: ='VIZSGÁLATI DOKUMENTÁCIÓ'!$N$52 -> 0
B18: 7. | C18: Fő tevékenysége (TEÁOR ’08): | N18: ='VIZSGÁLATI DOKUMENTÁCIÓ'!$N$54 -> 0 | AI18: 8. Helyi egység fő tevékenysége (TEÁOR ’08): | AJ18: ='VIZSGÁLATI DOKUMENTÁCIÓ'!$N$56 -> 0
B19: 9. | C19: Összlétszám kategória: | M19: ='VIZSGÁLATI DOKUMENTÁCIÓ'!$N$58 -> 0 | AI19: 10. Helyi egység létszám kategória: | AJ19: ='VIZSGÁLATI DOKUMENTÁCIÓ'!$AE$58 -> 0
B22: (B) A sérült (munkavállaló) adatai:
B24: 1. | C24: Neve: | F24: ='VIZSGÁLATI DOKUMENTÁCIÓ'!$K$65 -> 0 | Y24: 2. | AC24: TAJ száma: | AD24: ='VIZSGÁLATI DOKUMENTÁCIÓ'!$K$73 -> 0 | AG24: - | AH24: ='VIZSGÁLATI DOKUMENTÁCIÓ'!$O$73 -> 0 | AK24: - | AL24: ='VIZSGÁLATI DOKUMENTÁCIÓ'!$S$73 -> 0
B25: 3. | C25: Születési neve: | I25: ='VIZSGÁLATI DOKUMENTÁCIÓ'!$K$67 -> 0 | Y25: 4. | AC25: Anyja neve: | AD25: ='VIZSGÁLATI DOKUMENTÁCIÓ'!$K$69 -> 0
B26: 5. | C26: Születési helye: | I26: ='VIZSGÁLATI DOKUMENTÁCIÓ'!$Z$71 -> 0 | T26: 6. | U26: Születési ideje: | AA26: ='VIZSGÁLATI DOKUMENTÁCIÓ'!$K$71 -> 0 | AE26: év | AG26: ='VIZSGÁLATI DOKUMENTÁCIÓ'!$P$71 -> 0 | AI26: hó | AK26: ='VIZSGÁLATI DOKUMENTÁCIÓ'!$S$71 -> 0 | AM26: nap
B27: 7. | C27: Neme: | F27: ='VIZSGÁLATI DOKUMENTÁCIÓ'!$Z$73 -> 0 | K27: 8. | L27: Állampolgársága: | S27: ='VIZSGÁLATI DOKUMENTÁCIÓ'!$K$75 -> 0
B28: 9. | C28: Lakcíme: | G28: ='VIZSGÁLATI DOKUMENTÁCIÓ'!$G$77 -> 0 | L28: ='VIZSGÁLATI DOKUMENTÁCIÓ'!$K$77 -> 0 | U28: Település | Y28: ='VIZSGÁLATI DOKUMENTÁCIÓ'!$V$77 -> 0 | AI28: út/utca | AL28: ='VIZSGÁLATI DOKUMENTÁCIÓ'!$AG$77 -> 0 | AN28: hsz.
C29: ='VIZSGÁLATI DOKUMENTÁCIÓ'!$K$79 -> 0 | E29: ép. | G29: ='VIZSGÁLATI DOKUMENTÁCIÓ'!$O$79 -> 0 | I29: lh. | K29: ='VIZSGÁLATI DOKUMENTÁCIÓ'!$S$79 -> 0 | M29: em. | O29: ='VIZSGÁLATI DOKUMENTÁCIÓ'!$W$79 -> 0 | Q29: ajtó | AA29: 10. | AB29: Telefonszáma: | AG29: ='VIZSGÁLATI DOKUMENTÁCIÓ'!$V$81 -> +36 ()
B30: 11. | C30: Foglalkozása (FEOR): | K30: ='VIZSGÁLATI DOKUMENTÁCIÓ'!$K$85 -> 0 | T30: ='VIZSGÁLATI DOKUMENTÁCIÓ'!$T$85 -> 0 | AA30: 12. | AB30: Foglalkoztatási jogviszonya: | AL30: ='VIZSGÁLATI DOKUMENTÁCIÓ'!$L$87 -> 0
B31: 13. | C31: Foglalkoztatás jellege: | L31: ='VIZSGÁLATI DOKUMENTÁCIÓ'!$L$89 -> 0
B34: (C) A munkabaleset adatai:
B36: 1. | C36: Dátuma: | G36: ='VIZSGÁLATI DOKUMENTÁCIÓ'!$K$94 -> 0 | J36: év | L36: ='VIZSGÁLATI DOKUMENTÁCIÓ'!$O$94 -> 0 | N36: hó | P36: ='VIZSGÁLATI DOKUMENTÁCIÓ'!$R$94 -> 0 | R36: nap | AI36: 2. Időpontja (óra: 24 órás időszámítás): | AK36: ='VIZSGÁLATI DOKUMENTÁCIÓ'!$K$96 -> 0
B37: 3. | C37: Sérülés a munkavégzés hányadik órájában: | S37: ='VIZSGÁLATI DOKUMENTÁCIÓ'!$V$98 -> 0
B38: 4. | C38: A sérülés típusa: | I38: ='VIZSGÁLATI DOKUMENTÁCIÓ'!$K$100 -> 0 | T38: ='VIZSGÁLATI DOKUMENTÁCIÓ'!$AG$100 -> 0 | AC38: 5. A sérült testrész: | AD38: ='VIZSGÁLATI DOKUMENTÁCIÓ'!$K$101 -> 0 | AM38: ='VIZSGÁLATI DOKUMENTÁCIÓ'!$AH$101 -> 0
B39: 6. | C39: A munkavégzés helye: | K39: ='VIZSGÁLATI DOKUMENTÁCIÓ'!$AI$102 -> 0 | V39: 7. A baleset földrajzi helye: | W39: ='VIZSGÁLATI DOKUMENTÁCIÓ'!$K$103 -> 0 | AI39: ='VIZSGÁLATI DOKUMENTÁCIÓ'!$AF$103 -> 0
B40: 8. | C40: A sérülés súlyossága | K40: ='VIZSGÁLATI DOKUMENTÁCIÓ'!$AI$104 -> 0 | AK40: 9. A munkaképtelenség időtartama:
B43: (D) A munkabaleset részletes leírása: | AO43: (A baleset leírása külön lapon folytatható!)
A44: ='VIZSGÁLATI DOKUMENTÁCIÓ'!$C$112 -> 0
B57: * (1) új / (2) tartalom módosító / (3) törlés a nyilvántartásból / (4) munkaképtelennapok számát közlő
B58: (E) A munkabalesettel kapcsolatos egyéb információk:
B60: 1. | D60: Munkahelyi környezet: | K60: ='VIZSGÁLATI DOKUMENTÁCIÓ'!$S$128 -> 0
B61: 2. | D61: Munkafolyamat: | K61: ='VIZSGÁLATI DOKUMENTÁCIÓ'!$S$129 -> 0
B62: 3. | D62: Sérült konkrét fizikai tevékenysége: | O62: ='VIZSGÁLATI DOKUMENTÁCIÓ'!$S$130 -> 0
B63: 3.1. | D63: A konkrét fizikai tevékenység anyagi (tárgyi) tényezője: | R63: ='VIZSGÁLATI DOKUMENTÁCIÓ'!$S$131 -> 0
B64: 4. | D64: Balesetet kiváltó különleges esemény: | O64: ='VIZSGÁLATI DOKUMENTÁCIÓ'!$S$132 -> 0
...

Sheet 4. Felhívás
Y1: év | AC1: sorszám
V2: Nyilvántartási szám: | X2: 20 | Y2: ='VIZSGÁLATI DOKUMENTÁCIÓ'!$P$35 -> 0 | AC2: ='VIZSGÁLATI DOKUMENTÁCIÓ'!$T$35 -> 0
R4: Felhívás a munkaviszonnyal összefüggésben bekövetkezett kár bejelentésére
B7: Név: | I7: ='VIZSGÁLATI DOKUMENTÁCIÓ'!$K$65 -> 0
B8: (Sérült vagy hozzátartozója)
B10: Munkaköre/beosztása: | K10: ='VIZSGÁLATI DOKUMENTÁCIÓ'!$K$83 -> 0
B12: Lakcíme: | G12: ='1.b Munkabaleseti nyilvántartás'!$G$24 -> 0 | I12: ='1.b Munkabaleseti nyilvántartás'!$I$24 -> 0 | Q12: Település | T12: ='1.b Munkabaleseti nyilvántartás'!$T$24 -> 0 | AC12: közter. | AE12: ='1.b Munkabaleseti nyilvántartás'!$AE$24 -> 0 | AG12: hsz.
B14: A Munka Törvénykönyvéről szóló 2012. évi I. törvény 166-168. §-ai alapján
R16: felhívom,
B18: hogy amennyiben a | I18: ='VIZSGÁLATI DOKUMENTÁCIÓ'!$K$94 -> 0 | L18: . | M18: ='VIZSGÁLATI DOKUMENTÁCIÓ'!$O$94 -> 0 | O18: . | P18: ='VIZSGÁLATI DOKUMENTÁCIÓ'!$R$94 -> 0 | R18: . | S18: napján történt munkabalesetével összefüggésben
B19: kárt szenvedett, az ezzel kapcsolatos igényét szíveskedjék mielőbb a
AC21: nek bejelenteni.
B25: Tájékoztatom, hogy kártérítési igénye kérdésében a bejelentés kézhezvételétől számított
O26: napon belül döntök,
B28: és döntésemről Önnek írásbeli, indoklással kiegészített választ adok.
B29: Felhívom a figyelmét, hogy a bejelentéssel ne késlekedjék, mivel a kárigény az esedékességtől számított három év elteltével (vagy külön jogszabályban meghatározott későbbi időpontban) elévül. Ha a kárigény bejelentésében akadályoztatva van, erről értesítsen. A kárigény kiterjed az elmaradt jövedelemre, a dologi kárra, a felmerült és indokolt költségekre, valamint a sérelemdíjra. Kérem, hogy bejelentését eszerint részletezve és összesítve, indokolva tegye meg, továbbá lehetőség szerint, saját névre kiállított számlákkal igazolja költségeit."
B43: Kelt: | AA43: P.H.
AA47: aláírás
AA48: (munkáltatói jogkör gyakorló)

Sheet Listák
C1: Területi kód | G1: Adatszolgáltatás jellege | K1: [A9, A10] Létszám kategória | O1: Nem | R1: Állampolgárság | V1: A munkavégzés helye | Y1: [C4] A sérülés típusa (Kód szerint rendezve) | AC1: [C4] A sérülés típusa (Név szerint rendezve) | AG1: [C5] A sérült testrész (Kód szerint rendezve) | AK1: [C5] A sérült testrész (Név szerint rendezve) | AO1: [C6] A munkavégzési hely | AS1: [C8] A sérülés súlyossága | AW1: [E1] Munkahelyi környezet | BA1: [E2] - Munkafolyamat | BE1: [E3] - A sérült konkrét fizikai tevékenysége | BI1: [E 3.1 - 4.1 - 5.1] Anyagi tényezők | BM1: [E4] Balesetet kivalto különleges esemény (Megnevezés szerint rendezve) | BQ1: [E5] Sérülés módja (Megnevezés szerint rendezve) | BU1: [E6] Személyi tényező (Kód szerint rendezve) | BY1: [E7] A biztonsági és jelző berendezések, egyéni védőeszközök, egyéb védelmi megoldások alkalmasság | CC1: [I1] Munkavédelmi képviselő | CF1: [I3] Résztvevő foglalkozás-egészségügyi orvos | CJ1: [B12] Foglalkoztatási jogviszonya | CN1: [B13] Foglalkoztatás jellege
A2: I/N | C2: Kód | D2: Terület | E2: Kód + Terület | G2: Kód | H2: Megnevezés | I2: Kód + Megnevezés | K2: Kategória | L2: Megjelölés | M2: Kód + Megnevezés | O2: Kategória | P2: Megjelölés | R2: Kategória | S2: Megnevezés | T2: Kód + Megnevezés | V2: Kategória | W2: Megjelölés | Y2: Kód | Z2: Megjelölés | AA2: Megnevezés + Kód | AC2: Kód | AD2: Megjelölés | AE2: Megnevezés + Kód | AG2: Kód | AH2: Megjelölés | AI2: Megnevezés + Kód | AK2: Kód | AL2: Megjelölés | AM2: Megnevezés + Kód | AO2: Kód | AP2: Megjelölés | AQ2: Megnevezés + Kód | AS2: Kód | AT2: Megjelölés | AU2: Megnevezés + Kód | AW2: Kód | AX2: Megnevezés | AY2: Megnevezés + Kód | BA2: Kód | BB2: Megnevezés | BC2: Megnevezés + Kód | BE2: Kód | BF2: Megnevezés | BG2: Megnevezés + Kód | BI2: Kód | BJ2: Megnevezés | BK2: Megnevezés + Kód | BM2: Kód | BN2: Megnevezés | BO2: Megnevezés + Kód | BQ2: Kód | BR2: Megnevezés | BS2: Megnevezés + Kód | BU2: Kód | BV2: Megjelölés | BW2: Megnevezés + Kód | BY2: Kód | BZ2: Megjelölés | CA2: Kód + Megnevezés | CC2: Kód | CD2: Megnevezés | CF2: Kód | CG2: Megnevezés | CH2: Kód + Megnevezés | CJ2: Kód | CK2: Megnevezés | CL2: Kód + Megnevezés | CN2: Kód | CO2: Megnevezés | CP2: Kód + Megnevezés
A3: I | C3: 01 | D3: Budapest | E3: =CONCATENATE(C3," - ",D3) -> 01 - Budapest | G3: 1 | H3: Új | I3: =CONCATENATE(G3," - ",H3) -> 1 - Új | K3: 0 | L3: Nincs munkavállaló | M3: =CONCATENATE(K3," - ",L3) -> 0 - Nincs munkavállaló | O3: 1 | P3: Férfi | R3: 0 | S3: Ismeretlen állampolgárságú | T3: =CONCATENATE(R3," - ",S3) -> 0 - Ismeretlen állampolgárságú | V3: 1 | W3: Szokásos munkavégzési hely | Y3: 000 | Z3: Meg nem határozott, illetve ismeretlen sérülés típus | AA3: =CONCATENATE(Z3," - ",Y3) -> Meg nem határozott, illetve ismeretlen sérülés típus - 000 | AC3: 109 | AD3: A szélsőséges hőmérséklet, fény, illetve sugárzás egyéb hatásai | AE3: =CONCATENATE(AD3," - ",AC3) -> A szélsőséges hőmérséklet, fény, illetve sugárzás egyéb hatásai - 109 | AG3: 00 | AH3: A sérült testrész nem határozható meg | AI3: =CONCATENATE(AH3," - ",AG3) -> A sérült testrész nem határozható meg - 00 | AK3: 00 | AL3: A sérült testrész nem határozható meg | AM3: =CONCATENATE(AL3," - ",AK3) -> A sérült testrész nem határozható meg - 00 | AO3: 1 | AP3: Szokásos munkavégzési hely | AQ3: =CONCATENATE(AP3," - ",AO3) -> Szokásos munkavégzési hely - 1 | AS3: 0 | AT3: Nem súlyos munkabaleset, a munkaképtelenség időtartama 1-3 munkanap | AU3: =CONCATENATE(AT3," - ",AS3) -> Nem súlyos munkabaleset, a munkaképtelenség időtartama 1-3 munkanap - 0 | AW3: 00000 | AX3: Nincs információ | AY3: =CONCATENATE(AW3," - ",AX3) -> 00000 - Nincs információ | BA3: 00 | BB3: Nincs információ | BC3: =CONCATENATE(BA3," - ",BB3) -> 00 - Nincs információ | BE3: 00 | BF3: Nincs információ | BG3: =CONCATENATE(BE3," - ",BF3) -> 00 - Nincs információ | BI3: 0001000 | BJ3: Nincs anyagi tényező | BK3: =CONCATENATE(BI3," - ",BJ3) -> 0001000 - Nincs anyagi tényező | BM3: 00 | BN3: Nincs információ | BO3: =CONCATENATE(BN3," - ",BM3) -> Nincs információ - 00 | BQ3: 00 | BR3: Nincs információ | BS3: =CONCATENATE(BR3," - ",BQ3) -> Nincs információ - 00 | BU3: 00 | BV3: A személyi tényezőknek nem volt szerepe a balesetben | BW3: =CONCATENATE(BV3," - ",BU3) -> A személyi tényezőknek nem volt szerepe a balesetben - 00 | BY3: 1 | BZ3: Alkalmas, rendeltetésszerűen használták | CA3: =CONCATENATE(BY3," - ",BZ3) -> 1 - Alkalmas, rendeltetésszerűen használták | CC3: 1 | CD3: Egyetért | CF3: 1 | CG3: Részt vett | CH3: =CONCATENATE(CF3," - ",CG3) -> 1 - Részt vett | CJ3: 000 | CK3: Foglalkoztatási jogviszony ismeretlen | CL3: =CONCATENATE(CJ3," - ",CK3) -> 000 - Foglalkoztatási jogviszony ismeretlen | CN3: 01 | CO3: Munkaviszony (kivéve: a természetes személy munkáltató háztartásában egyszerűsített foglalkoztatás keretében történő munkavégzés) | CP3: =CONCATENATE(CN3," - ",CO3) -> 01 - Munkaviszony (kivéve: a természetes személy munkáltató háztartásában egyszerűsített foglalkoztatás keretében történő munkavégzés)
A4: N | C4: 02 | D4: Baranya | E4: =CONCATENATE(C4," - ",D4) -> 02 - Baranya | G4: 2 | H4: Tartalom módosító | I4: =CONCATENATE(G4," - ",H4) -> 2 - Tartalom módosító | K4: 1 | L4: 1-9 fő munkavállaló | M4: =CONCATENATE(K4," - ",L4) -> 1 - 1-9 fő munkavállaló | O4: 2 | P4: Nő | R4: 1 | S4: Magyar állampolgár | T4: =CONCATENATE(R4," - ",S4) -> 1 - Magyar állampolgár | V4: 2 | W4: Változó munkavégzési hely | Y4: 011 | Z4: Felületi sérülés | AA4: =CONCATENATE(Z4," - ",Y4) -> Felületi sérülés - 011 | AC4: 111 | AD4: Agresszió és fenyegetés hatására fellépő sokk | AE4: =CONCATENATE(AD4," - ",AC4) -> Agresszió és fenyegetés hatására fellépő sokk - 111 | AG4: 11 | AH4: Fej, agy és agyidegek, agyi erek, véredények | AI4: =CONCATENATE(AH4," - ",AG4) -> Fej, agy és agyidegek, agyi erek, véredények - 11 | AK4: 59 | AL4: A felső végtagok fent nem említett egyéb részei | AM4: =CONCATENATE(AL4," - ",AK4) -> A felső végtagok fent nem említett egyéb részei - 59 | AO4: 2 | AP4: Változó munkavégzési hely | AQ4: =CONCATENATE(AP4," - ",AO4) -> Változó munkavégzési hely - 2 | AS4: 1 | AT4: Nem súlyos munkabaleset, a munkaképtelenség időtartama meghaladja a 3 munkanapot | AU4: =CONCATENATE(AT4," - ",AS4) -> Nem súlyos munkabaleset, a munkaképtelenség időtartama meghaladja a 3 munkanapot - 1 | AW4: 09300 | AX4: A levegőben, légi jármű fedélzetén lévő terület | AY4: =CONCATENATE(AW4," - ",AX4) -> 09300 - A levegőben, légi jármű fedélzetén lévő terület | BA4: 01 | BB4: A lakosság számára nyújtott szolgáltatás, ellátás, segítség | BC4: =CONCATENATE(BA4," - ",BB4) -> 01 - A lakosság számára nyújtott szolgáltatás, ellátás, segítség | BE4: 47 | BF4: (Fiók) kihúzása, (raktár-, iroda-, szekrényajtó) tolása | BG4: =CONCATENATE(BE4," - ",BF4) -> 47 - (Fiók) kihúzása, (raktár-, iroda-, szekrényajtó) tolása | BI4: 0002000 | BJ4: Nincs információ | BK4: =CONCATENATE(BI4," - ",BJ4) -> 0002000 - Nincs információ | BM4: 43 | BN4: A (motoros vagy nem motoros) kéziszerszám vagy a kéziszerszámmal megmunkált tárgy feletti irányítás (részleges vagy teljes) elvesztése | BO4: =CONCATENATE(BN4," - ",BM4) -> A (motoros vagy nem motoros) kéziszerszám vagy a kéziszerszámmal megmunkált tárgy feletti irányítás (részleges vagy teljes) elvesztése - 43 | BQ4: 45 | BR4: A mozgásban lévő sérült ütközése tárggyal - ideértve a járművet is -, illetve személlyel | BS4: =CONCATENATE(BR4," - ",BQ4) -> A mozgásban lévő sérült ütközése tárggyal - ideértve a járművet is -, illetve személlyel - 45 | BU4: 01 | BV4: Képzetlenség, szakképzetlenség | BW4: =CONCATENATE(BV4," - ",BU4) -> Képzetlenség, szakképzetlenség - 01 | BY4: 2 | BZ4: Alkalmas, nem rendeltetésszerűen használták | CA4: =CONCATENATE(BY4," - ",BZ4) -> 2 - Alkalmas, nem rendeltetésszerűen használták | CC4: 2 | CD4: Nem ért egyet | CF4: 2 | CG4: Nem vett részt | CH4: =CONCATENATE(CF4," - ",CG4) -> 2 - Nem vett részt | CJ4: 100 | CK4: Önfoglalkoztató | CL4: =CONCATENATE(CJ4," - ",CK4) -> 100 - Önfoglalkoztató | CN4: 02 | CO4: Közfoglalkoztatási jogviszony | CP4: =CONCATENATE(CN4," - ",CO4) -> 02 - Közfoglalkoztatási jogviszony
A5: - | C5: 03 | D5: Bács-Kiskun | E5: =CONCATENATE(C5," - ",D5) -> 03 - Bács-Kiskun | G5: 3 | H5: Törlés a nyilvántartásból | I5: =CONCATENATE(G5," - ",H5) -> 3 - Törlés a nyilvántartásból | K5: 2 | L5: 10-49 fő munkavállaló | M5: =CONCATENATE(K5," - ",L5) -> 2 - 10-49 fő munkavállaló | O5: 0 | R5: 2 | S5: Más EU-tagállam állampolgára | T5: =CONCATENATE(R5," - ",S5) -> 2 - Más EU-tagállam állampolgára | V5: 9 | W5: Egyéb munkavégzési hely | Y5: 012 | Z5: Nyílt sebek | AA5: =CONCATENATE(Z5," - ",Y5) -> Nyílt sebek - 012 | AC5: 051 | AD5: Agyrázkódás és koponyán belüli sérülések | AE5: =CONCATENATE(AD5," - ",AC5) -> Agyrázkódás és koponyán belüli sérülések - 051 | AG5: 12 | AH5: Arc | AI5: =CONCATENATE(AH5," - ",AG5) -> Arc - 12 | AK5: 39 | AL5: A hát fent nem említett egyéb részei | AM5: =CONCATENATE(AL5," - ",AK5) -> A hát fent nem említett egyéb részei - 39 | AO5: 9 | AP5: Egyéb munkavégzési hely | AQ5: =CONCATENATE(AP5," - ",AO5) -> Egyéb munkavégzési hely - 9 | AS5: 2 | AT5: Nem súlyos csonkulással járó munkabaleset | AU5: =CONCATENATE(AT5," - ",AS5) -> Nem súlyos csonkulással járó munkabaleset - 2 | AW5: 09200 | AX5: A magasban lévő terület - árboc, pilon, függesztett állvány | AY5: =CONCATENATE(AW5," - ",AX5) -> 09200 - A magasban lévő terület - árboc, pilon, függesztett állvány | BA5: 02 | BB5: A raktározás valamennyi típusa | BC5: =CONCATENATE(BA5," - ",BB5) -> 02 - A raktározás valamennyi típusa | BE5: 11 | BF5: A gép elindítása, leállítása | BG5: =CONCATENATE(BE5," - ",BF5) -> 11 - A gép elindítása, leállítása | BI5: 502190 | BJ5: Akkumulátor telep | BK5: =CONCATENATE(BI5," - ",BJ5) -> 502190 - Akkumulátor telep | BM5: 42 | BN5: A (motoros vagy nem motoros) közlekedési eszköz vagy anyagmozgató gép feletti irányítás (részleges vagy teljes) elvesztése | BO5: =CONCATENATE(BN5," - ",BM5) -> A (motoros vagy nem motoros) közlekedési eszköz vagy anyagmozgató gép feletti irányítás (részleges vagy teljes) elvesztése - 42 | BQ5: 71 | BR5: A vázizomrendszer fizikai igénybevétele | BS5: =CONCATENATE(BR5," - ",BQ5) -> A vázizomrendszer fizikai igénybevétele - 71 | BU5: 02 | BV5: Gyakorlatlanság | BW5: =CONCATENATE(BV5," - ",BU5) -> Gyakorlatlanság - 02 | BY5: 3 | BZ5: Alkalmas, nem használták | CA5: =CONCATENATE(BY5," - ",BZ5) -> 3 - Alkalmas, nem használták | CC5: 3 | CD5: Nem vett részt | CF5: 3 | CG5: Nincs orvos | CH5: =CONCATENATE(CF5," - ",CG5) -> 3 - Nincs orvos | CJ5: 311 | CK5: Határozatlan idejű (állandó) munkaviszony, teljes munkaidőben | CL5: =CONCATENATE(CJ5," - ",CK5) -> 311 - Határozatlan idejű (állandó) munkaviszony, teljes munkaidőben | CN5: 03 | CO5: Kormányzati szolgálati jogviszony | CP5: =CONCATENATE(CN5," - ",CO5) -> 03 - Kormányzati szolgálati jogviszony
C6: 04 | D6: Békés | E6: =CONCATENATE(C6," - ",D6) -> 04 - Békés | G6: 4 | H6: Munkaképtelen napok számát közlő | I6: =CONCATENATE(G6," - ",H6) -> 4 - Munkaképtelen napok számát közlő | K6: 3 | L6: 50-249 fő munkavállaló | M6: =CONCATENATE(K6," - ",L6) -> 3 - 50-249 fő munkavállaló | R6: 3 | S6: EU-tagállamon kívüli ország állampolgára | T6: =CONCATENATE(R6," - ",S6) -> 3 - EU-tagállamon kívüli ország állampolgára | Y6: 019 | Z6: Egyéb típusú sebek és felületi sérülések | AA6: =CONCATENATE(Z6," - ",Y6) -> Egyéb típusú sebek és felületi sérülések - 019 | AC6: 103 | AD6: Alacsony hőmérséklet hatásai | AE6: =CONCATENATE(AD6," - ",AC6) -> Alacsony hőmérséklet hatásai - 103 | AG6: 13 | AH6: Szem(ek) | AI6: =CONCATENATE(AH6," - ",AG6) -> Szem(ek) - 13 | AK6: 29 | AL6: A nyak fent nem említett egyéb részei, (pl. nyakszírt, a nyak izmai) | AM6: =CONCATENATE(AL6," - ",AK6) -> A nyak fent nem említett egyéb részei, (pl. nyakszírt, a nyak izmai) - 29 | AS6: 3 | AT6: Súlyos csonkulásos munkabaleset | AU6: =CONCATENATE(AT6," - ",AS6) -> Súlyos csonkulásos munkabaleset - 3 | AW6: 09100 | AX6: A magasban, rögzített szinten lévő terület (tető, terasz stb.) | AY6: =CONCATENATE(AW6," - ",AX6) -> 09100 - A magasban, rögzített szinten lévő terület (tető, terasz stb.) | BA6: 03 | BB6: A termelés, gyártás, feldolgozás valamennyi típusa | BC6: =CONCATENATE(BA6," - ",BB6) -> 03 - A termelés, gyártás, feldolgozás valamennyi típusa | BE6: 13 | BF6: A gép ellenőrzése, valamint működtetése vagy vezetése | BG6: =CONCATENATE(BE6," - ",BF6) -> 13 - A gép ellenőrzése, valamint működtetése vagy vezetése | BI6: 301020 | BJ6: Akna, csatorna | BK6: =CONCATENATE(BI6," - ",BJ6) -> 301020 - Akna, csatorna | BM6: 44 | BN6: A (mozgatott, szállított, kezelt stb.) tárgy feletti irányítás (részleges vagy teljes) elvesztése | BO6: =CONCATENATE(BN6," - ",BM6) -> A (mozgatott, szállított, kezelt stb.) tárgy feletti irányítás (részleges vagy teljes) elvesztése - 44 | BQ6: 62 | BR6: Beszorulás, összezúzódás tárgy alá/alatt | BS6: =CONCATENATE(BR6," - ",BQ6) -> Beszorulás, összezúzódás tárgy alá/alatt - 62 | BU6: 03 | BV6: Egészségi okok (eü. alkalmatlanság, egyéb abnormális élettani hatás) | BW6: =CONCATENATE(BV6," - ",BU6) -> Egészségi okok (eü. alkalmatlanság, egyéb abnormális élettani hatás) - 03 | BY6: 4 | BZ6: Alkalmatlan, rendeltetésszerűen használták | CA6: =CONCATENATE(BY6," - ",BZ6) -> 4 - Alkalmatlan, rendeltetésszerűen használták | CC6: 4 | CD6: Nincs képviselő | CJ6: 312 | CK6: Határozatlan idejű (állandó) munkaviszony, részmunkaidőben | CL6: =CONCATENATE(CJ6," - ",CK6) -> 312 - Határozatlan idejű (állandó) munkaviszony, részmunkaidőben | CN6: 04 | CO6: Állami szolgálati jogviszony | CP6: =CONCATENATE(CN6," - ",CO6) -> 04 - Állami szolgálati jogviszony
C7: 05 | D7: Borsod-Abaúj-Zemplén | E7: =CONCATENATE(C7," - ",D7) -> 05 - Borsod-Abaúj-Zemplén | K7: 4 | L7: 250-499 fő munkavállaló | M7: =CONCATENATE(K7," - ",L7) -> 4 - 250-499 fő munkavállaló | Y7: 021 | Z7: Zárt törések | AA7: =CONCATENATE(Z7," - ",Y7) -> Zárt törések - 021 | AC7: 052 | AD7: Belső sérülések | AE7: =CONCATENATE(AD7," - ",AC7) -> Belső sérülések - 052 | AG7: 14 | AH7: Fül(ek) | AI7: =CONCATENATE(AH7," - ",AG7) -> Fül(ek) - 14 | AK7: 78 | AL7: A test több része sérült | AM7: =CONCATENATE(AL7," - ",AK7) -> A test több része sérült - 78 | AS7: 4 | AT7: Halálos munkabaleset (sérült, magzata, újszülöttje) | AU7: =CONCATENATE(AT7," - ",AS7) -> Halálos munkabaleset (sérült, magzata, újszülöttje) - 4 | AW7: 01086 | AX7: Akkumulátor-telep és töltőberendezések munkahelyei | AY7: =CONCATENATE(AW7," - ",AX7) -> 01086 - Akkumulátor-telep és töltőberendezések munkahelyei | BA7: 04 | BB7: Ásatás, földmunka | BC7: =CONCATENATE(BA7," - ",BB7) -> 04 - Ásatás, földmunka | BE7: 12 | BF7: A gép feltöltése, kiürítése | BG7: =CONCATENATE(BE7," - ",BF7) -> 12 - A gép feltöltése, kiürítése | BI7: 901210 | BJ7: Alagútfúró | BK7: =CONCATENATE(BI7," - ",BJ7) -> 901210 - Alagútfúró | BM7: 82 | BN7: A munkáltató felügyelete alá tartozó munkavállalók közötti erőszak, agresszió, fenyegetés | BO7: =CONCATENATE(BN7," - ",BM7) -> A munkáltató felügyelete alá tartozó munkavállalók közötti erőszak, agresszió, fenyegetés - 82 | BQ7: 63 | BR7: Beszorulás, összezúzódás tárgyak közé/között | BS7: =CONCATENATE(BR7," - ",BQ7) -> Beszorulás, összezúzódás tárgyak közé/között - 63 | BU7: 04 | BV7: Alkoholos befolyásoltság | BW7: =CONCATENATE(BV7," - ",BU7) -> Alkoholos befolyásoltság - 04 | BY7: 5 | BZ7: Alkalmatlan, nem rendeltetésszerűen használták | CA7: =CONCATENATE(BY7," - ",BZ7) -> 5 - Alkalmatlan, nem rendeltetésszerűen használták | CJ7: 321 | CK7: Határozott idejű (ideiglenes) munkaviszony, teljes munkaidőben | CL7: =CONCATENATE(CJ7," - ",CK7) -> 321 - Határozott idejű (ideiglenes) munkaviszony, teljes munkaidőben | CN7: 05 | CO7: Közszolgálati jogviszony | CP7: =CONCATENATE(CN7," - ",CO7) -> 05 - Közszolgálati jogviszony
C8: 06 | D8: Csongrád-Csanád | E8: =CONCATENATE(C8," - ",D8) -> 06 - Csongrád-Csanád | K8: 5 | L8: 500 vagy több munkavállaló | M8: =CONCATENATE(K8," - ",L8) -> 5 - 500 vagy több munkavállaló | Y8: 022 | Z8: Nyílt törések | AA8: =CONCATENATE(Z8," - ",Y8) -> Nyílt törések - 022 | AC8: 061 | AD8: Égési sérülések, forrázások (hőhatás miatt) | AE8: =CONCATENATE(AD8," - ",AC8) -> Égési sérülések, forrázások (hőhatás miatt) - 061 | AG8: 15 | AH8: Fogak | AI8: =CONCATENATE(AH8," - ",AG8) -> Fogak - 15 | AK8: 49 | AL8: A törzs fent nem említett részei | AM8: =CONCATENATE(AL8," - ",AK8) -> A törzs fent nem említett részei - 49 | AS8: 5 | AT8: Önálló életvezetést gátló maradandó károsodás | AU8: =CONCATENATE(AT8," - ",AS8) -> Önálló életvezetést gátló maradandó károsodás - 5 | AW8: 01040 | AX8: Alakos betonidom darabok, építőelemek, mészhomokkövek gyártásának helyei | AY8: =CONCATENATE(AW8," - ",AX8) -> 01040 - Alakos betonidom darabok, építőelemek, mészhomokkövek gyártásának helyei | BA8: 05 | BB8: Átépítés, tatarozás, bővítés, épület-karbantartás - valamennyi épülettípus | BC8: =CONCATENATE(BA8," - ",BB8) -> 05 - Átépítés, tatarozás, bővítés, épület-karbantartás - valamennyi épülettípus | BE8: 62 | BF8: Be- és kiszállás | BG8: =CONCATENATE(BE8," - ",BF8) -> 62 - Be- és kiszállás | BI8: 1012033 | BJ8: Aligátorollók | BK8: =CONCATENATE(BI8," - ",BJ8) -> 1012033 - Aligátorollók | BM8: 85 | BN8: A sérült vagy harmadik személy puszta jelenléte, amely saját magára és feltehetőleg másokra is veszélyt jelentő jelenléte | BO8: =CONCATENATE(BN8," - ",BM8) -> A sérült vagy harmadik személy puszta jelenléte, amely saját magára és feltehetőleg másokra is veszélyt jelentő jelenléte - 85 | BQ8: 61 | BR8: Beszorulás, összezúzódás tárgyba/tárgyban | BS8: =CONCATENATE(BR8," - ",BQ8) -> Beszorulás, összezúzódás tárgyba/tárgyban - 61 | BU8: 05 | BV8: Gyógyszer hatása | BW8: =CONCATENATE(BV8," - ",BU8) -> Gyógyszer hatása - 05 | BY8: 6 | BZ8: Alkalmatlan, nem használták | CA8: =CONCATENATE(BY8," - ",BZ8) -> 6 - Alkalmatlan, nem használták | CJ8: 322 | CK8: Határozott idejű (ideiglenes) munkaviszony, részmunkaidőben | CL8: =CONCATENATE(CJ8," - ",CK8) -> 322 - Határozott idejű (ideiglenes) munkaviszony, részmunkaidőben | CN8: 06 | CO8: Közalkalmazotti jogviszony | CP8: =CONCATENATE(CN8," - ",CO8) -> 06 - Közalkalmazotti jogviszony
C9: 07 | D9: Fejér | E9: =CONCATENATE(C9," - ",D9) -> 07 - Fejér | K9: 9 | L9: A munkavállalók száma ismeretlen | M9: =CONCATENATE(K9," - ",L9) -> 9 - A munkavállalók száma ismeretlen | Y9: 029 | Z9: Egyéb típusú csonttörések | AA9: =CONCATENATE(Z9," - ",Y9) -> Egyéb típusú csonttörések - 029 | AC9: 059 | AD9: Egyéb típusú agyrázkódás, illetve belső sérülések | AE9: =CONCATENATE(AD9," - ",AC9) -> Egyéb típusú agyrázkódás, illetve belső sérülések - 059 | AG9: 18 | AH9: Többszörös fejsérülés | AI9: =CONCATENATE(AH9," - ",AG9) -> Többszörös fejsérülés - 18 | AK9: 68 | AL9: Alsó végtagok több helyen sérültek | AM9: =CONCATENATE(AL9," - ",AK9) -> Alsó végtagok több helyen sérültek - 68 | AS9: 6 | AT9: Valamely érzékszerv (v. érzékelő képesség) és a reprodukciós képesség elvesztésével, ill. jelentős mértékű károsodásával járó munkabaleset | AU9: =CONCATENATE(AT9," - ",AS9) -> Valamely érzékszerv (v. érzékelő képesség) és a reprodukciós képesség elvesztésével, ill. jelentős mértékű károsodásával járó munkabaleset - 6 | AW9: 03100 | AX9: Állattenyésztési terület | AY9: =CONCATENATE(AW9," - ",AX9) -> 03100 - Állattenyésztési terület | BA9: 06 | BB9: Bontás - valamennyi épülettípus | BC9: =CONCATENATE(BA9," - ",BB9) -> 06 - Bontás - valamennyi épülettípus | BE9: 45 | BF9: Doboz, köteg, csomag felnyitása, lezárása | BG9: =CONCATENATE(BE9," - ",BF9) -> 45 - Doboz, köteg, csomag felnyitása, lezárása | BI9: 714020 | BJ9: Álló hajszárító | BK9: =CONCATENATE(BI9," - ",BJ9) -> 714020 - Álló hajszárító | BM9: 62 | BN9: Adott tárgyra térdelés, ráülés, nekitámaszkodás | BO9: =CONCATENATE(BN9," - ",BM9) -> Adott tárgyra térdelés, ráülés, nekitámaszkodás - 62 | BQ9: 19 | BR9: Egyéb, a 10. csoportba tartozó, a fentiekben fel nem sorolt érintkezés és sérülési mód | BS9: =CONCATENATE(BR9," - ",BQ9) -> Egyéb, a 10. csoportba tartozó, a fentiekben fel nem sorolt érintkezés és sérülési mód - 19 | BU9: 06 | BV9: Kábítószer hatása | BW9: =CONCATENATE(BV9," - ",BU9) -> Kábítószer hatása - 06 | BY9: 7 | BZ9: Szükséges, de nem volt | CA9: =CONCATENATE(BY9," - ",BZ9) -> 7 - Szükséges, de nem volt | CJ9: 500 | CK9: Tanuló vagy hallgató (szakmai, gyakorlati képzés esetén) | CL9: =CONCATENATE(CJ9," - ",CK9) -> 500 - Tanuló vagy hallgató (szakmai, gyakorlati képzés esetén) | CN9: 07 | CO9: Bíró szolgálati jogviszony | CP9: =CONCATENATE(CN9," - ",CO9) -> 07 - Bíró szolgálati jogviszony
C10: 08 | D10: Győr-Moson-Sopron | E10: =CONCATENATE(C10," - ",D10) -> 08 - Győr-Moson-Sopron | M10: =CONCATENATE(K10," - ",L10) -> - | Y10: 031 | Z10: Ficamok | AA10: =CONCATENATE(Z10," - ",Y10) -> Ficamok - 031 | AC10: 029 | AD10: Egyéb típusú csonttörések | AE10: =CONCATENATE(AD10," - ",AC10) -> Egyéb típusú csonttörések - 029 | AG10: 19 | AH10: Fej fent nem említett egyéb részeinek sérülése | AI10: =CONCATENATE(AH10," - ",AG10) -> Fej fent nem említett egyéb részeinek sérülése - 19 | AK10: 12 | AL10: Arc | AM10: =CONCATENATE(AL10," - ",AK10) -> Arc - 12 | AS10: 7 | AT10: Orvosi vélemény szerint életveszélyes sérüléssel, károsodással járó munkabaleset | AU10: =CONCATENATE(AT10," - ",AS10) -> Orvosi vélemény szerint életveszélyes sérüléssel, károsodással járó munkabaleset - 7 | AW10: 06206 | AX10: Anyagmozgató-, földmunkagép egyébrésze | AY10: =CONCATENATE(AW10," - ",AX10) -> 06206 - Anyagmozgató-, földmunkagép egyébrésze | BA10: 07 | BB10: Egyéb, a 10. csoportba tartozó, a fentiekben fel nem sorolt munkafolyamat | BC10: =CONCATENATE(BA10," - ",BB10) -> 07 - Egyéb, a 10. csoportba tartozó, a fentiekben fel nem sorolt munkafolyamat | BE10: 19 | BF10: Egyéb, a 10. csoportba tartozó, a fentiekben fel nem sorolt konkrét fizikai tevékenység | BG10: =CONCATENATE(BE10," - ",BF10) -> 19 - Egyéb, a 10. csoportba tartozó, a fentiekben fel nem sorolt konkrét fizikai tevékenység | BI10: 202020 | BJ10: Állványoszlopok, portáloszlopok, átjárók, félemeletek, vezetékoszlopok | BK10: =CONCATENATE(BI10," - ",BJ10) -> 202020 - Állványoszlopok, portáloszlopok, átjárók, félemeletek, vezetékoszlopok | BM10: 84 | BN10: Állat általi agresszió, felöklelés, fellökés | BO10: =CONCATENATE(BN10," - ",BM10) -> Állat általi agresszió, felöklelés, fellökés - 84 | BQ10: 29 | BR10: Egyéb, a 20. csoportba tartozó, a fentiekben fel nem sorolt érintkezés és sérülési mód | BS10: =CONCATENATE(BR10," - ",BQ10) -> Egyéb, a 20. csoportba tartozó, a fentiekben fel nem sorolt érintkezés és sérülési mód - 29 | BU10: 07 | BV10: Oktatás hiánya | BW10: =CONCATENATE(BV10," - ",BU10) -> Oktatás hiánya - 07 | BY10: 8 | BZ10: Nem szükséges | CA10: =CONCATENATE(BY10," - ",BZ10) -> 8 - Nem szükséges | CJ10: 900 | CK10: Egyéb foglalkoztatási jogviszony | CL10: =CONCATENATE(CJ10," - ",CK10) -> 900 - Egyéb foglalkoztatási jogviszony | CN10: 08 | CO10: Igazságügyi alkalmazottak szolgálati jogviszonya | CP10: =CONCATENATE(CN10," - ",CO10) -> 08 - Igazságügyi alkalmazottak szolgálati jogviszonya
C11: 09 | D11: Hajdu-Bihar | E11: =CONCATENATE(C11," - ",D11) -> 09 - Hajdu-Bihar | Y11: 032 | Z11: Húzódások, rándulások | AA11: =CONCATENATE(Z11," - ",Y11) -> Húzódások, rándulások - 032 | AC11: 069 | AD11: Egyéb típusú égési, fagyási sérülések és forrázások | AE11: =CONCATENATE(AD11," - ",AC11) -> Egyéb típusú égési, fagyási sérülések és forrázások - 069 | AG11: 21 | AH11: Nyak, a nyaki gerinccel és csigolyákkal együtt | AI11: =CONCATENATE(AH11," - ",AG11) -> Nyak, a nyaki gerinccel és csigolyákkal együtt - 21 | AK11: 69 | AL11: Az alsó végtagok fent nem említett egyéb részei | AM11: =CONCATENATE(AL11," - ",AK11) -> Az alsó végtagok fent nem említett egyéb részei - 69 | AS11: 8 | AT11: A beszélőképesség elvesztésével, feltűnő torzulással, bénulással, elmezavarral járó munkabaleset | AU11: =CONCATENATE(AT11," - ",AS11) -> A beszélőképesség elvesztésével, feltűnő torzulással, bénulással, elmezavarral járó munkabaleset - 8 | AW11: 06205 | AX11: Anyagmozgató-, földmunkagép vezetőállása | AY11: =CONCATENATE(AW11," - ",AX11) -> 06205 - Anyagmozgató-, földmunkagép vezetőállása | BA11: 08 | BB11: Egyéb, a 20. csoportba tartozó, a fentiekben fel nem sorolt munkafolyamat | BC11: =CONCATENATE(BA11," - ",BB11) -> 08 - Egyéb, a 20. csoportba tartozó, a fentiekben fel nem sorolt munkafolyamat | BE11: 29 | BF11: Egyéb, a 20. csoportba tartozó, a fentiekben fel nem sorolt konkrét fizikai tevékenység | BG11: =CONCATENATE(BE11," - ",BF11) -> 29 - Egyéb, a 20. csoportba tartozó, a fentiekben fel nem sorolt konkrét fizikai tevékenység | BI11: 204010 | BJ11: Állványzat (nem mozgatható) | BK11: =CONCATENATE(BI11," - ",BJ11) -> 204010 - Állványzat (nem mozgatható) | BM11: 31 | BN11: Anyag törése illesztési helyen, varratnál | BO11: =CONCATENATE(BN11," - ",BM11) -> Anyag törése illesztési helyen, varratnál - 31 | BQ11: 39 | BR11: Egyéb, a 30. csoportba tartozó, a fentiekben fel nem sorolt érintkezés és sérülési mód | BS11: =CONCATENATE(BR11," - ",BQ11) -> Egyéb, a 30. csoportba tartozó, a fentiekben fel nem sorolt érintkezés és sérülési mód - 39 | BU11: 08 | BV11: Figyelmetlenség | BW11: =CONCATENATE(BV11," - ",BU11) -> Figyelmetlenség - 08 | CL11: =CONCATENATE(CJ11," - ",CK11) -> - | CN11: 09 | CO11: Ügyészségi szolgálati jogviszony | CP11: =CONCATENATE(CN11," - ",CO11) -> 09 - Ügyészségi szolgálati jogviszony
C12: 10 | D12: Heves | E12: =CONCATENATE(C12," - ",D12) -> 10 - Heves | Y12: 039 | Z12: Egyéb típusú ficamok, húzódások, rándulások | AA12: =CONCATENATE(Z12," - ",Y12) -> Egyéb típusú ficamok, húzódások, rándulások - 039 | AC12: 039 | AD12: Egyéb típusú ficamok, húzódások, rándulások | AE12: =CONCATENATE(AD12," - ",AC12) -> Egyéb típusú ficamok, húzódások, rándulások - 039 | AG12: 29 | AH12: A nyak fent nem említett egyéb részei, (pl. nyakszírt, a nyak izmai) | AI12: =CONCATENATE(AH12," - ",AG12) -> A nyak fent nem említett egyéb részei, (pl. nyakszírt, a nyak izmai) - 29 | AK12: 63 | AL12: Boka | AM12: =CONCATENATE(AL12," - ",AK12) -> Boka - 63 | AW12: 06114 | AX12: Ártér, gát, zsilip | AY12: =CONCATENATE(AW12," - ",AX12) -> 06114 - Ártér, gát, zsilip | BA12: 09 | BB12: Egyéb, a 30. csoportba tartozó, a fentiekben fel nem sorolt munkafolyamat | BC12: =CONCATENATE(BA12," - ",BB12) -> 09 - Egyéb, a 30. csoportba tartozó, a fentiekben fel nem sorolt munkafolyamat | BE12: 39 | BF12: Egyéb, a 30. csoportba tartozó, a fentiekben fel nem sorolt konkrét fizikai tevékenység | BG12: =CONCATENATE(BE12," - ",BF12) -> 39 - Egyéb, a 30. csoportba tartozó, a fentiekben fel nem sorolt konkrét fizikai tevékenység | BI12: 1402010 | BJ12: Alvázak, motorházak, burkolatok | BK12: =CONCATENATE(BI12," - ",BJ12) -> 1402010 - Alvázak, motorházak, burkolatok | BM12: 34 | BN12: Anyagi tényező csúszása, esése, dőlése alulról (a sérültet magával rántva) | BO12: =CONCATENATE(BN12," - ",BM12) -> Anyagi tényező csúszása, esése, dőlése alulról (a sérültet magával rántva) - 34 | BQ12: 49 | BR12: Egyéb, a 40. csoportba tartozó, a fentiekben fel nem sorolt érintkezés és sérülési mód | BS12: =CONCATENATE(BR12," - ",BQ12) -> Egyéb, a 40. csoportba tartozó, a fentiekben fel nem sorolt érintkezés és sérülési mód - 49 | BU12: 09 | BV12: Fegyelmezetlenség, szabályszegő, utasítás ellenes magatartás, tevékenység | BW12: =CONCATENATE(BV12," - ",BU12) -> Fegyelmezetlenség, szabályszegő, utasítás ellenes magatartás, tevékenység - 09 | CN12: 10 | CO12: Rendvédelmi és katonai feladatokat ellátó szervek hivatásos állományának szolgálati jogviszonya | CP12: =CONCATENATE(CN12," - ",CO12) -> 10 - Rendvédelmi és katonai feladatokat ellátó szervek hivatásos állományának szolgálati jogviszonya
C13: 11 | D13: Komárom-Esztergom | E13: =CONCATENATE(C13," - ",D13) -> 11 - Komárom-Esztergom | Y13: 040 | Z13: Traumás amputáció [testrész(ek) elvesztése] | AA13: =CONCATENATE(Z13," - ",Y13) -> Traumás amputáció [testrész(ek) elvesztése] - 040 | AC13: 079 | AD13: Egyéb típusú mérgezések és fertőzések | AE13: =CONCATENATE(AD13," - ",AC13) -> Egyéb típusú mérgezések és fertőzések - 079 | AG13: 31 | AH13: Hát a hátgerinccel és hátcsigolyákkal együtt | AI13: =CONCATENATE(AH13," - ",AG13) -> Hát a hátgerinccel és hátcsigolyákkal együtt - 31 | AK13: 61 | AL13: Csípő és csípőízület | AM13: =CONCATENATE(AL13," - ",AK13) -> Csípő és csípőízület - 61 | AW13: 01105 | AX13: Asztalosműhely | AY13: =CONCATENATE(AW13," - ",AX13) -> 01105 - Asztalosműhely | BA13: 10 | BB13: Egyéb, a 40. csoportba tartozó, a fentiekben fel nem sorolt munkafolyamat | BC13: =CONCATENATE(BA13," - ",BB13) -> 10 - Egyéb, a 40. csoportba tartozó, a fentiekben fel nem sorolt munkafolyamat | BE13: 49 | BF13: Egyéb, a 40. csoportba tartozó, a fentiekben fel nem sorolt konkrét fizikai tevékenység | BG13: =CONCATENATE(BE13," - ",BF13) -> 49 - Egyéb, a 40. csoportba tartozó, a fentiekben fel nem sorolt konkrét fizikai tevékenység | BI13: 812000 | BJ13: Anyagbefogás céljára szolgáló eszköz | BK13: =CONCATENATE(BI13," - ",BJ13) -> 812000 - Anyagbefogás céljára szolgáló eszköz | BM13: 35 | BN13: Anyagi tényező csúszása, esése, dőlése azonos szinten | BO13: =CONCATENATE(BN13," - ",BM13) -> Anyagi tényező csúszása, esése, dőlése azonos szinten - 35 | BQ13: 69 | BR13: Egyéb, a 60. csoportba tartozó, a fentiekben fel nem sorolt érintkezés és sérülési mód | BS13: =CONCATENATE(BR13," - ",BQ13) -> Egyéb, a 60. csoportba tartozó, a fentiekben fel nem sorolt érintkezés és sérülési mód - 69 | BU13: 10 | BV13: Egyéb, a besorolásban nem szereplő személyi tényező | BW13: =CONCATENATE(BV13," - ",BU13) -> Egyéb, a besorolásban nem szereplő személyi tényező - 10 | CN13: 11 | CO13: Szövetkezeti tagság esetén a munkaviszony jellegű jogviszony | CP13: =CONCATENATE(CN13," - ",CO13) -> 11 - Szövetkezeti tagság esetén a munkaviszony jellegű jogviszony
C14: 12 | D14: Nógrád | E14: =CONCATENATE(C14," - ",D14) -> 12 - Nógrád | Y14: 051 | Z14: Agyrázkódás és koponyán belüli sérülések | AA14: =CONCATENATE(Z14," - ",Y14) -> Agyrázkódás és koponyán belüli sérülések - 051 | AC14: 019 | AD14: Egyéb típusú sebek és felületi sérülések | AE14: =CONCATENATE(AD14," - ",AC14) -> Egyéb típusú sebek és felületi sérülések - 019 | AG14: 39 | AH14: A hát fent nem említett egyéb részei | AI14: =CONCATENATE(AH14," - ",AG14) -> A hát fent nem említett egyéb részei - 39 | AK14: 55 | AL14: Csukló | AM14: =CONCATENATE(AL14," - ",AK14) -> Csukló - 55 | AW14: 06107 | AX14: Átjáró, felüljáró, aluljáró (jármű- és gyalogos forgalom) | AY14: =CONCATENATE(AW14," - ",AX14) -> 06107 - Átjáró, felüljáró, aluljáró (jármű- és gyalogos forgalom) | BA14: 11 | BB14: Egyéb, a 60. csoportba tartozó, a fentiekben fel nem sorolt munkafolyamat | BC14: =CONCATENATE(BA14," - ",BB14) -> 11 - Egyéb, a 60. csoportba tartozó, a fentiekben fel nem sorolt munkafolyamat | BE14: 69 | BF14: Egyéb, a 60. csoportba tartozó, a fentiekben fel nem sorolt konkrét fizikai tevékenység | BG14: =CONCATENATE(BE14," - ",BF14) -> 69 - Egyéb, a 60. csoportba tartozó, a fentiekben fel nem sorolt konkrét fizikai tevékenység | BI14: 809000 | BJ14: Anyagkitermelés, talajmegmunkálás céljára szolgáló eszköz | BK14: =CONCATENATE(BI14," - ",BJ14) -> 809000 - Anyagkitermelés, talajmegmunkálás céljára szolgáló eszköz | BM14: 33 | BN14: Anyagi tényező csúszása, esése, dőlése felülről (a sérültre esve) | BO14: =CONCATENATE(BN14," - ",BM14) -> Anyagi tényező csúszása, esése, dőlése felülről (a sérültre esve) - 33 | BQ14: 79 | BR14: Egyéb, a 70. csoportba tartozó, a fentiekben fel nem sorolt érintkezés és sérülési mód | BS14: =CONCATENATE(BR14," - ",BQ14) -> Egyéb, a 70. csoportba tartozó, a fentiekben fel nem sorolt érintkezés és sérülési mód - 79 | CN14: 12 | CO14: Szakképző iskolákban a tanulói jogviszony keretében a szakmai képzési követelmények teljesülése során végzett munka | CP14: =CONCATENATE(CN14," - ",CO14) -> 12 - Szakképző iskolákban a tanulói jogviszony keretében a szakmai képzési követelmények teljesülése során végzett munka
C15: 13 | D15: Pest | E15: =CONCATENATE(C15," - ",D15) -> 13 - Pest | Y15: 052 | Z15: Belső sérülések | AA15: =CONCATENATE(Z15," - ",Y15) -> Belső sérülések - 052 | AC15: 089 | AD15: Egyéb típusú vízbefulladás és fulladás | AE15: =CONCATENATE(AD15," - ",AC15) -> Egyéb típusú vízbefulladás és fulladás - 089 | AG15: 41 | AH15: Mellkas, bordák az ízületekkel és a lapockákkal együtt | AI15: =CONCATENATE(AH15," - ",AG15) -> Mellkas, bordák az ízületekkel és a lapockákkal együtt - 41 | AK15: 71 | AL15: Egész test (általános szervezeti hatások) | AM15: =CONCATENATE(AL15," - ",AK15) -> Egész test (általános szervezeti hatások) - 71 | AW15: 01018 | AX15: Automata gépsor | AY15: =CONCATENATE(AW15," - ",AX15) -> 01018 - Automata gépsor | BA15: 12 | BB15: Egyéb, az 50. csoportba tartozó, a fentiekben fel nem sorolt munkafolyamat | BC15: =CONCATENATE(BA15," - ",BB15) -> 12 - Egyéb, az 50. csoportba tartozó, a fentiekben fel nem sorolt munkafolyamat | BE15: 59 | BF15: Egyéb, az 50. csoportba tartozó, a fentiekben fel nem sorolt konkrét fizikai tevékenység | BG15: =CONCATENATE(BE15," - ",BF15) -> 59 - Egyéb, az 50. csoportba tartozó, a fentiekben fel nem sorolt konkrét fizikai tevékenység | BI15: 1017026 | BJ15: Áramfejlesztőgépek | BK15: =CONCATENATE(BI15," - ",BJ15) -> 1017026 - Áramfejlesztőgépek | BM15: 45 | BN15: Az állat feletti irányítás (részleges vagy teljes) elvesztése | BO15: =CONCATENATE(BN15," - ",BM15) -> Az állat feletti irányítás (részleges vagy teljes) elvesztése - 45 | BQ15: 89 | BR15: Egyéb, a 80. csoportba tartozó, a fentiekben fel nem sorolt érintkezés és sérülési mód | BS15: =CONCATENATE(BR15," - ",BQ15) -> Egyéb, a 80. csoportba tartozó, a fentiekben fel nem sorolt érintkezés és sérülési mód - 89 | CN15: 13 | CO15: Tanulószerződés alapján végzett munka | CP15: =CONCATENATE(CN15," - ",CO15) -> 13 - Tanulószerződés alapján végzett munka
C16: 14 | D16: Somogy | E16: =CONCATENATE(C16," - ",D16) -> 14 - Somogy | Y16: 059 | Z16: Egyéb típusú agyrázkódás, illetve belső sérülések | AA16: =CONCATENATE(Z16," - ",Y16) -> Egyéb típusú agyrázkódás, illetve belső sérülések - 059 | AC16: 999 | AD16: Egyéb, más kategóriába nem sorolható sérülések | AE16: =CONCATENATE(AD16," - ",AC16) -> Egyéb, más kategóriába nem sorolható sérülések - 999 | AG16: 42 | AH16: Mellkasi terület a belső szervekkel | AI16: =CONCATENATE(AH16," - ",AG16) -> Mellkasi terület a belső szervekkel - 42 | AK16: 19 | AL16: Fej fent nem említett egyéb részeinek sérülése | AM16: =CONCATENATE(AL16," - ",AK16) -> Fej fent nem említett egyéb részeinek sérülése - 19 | AW16: 07200 | AX16: Az épület közös használatban lévő részei, melléképületek, saját családi kert | AY16: =CONCATENATE(AW16," - ",AX16) -> 07200 - Az épület közös használatban lévő részei, melléképületek, saját családi kert | BA16: 13 | BB16: Erdőgazdálkodási jellegű munka | BC16: =CONCATENATE(BA16," - ",BB16) -> 13 - Erdőgazdálkodási jellegű munka | BE16: 65 | BF16: Felállás, leülés | BG16: =CONCATENATE(BE16," - ",BF16) -> 65 - Felállás, leülés | BI16: 1007290 | BJ16: Aranyozó prés, domborító prés (ny) | BK16: =CONCATENATE(BI16," - ",BJ16) -> 1007290 - Aranyozó prés, domborító prés (ny) | BM16: 11 | BN16: Berendezés meghibásodása miatt bekövetkezett, közvetett érintkezéshez vezető elektromos hiba | BO16: =CONCATENATE(BN16," - ",BM16) -> Berendezés meghibásodása miatt bekövetkezett, közvetett érintkezéshez vezető elektromos hiba - 11 | BQ16: 99 | BR16: Egyéb, a fentiekben fel nem sorolt érintkezés – sérülési mód | BS16: =CONCATENATE(BR16," - ",BQ16) -> Egyéb, a fentiekben fel nem sorolt érintkezés – sérülési mód - 99 | CN16: 14 | CO16: Hallgatói jogviszonyban a gyakorlati képzés során végzett munka | CP16: =CONCATENATE(CN16," - ",CO16) -> 14 - Hallgatói jogviszonyban a gyakorlati képzés során végzett munka
C17: 15 | D17: Szabolcs-Szatmár-Bereg | E17: =CONCATENATE(C17," - ",D17) -> 15 - Szabolcs-Szatmár-Bereg | Y17: 061 | Z17: Égési sérülések, forrázások (hőhatás miatt) | AA17: =CONCATENATE(Z17," - ",Y17) -> Égési sérülések, forrázások (hőhatás miatt) - 061 | AC17: 063 | AD17: Fagyási sérülések | AE17: =CONCATENATE(AD17," - ",AC17) -> Fagyási sérülések - 063 | AG17: 43 | AH17: Medence és has a belső szervekkel | AI17: =CONCATENATE(AH17," - ",AG17) -> Medence és has a belső szervekkel - 43 | AK17: 11 | AL17: Fej, agy és agyidegek, agyi erek, véredények | AM17: =CONCATENATE(AL17," - ",AK17) -> Fej, agy és agyidegek, agyi erek, véredények - 11 | AW17: 08100 | AX17: Beltéri sportterület – sportcsarnok, tornaterem, fedett uszoda | AY17: =CONCATENATE(AW17," - ",AX17) -> 08100 - Beltéri sportterület – sportcsarnok, tornaterem, fedett uszoda | BA17: 14 | BB17: Felállítás, előkészítés, telepítés, felszerelés, szétszerelés, leszerelés | BC17: =CONCATENATE(BA17," - ",BB17) -> 14 - Felállítás, előkészítés, telepítés, felszerelés, szétszerelés, leszerelés | BE17: 51 | BF17: Függőleges mozgatás - tárgy felemelése, feltartása, leeresztése | BG17: =CONCATENATE(BE17," - ",BF17) -> 51 - Függőleges mozgatás - tárgy felemelése, feltartása, leeresztése | BI17: 1013044 | BJ17: Aranyozóprés | BK17: =CONCATENATE(BI17," - ",BJ17) -> 1013044 - Aranyozóprés | BM17: 19 | BN17: Egyéb, a 10. csoportba tartozó, a fentiekben fel nem sorolt rendellenesség | BO17: =CONCATENATE(BN17," - ",BM17) -> Egyéb, a 10. csoportba tartozó, a fentiekben fel nem sorolt rendellenesség - 19 | BQ17: 59 | BR17: Egyéb, az 50. csoportba tartozó, a fentiekben fel nem sorolt érintkezés és sérülési mód | BS17: =CONCATENATE(BR17," - ",BQ17) -> Egyéb, az 50. csoportba tartozó, a fentiekben fel nem sorolt érintkezés és sérülési mód - 59 | CN17: 15 | CO17: Elítéltként vagy egyéb jogcímen fogvatartottként végzett munka | CP17: =CONCATENATE(CN17," - ",CO17) -> 15 - Elítéltként vagy egyéb jogcímen fogvatartottként végzett munka
C18: 16 | D18: Jász-Nagykun-Szolnok | E18: =CONCATENATE(C18," - ",D18) -> 16 - Jász-Nagykun-Szolnok | Y18: 062 | Z18: Vegyi anyag (marás) okozta égési sérülések | AA18: =CONCATENATE(Z18," - ",Y18) -> Vegyi anyag (marás) okozta égési sérülések - 062 | AC18: 011 | AD18: Felületi sérülés | AE18: =CONCATENATE(AD18," - ",AC18) -> Felületi sérülés - 011 | AG18: 48 | AH18: Törzs több helyen sérült | AI18: =CONCATENATE(AH18," - ",AG18) -> Törzs több helyen sérült - 48 | AK18: 58 | AL18: Felső végtagok, több helyen sérültek | AM18: =CONCATENATE(AL18," - ",AK18) -> Felső végtagok, több helyen sérültek - 58 | AW18: 01106 | AX18: Bognárműhely | AY18: =CONCATENATE(AW18," - ",AX18) -> 01106 - Bognárműhely | BA18: 15 | BB18: Gyártási folyamatok, munkaterületek, szállítóeszközök, berendezések ellenőrzése, vizsgálata ellenőrző felszereléssel vagy anélkül | BC18: =CONCATENATE(BA18," - ",BB18) -> 15 - Gyártási folyamatok, munkaterületek, szállítóeszközök, berendezések ellenőrzése, vizsgálata ellenőrző felszereléssel vagy anélkül | BE18: 67 | BF18: Helyben végzett mozgás | BG18: =CONCATENATE(BE18," - ",BF18) -> 67 - Helyben végzett mozgás | BI18: 901110 | BJ18: Ároktömörítő gép (döngölő, ill. juhláb-henger, stb.) | BK18: =CONCATENATE(BI18," - ",BJ18) -> 901110 - Ároktömörítő gép (döngölő, ill. juhláb-henger, stb.) | BM18: 29 | BN18: Egyéb, a 20. csoportba tartozó, a fentiekben fel nem sorolt rendellenesség | BO18: =CONCATENATE(BN18," - ",BM18) -> Egyéb, a 20. csoportba tartozó, a fentiekben fel nem sorolt rendellenesség - 29 | BQ18: 12 | BR18: Elektromossággal való közvetlen érintkezés, elektromos töltés testbe jutása | BS18: =CONCATENATE(BR18," - ",BQ18) -> Elektromossággal való közvetlen érintkezés, elektromos töltés testbe jutása - 12 | CN18: 16 | CO18: Szabálysértési eljárás során alkalmazott közérdekű munka | CP18: =CONCATENATE(CN18," - ",CO18) -> 16 - Szabálysértési eljárás során alkalmazott közérdekű munka
C19: 17 | D19: Tolna | E19: =CONCATENATE(C19," - ",D19) -> 17 - Tolna | Y19: 063 | Z19: Fagyási sérülések | AA19: =CONCATENATE(Z19," - ",Y19) -> Fagyási sérülések - 063 | AC19: 031 | AD19: Ficamok | AE19: =CONCATENATE(AD19," - ",AC19) -> Ficamok - 031 | AG19: 49 | AH19: A törzs fent nem említett részei | AI19: =CONCATENATE(AH19," - ",AG19) -> A törzs fent nem említett részei - 49 | AK19: 15 | AL19: Fogak | AM19: =CONCATENATE(AL19," - ",AK19) -> Fogak - 15 | AW19: 01080 | AX19: Bőrgyártás munkahelyei | AY19: =CONCATENATE(AW19," - ",AX19) -> 01080 - Bőrgyártás munkahelyei | BA19: 16 | BB19: Halgazdálkodás, halászat | BC19: =CONCATENATE(BA19," - ",BB19) -> 16 - Halgazdálkodás, halászat | BE19: 61 | BF19: Járás, futás, felmenés, lemenés stb. | BG19: =CONCATENATE(BE19," - ",BF19) -> 61 - Járás, futás, felmenés, lemenés stb. | BI19: 609010 | BJ19: Ásó | BK19: =CONCATENATE(BI19," - ",BJ19) -> 609010 - Ásó | BM19: 39 | BN19: Egyéb, a 30. csoportba tartozó, a fentiekben fel nem sorolt rendellenesség | BO19: =CONCATENATE(BN19," - ",BM19) -> Egyéb, a 30. csoportba tartozó, a fentiekben fel nem sorolt rendellenesség - 39 | BQ19: 51 | BR19: Éles anyagi tényezővel (kés, penge stb.) való érintkezés | BS19: =CONCATENATE(BR19," - ",BQ19) -> Éles anyagi tényezővel (kés, penge stb.) való érintkezés - 51 | CN19: 17 | CO19: Büntetőügyben kiszabott közérdekű munka | CP19: =CONCATENATE(CN19," - ",CO19) -> 17 - Büntetőügyben kiszabott közérdekű munka
C20: 18 | D20: Vas | E20: =CONCATENATE(C20," - ",D20) -> 18 - Vas | Y20: 069 | Z20: Egyéb típusú égési, fagyási sérülések és forrázások | AA20: =CONCATENATE(Z20," - ",Y20) -> Egyéb típusú égési, fagyási sérülések és forrázások - 069 | AC20: 081 | AD20: Fulladások | AE20: =CONCATENATE(AD20," - ",AC20) -> Fulladások - 081 | AG20: 51 | AH20: Váll és vállízület (vállcsúcs, kulcscsont) | AI20: =CONCATENATE(AH20," - ",AG20) -> Váll és vállízület (vállcsúcs, kulcscsont) - 51 | AK20: 14 | AL20: Fül(ek) | AM20: =CONCATENATE(AL20," - ",AK20) -> Fül(ek) - 14 | AW20: 01079 | AX20: Cellulóz-, papír- és kartongyártás munkahelyei | AY20: =CONCATENATE(AW20," - ",AX20) -> 01079 - Cellulóz-, papír- és kartongyártás munkahelyei | BA20: 17 | BB20: Hulladékgazdálkodás, ártalmatlanítás, a hulladékkezelés valamennyi típusa | BC20: =CONCATENATE(BA20," - ",BB20) -> 17 - Hulladékgazdálkodás, ártalmatlanítás, a hulladékkezelés valamennyi típusa | BE20: 70 | BF20: Jelenlét | BG20: =CONCATENATE(BE20," - ",BF20) -> 70 - Jelenlét | BI20: 102010 | BJ20: Aszfalt | BK20: =CONCATENATE(BI20," - ",BJ20) -> 102010 - Aszfalt | BM20: 49 | BN20: Egyéb, a 40. csoportba tartozó, a fentiekben fel nem sorolt rendellenesség | BO20: =CONCATENATE(BN20," - ",BM20) -> Egyéb, a 40. csoportba tartozó, a fentiekben fel nem sorolt rendellenesség - 49 | BQ20: 42 | BR20: Eső tárgy által mért ütés | BS20: =CONCATENATE(BR20," - ",BQ20) -> Eső tárgy által mért ütés - 42 | CN20: 18 | CO20: Közérdekű önkéntes tevékenység | CP20: =CONCATENATE(CN20," - ",CO20) -> 18 - Közérdekű önkéntes tevékenység
