Workbook
Name proba: 'VIZSGÁLATI DOKUMENTÁCIÓ'!#REF!

Sheet VIZSGÁLATI DOKUMENTÁCIÓ
B2: Esemény minősítése | M2: =IF(OR(M4="N",M5="N"),1,0) -> 0
C4: Baleset | M4: I | N4: ¯ | O4: Igen, Nem
C5: Munkabaleset | M5: I | N5: ¯ | O5: Igen, Nem
B7: Indoklás (Baleset vagy munkabaleset NEM-leges választása esetén) | T7: (Az alábbi szövegmezőn belül, új sor beillesztése -> ALT+ENTER)
B19: Értesítendők
C21: Munkavédelmi hatóság megnevezése:
N22: Értesítése megtörtént? | Q22: ¯ | R22: Igen, Nem, - Nem vonatkozik rá
C24: Munkáltató képviselőjének neve:
N25: Értesítése megtörtént? | Q25: ¯ | R25: Igen, Nem, - Nem vonatkozik rá
C27: Foglalkozás-egészségügyi orvos:
N28: Értesítése megtörtént? | Q28: ¯ | R28: Igen, Nem
C30: Munkavédelmi képviselő (ha van) neve:
N31: Értesítése megtörtént? | Q31: ¯ | R31: Igen, Nem, - Nincs
B33: Folytatta a munkát? | Q33: ¯ | R33: Igen, Nem
B35: Nyilvántartási szám: | N35: 20 | R35: év | Z35: sorszám
B38: (A) Munkáltató adatai
C40: Neve:
C42: Székhelye (címe):
C44: Adószáma: | O44: - | Q44: - | V44: (Vagy) | AC44: Adóazonosító jele:
C46: Telefonszám: | J46: + | K46: 36 | M46: / | P46: - | W46: =CONCATENATE("(",N46,") ",Q46) -> ()
C47: Mobil: | M47: / | P47: - | W47: =CONCATENATE(J47,K47,"(",N47,") ",Q47) -> ()
C48: Fax: | M48: / | P48: - | W48: =CONCATENATE(J48,K48,"(",N48,") ",Q48) -> ()
C50: E-mail címe:
C52: Gazdálkodási forma:
C54: Fő tevékenysége | R54: (TEÁOR ’08)
C56: Helyi egység fő tevékenysége | R56: (TEÁOR ’08)
C58: Összlétszám kategória: | R58: ¯ | T58: Helyi egység létszám kategória: | AI58: ¯
B63: (B) A sérült (munkavállaló) adatai:
C65: Sérült neve
C67: Sérült születési neve
C69: Anyja neve
C71: Születési ideje | O71: év | R71: hó | U71: nap | W71: Helye:
C73: TAJ száma | N73: - | R73: - | W73: Neme: | AA73: ¯
C75: Állampolgársága | L75: ¯
C77: Lakcíme | I77: Irszám. | S77: Település | AE77: út/utca | AI77: hsz.
M79: ép. | Q79: lh. | U79: em. | Y79: ajtó
C81: Telefonszám | J81: + | K81: 36 | M81: / | P81: - | V81: =CONCATENATE(J81,K81," (",N81,") ",Q81) -> +36 () | W81: (+ ország hívószám / Körzetszám - Telefonszám)
C83: Munkaköre/beosztása
C85: Foglalkozása (FEOR)
C87: Foglalkoztatási jogviszonya | AJ87: ¯
C89: Foglalkoztatás jellege | AJ89: ¯
B92: (C) Munkabaleset adatai:
C94: Dátuma: | N94: . | Q94: . | T94: . (ÉÉÉÉ H N)
C96: Időpontja: | M96: óra (0-24) | R96: perc (0-59)
C98: A sérülés, hányadik munkavégzési órában következett be: | X98: óra ( 0-24 )
C100: A sérülés típusa: | AE100: ¯ | AJ100: ¯
C101: Sérült testrész: | AE101: ¯ | AJ101: ¯
C102: Munkavégzés helye: | AE102: ¯ | AJ102: ¯
C103: A baleset földrajzi helye:
C104: Sérülés súlyossága: | AE104: ¯ | AJ104: ¯
C106: Sérülés jellege (szabad szöveges):
C107: Sérülés helyszíne (pontos körülírás):
B110: (D) Munkabaleset részletes leírása | N110: (Az alábbi szövegmezőn belül, új sor beillesztése -> ALT+ENTER)
B126: (E) A munkabalesettel kapcsolatos egyéb információk:
B128: 1. | C128: Munkahelyi környezet: | AJ128: ¯
B129: 2. | C129: Munkafolyamat: | AJ129: ¯
B130: 3. | C130: Sérült konkrét fizikai tevékenysége: | AJ130: ¯
B131: 3.1. | C131: A konkrét fizikai tevékenység anyagi/tárgyi tényezője: | AJ131: ¯
B132: 4. | C132: Balesetet kiváltó különleges esemény: | AJ132: ¯
B133: 4.1. | C133: A különleges esemény anyagi (tárgyi) tényezője: | AJ133: ¯
B134: 5. | C134: A sérülést okozó érintkezés, a sérülés módja: | AJ134: ¯
B135: 5.1. | C135: A sérülést okozó érintkezés anyagi (tárgyi) tényezője: | AJ135: ¯
B137: 6. | C137: Sérült személyi tényezői | AF137: ¯ | AJ137: ¯
C138: Hiányosság (szabálytalanság esetén)
C139: Intézkedés (szabálytalanság esetén)
C140: Határidő | S140: ÉÉÉÉ.H.N (hiányosság esetén)
C141: Dokumentum van?
C143: Más személy szerepe | AF143: ¯ | AJ143: ¯
C144: Hiányosság (szabálytalanság esetén)
C145: Intézkedés (szabálytalanság esetén)
C146: Határidő | S146: ÉÉÉÉ.H.N (hiányosság esetén)
C147: Dokumentum van?
C149: Sérüléssel kapcsolatos tárgyi tényezők
C151: Munkahely kialakítása megfelelő? | O151: ¯ | P151: Igen, Nem, - Nem vonatkozik rá | AI151: =IF(OR(N151="I",N151="-"),1,0) -> 0
C152: Hiányosság (szabálytalanság esetén)
C153: Intézkedés (szabálytalanság esetén)
C154: Határidő | S154: ÉÉÉÉ.H.N (hiányosság esetén)
C155: Dokumentum van?
C157: Talaj, közlekedési viszony megfelelő? | O157: ¯ | P157: Igen, Nem, - Nem vonatkozik rá | AI157: =IF(OR(N157="I",N157="-"),1,0) -> 0
C158: Hiányosság (szabálytalanság esetén)
C159: Intézkedés (szabálytalanság esetén)
C160: Határidő | S160: ÉÉÉÉ.H.N (hiányosság esetén)
C161: Dokumentum van?
C163: Ergonómiai tényezők megfelelőek? | O163: ¯ | P163: Igen, Nem, - Nem vonatkozik rá | AI163: =IF(OR(N163="I",N163="-"),1,0) -> 0
C164: Hiányosság (szabálytalanság esetén)
C165: Intézkedés (szabálytalanság esetén)
C166: Határidő | S166: ÉÉÉÉ.H.N (hiányosság esetén)
C167: Dokumentum van?
C169: Üzemi rend és tisztaság megfelelő? | O169: ¯ | P169: Igen, Nem, - Nem vonatkozik rá | AI169: =IF(OR(N169="I",N169="-"),1,0) -> 0
C170: Hiányosság (szabálytalanság esetén)
C171: Intézkedés (szabálytalanság esetén)
C172: Határidő | S172: ÉÉÉÉ.H.N (hiányosság esetén)
C173: Dokumentum van?
C177: Anyagtárolás módja megfelelő? | O177: ¯ | P177: Igen, Nem, - Nem vonatkozik rá | AI177: =IF(OR(N177="I",N177="-"),1,0) -> 0
C178: Hiányosság (szabálytalanság esetén)
C179: Intézkedés (szabálytalanság esetén)
C180: Határidő | S180: ÉÉÉÉ.H.N (hiányosság esetén)
C181: Dokumentum van?
C183: Tárgyi tényező(k) szerepe
C185: Munkaeszköz neve:
...

Sheet 1.a Munkabaleset minősítése 
R2: Munkabaleset minősítése
R3: (amennyiben a munkáltató nem minősíti az eseményt munkabalesetnek)
B4: A sérült
B5: Neve | I5: ='VIZSGÁLATI DOKUMENTÁCIÓ'!$K$65 -> 0
B7: Születési ideje, | I7: ='VIZSGÁLATI DOKUMENTÁCIÓ'!$K$71 -> 0 | M7: . | N7: ='VIZSGÁLATI DOKUMENTÁCIÓ'!$P$71 -> 0 | P7: . | Q7: ='VIZSGÁLATI DOKUMENTÁCIÓ'!$S$71 -> 0 | S7: . | T7: helye | V7: ='VIZSGÁLATI DOKUMENTÁCIÓ'!$Z$71 -> 0
B9: Anyja neve, | I9: ='VIZSGÁLATI DOKUMENTÁCIÓ'!$K$69 -> 0
B11: Munkaköre/beosztása | K11: ='VIZSGÁLATI DOKUMENTÁCIÓ'!$K$83 -> 0
B13: Sérülés jellege | I13: ='VIZSGÁLATI DOKUMENTÁCIÓ'!$O$106 -> 0
B15: Sérülés helyszíne | I15: ='VIZSGÁLATI DOKUMENTÁCIÓ'!$O$107 -> 0
B18: Tájékoztatom, hogy a | I18: ='VIZSGÁLATI DOKUMENTÁCIÓ'!$K$94 -> 0 | L18: . | M18: ='VIZSGÁLATI DOKUMENTÁCIÓ'!$O$94 -> 0 | O18: . | P18: ='VIZSGÁLATI DOKUMENTÁCIÓ'!$R$94 -> 0 | R18: napján történt eseményt,
B20: (munkáltató megnevezése) | K20: ='VIZSGÁLATI DOKUMENTÁCIÓ'!$K$40 -> 0
B22: (munkáltató adószáma) | M22: ='VIZSGÁLATI DOKUMENTÁCIÓ'!$K$44 -> 0 | U22: - | V22: ='VIZSGÁLATI DOKUMENTÁCIÓ'!$P$44 -> 0 | W22: - | X22: ='VIZSGÁLATI DOKUMENTÁCIÓ'!$R$44 -> 0
B24: (munkáltató adóazonosító jele) | M24: ='VIZSGÁLATI DOKUMENTÁCIÓ'!$AD$44 -> 0
B26: mint munkáltató részéről,
R27: nem minősítem munkabalesetnek
B29: Indoklás:
B30: ='VIZSGÁLATI DOKUMENTÁCIÓ'!$B$9 -> 0
B47: Felhívom a munkavállaló figyelmét, hogy e minősítéssel szemben jogorvoslattal élhet az Mvt.68. § alapján, a területileg illetékes munkavédelmi hatóságnál.
AA49: P.H.
B50: Kelt:
AA53: aláírás
AA54: (munkáltatói jogkör gyakorló)

Sheet 1.b Munkabaleseti nyilvántartás
Y1: év | AC1: sorszám
V2: Nyilvántartási szám: | X2: 20 | Y2: ='VIZSGÁLATI DOKUMENTÁCIÓ'!$P$35 -> 0 | AC2: ='VIZSGÁLATI DOKUMENTÁCIÓ'!$T$35 -> 0
R4: Munkabaleseti nyilvántartás
B6: Munkáltató neve: | J6: ='VIZSGÁLATI DOKUMENTÁCIÓ'!$K$40 -> 0
B8: Adószáma: | J8: ='VIZSGÁLATI DOKUMENTÁCIÓ'!$K$44 -> 0 | R8: - | S8: ='VIZSGÁLATI DOKUMENTÁCIÓ'!$P$44 -> 0 | T8: - | U8: ='VIZSGÁLATI DOKUMENTÁCIÓ'!$R$44 -> 0
B10: (Adóazonosító jele:) | J10: ='VIZSGÁLATI DOKUMENTÁCIÓ'!$AD$44 -> 0
B12: A sérült
B14: Neve: | I14: ='VIZSGÁLATI DOKUMENTÁCIÓ'!$K$65 -> 0
B16: Születési ideje, | I16: ='VIZSGÁLATI DOKUMENTÁCIÓ'!$K$71 -> 0 | M16: . | N16: ='VIZSGÁLATI DOKUMENTÁCIÓ'!$P$71 -> 0 | P16: . | Q16: ='VIZSGÁLATI DOKUMENTÁCIÓ'!$S$71 -> 0 | S16: . | U16: helye: | X16: ='VIZSGÁLATI DOKUMENTÁCIÓ'!$Z$71 -> 0
B18: Anyja neve: | I18: ='VIZSGÁLATI DOKUMENTÁCIÓ'!$K$69 -> 0
B20: TAJ száma: | I20: ='VIZSGÁLATI DOKUMENTÁCIÓ'!$K$73 -> 0 | L20: - | M20: ='VIZSGÁLATI DOKUMENTÁCIÓ'!$O$73 -> 0 | P20: - | Q20: ='VIZSGÁLATI DOKUMENTÁCIÓ'!$S$73 -> 0 | U20: Neme: | X20: ='VIZSGÁLATI DOKUMENTÁCIÓ'!$Z$73 -> 0
B22: Állampolgársága: | K22: ='VIZSGÁLATI DOKUMENTÁCIÓ'!$K$75 -> 0
B24: Lakcíme: | G24: ='VIZSGÁLATI DOKUMENTÁCIÓ'!$G$77 -> 0 | I24: ='VIZSGÁLATI DOKUMENTÁCIÓ'!$K$77 -> 0 | Q24: Település | T24: ='VIZSGÁLATI DOKUMENTÁCIÓ'!$V$77 -> 0 | AC24: út/utca | AE24: ='VIZSGÁLATI DOKUMENTÁCIÓ'!$AG$77 -> 0 | AG24: hsz.
B26: Munkaköre/beosztása: | K26: ='VIZSGÁLATI DOKUMENTÁCIÓ'!$K$83 -> 0
B28: Sérülés ideje: | I28: ='VIZSGÁLATI DOKUMENTÁCIÓ'!$K$94 -> 0 | M28: . | N28: ='VIZSGÁLATI DOKUMENTÁCIÓ'!$O$94 -> 0 | P28: . | Q28: ='VIZSGÁLATI DOKUMENTÁCIÓ'!$R$94 -> 0 | S28: .
B30: Sérülés jellege: | I30: ='VIZSGÁLATI DOKUMENTÁCIÓ'!$O$106 -> 0
B32: Sérülés helyszíne: | I32: ='VIZSGÁLATI DOKUMENTÁCIÓ'!$O$107 -> 0
B34: Folytatta a munkát? | K34: ='VIZSGÁLATI DOKUMENTÁCIÓ'!$P$33 -> 0 | M34: (I - Igen, N - Nem)
B36: A sérült ellátására tett intézkedések (szöveges):
B38: ='VIZSGÁLATI DOKUMENTÁCIÓ'!$B$513 -> 0
B45: Munkáltatói intézkedés(ek) a hasonló balesetek megelőzésére:
B54: Kelt:
AA57: aláírás

Sheet 2. JKV munkablst vizsgálatáról
Y1: év | AC1: sorszám
V2: Nyilvántartási szám: | X2: 20 | Y2: ='VIZSGÁLATI DOKUMENTÁCIÓ'!$P$35 -> 0 | AC2: ='VIZSGÁLATI DOKUMENTÁCIÓ'!$T$35 -> 0
R4: Jegyzőkönyv munkabaleset vizsgálatáról
B7: Készült | I7: . | L7: . | O7: . | P7: napján | Y7: óra | AC7: perctől
B9: Tárgy: | F9: ='VIZSGÁLATI DOKUMENTÁCIÓ'!$K$65 -> 0 | AC9: (név)
F11: ='VIZSGÁLATI DOKUMENTÁCIÓ'!$K$69 -> 0 | AC11: (anyja neve)
B13: Születési ideje, | H13: ='VIZSGÁLATI DOKUMENTÁCIÓ'!$K$71 -> 0 | L13: . | M13: ='VIZSGÁLATI DOKUMENTÁCIÓ'!$P$71 -> 0 | O13: . | P13: ='VIZSGÁLATI DOKUMENTÁCIÓ'!$S$71 -> 0 | R13: . | S13: helye | U13: ='VIZSGÁLATI DOKUMENTÁCIÓ'!$Z$71 -> 0
B15: munkavállaló | H15: ='VIZSGÁLATI DOKUMENTÁCIÓ'!$K$94 -> 0 | L15: . | M15: ='VIZSGÁLATI DOKUMENTÁCIÓ'!$O$94 -> 0 | O15: . | P15: ='VIZSGÁLATI DOKUMENTÁCIÓ'!$R$94 -> 0 | R15: . | S15: napján | W15: ='VIZSGÁLATI DOKUMENTÁCIÓ'!$K$96 -> 0 | Y15: óra | AA15: ='VIZSGÁLATI DOKUMENTÁCIÓ'!$P$96 -> 0 | AC15: perckor bekövetkezett
B16: munkabalesetéről.
B18: Munkáltató
B20: Megnevezése: | J20: ='VIZSGÁLATI DOKUMENTÁCIÓ'!$K$40 -> 0
B22: Adószáma: | J22: ='VIZSGÁLATI DOKUMENTÁCIÓ'!$K$44 -> 0 | O22: - | P22: ='VIZSGÁLATI DOKUMENTÁCIÓ'!$P$44 -> 0 | Q22: - | R22: ='VIZSGÁLATI DOKUMENTÁCIÓ'!$R$44 -> 0
B24: (Adóazonosító jele:) | J24: ='VIZSGÁLATI DOKUMENTÁCIÓ'!$AD$44 -> 0
B26: Székhelye / Lakcíme: | J26: ='VIZSGÁLATI DOKUMENTÁCIÓ'!$K$42 -> 0 | N26: ='VIZSGÁLATI DOKUMENTÁCIÓ'!$P$42 -> 0
B28: Tel., e-mail, egyéb elérhetőség
B30: Jelen vannak
B32: Munkáltató részéről | AC32: (neve, beosztása)
B34: Meghallgatott személy | AC34: (neve, beosztása)
B36: Meghallgatást végző | AC36: (neve, beosztása)
B38: További résztvevő | AC38: (neve, beosztása)
B40: A meghallgatott személynek feltett kérdések és válaszok
A52: Aláírások
A55: Munkáltató részéről | J55: Meghallgatott személy | S55: Meghallgatást végző | AB55: =$B$38 -> További résztvevő
A86: Mást elmondani nem kívánok, észrevételt nem teszek.
A88: A jegyzőkönyv/feljegyzés lezárva: | N88: óra | R88: perckor.
A90: A jegyzőkönyvben foglaltak a valóságnak megfelelnek, azt elolvasás és értelmezés után, mint a valósággal egyezőt
A91: helybenhagyóan aláírjuk. A jegyzőkönyv eredeti példánya a munkabaleset kivizsgálási dokumentáció része.
A92: A jegyzőkönyv egy példányának átvételét a meghallgatott személy aláírásával elismeri.
A94: Aláírások
A97: Munkáltató részéről | J97: Meghallgatott személy | S97: Meghallgatást végző | AB97: =$B$38 -> További résztvevő
R98: Jegyzőkönyv munkabaleset vizsgálatáról - Pótlap
A133: Aláírások
A136: Munkáltató részéről | J136: Meghallgatott személy | S136: Meghallgatást végző | AB136: =$B$38 -> További résztvevő

Sheet 3. MBJKV
A1: 5 évig irattárban megőrzendő! | AF1: év | AJ1: sorszám
AC2: Nyilvántartási szám: | AE2: 20 | AF2: ='VIZSGÁLATI DOKUMENTÁCIÓ'!$P$35 -> 0 | AJ2: ='VIZSGÁLATI DOKUMENTÁCIÓ'!$T$35 -> 0
U4: MUNKABALESETI JEGYZŐKÖNYV
U5: (Az 5/1993. (XII. 26.) MüM rendelet 4/a. melléklete alapján)
U6: Számítógéppel, írógéppel vagy nyomtatott betűvel töltendő ki!
AJ7: Területi kód:
AK9: Adatszolgáltatás jellege:*
B10: (A) A munkáltató adatai:
B12: 1. | C12: Neve: | F12: ='VIZSGÁLATI DOKUMENTÁCIÓ'!$K$40 -> 0
B13: 2. | C13: Címe: | F13: ='VIZSGÁLATI DOKUMENTÁCIÓ'!$K$42 -> 0 | K13: ='VIZSGÁLATI DOKUMENTÁCIÓ'!$P$42 -> 0
B14: 3. | C14: Telefonszám: | H14: ='VIZSGÁLATI DOKUMENTÁCIÓ'!$K$46 -> 36 | J14: / | K14: ='VIZSGÁLATI DOKUMENTÁCIÓ'!$W$46 -> () | U14: Fax: | V14: ='VIZSGÁLATI DOKUMENTÁCIÓ'!$W$48 -> () | AH14: Mobil: | AI14: ='VIZSGÁLATI DOKUMENTÁCIÓ'!$W$47 -> ()
B15: 4. | C15: E-mail címe: | H15: ='VIZSGÁLATI DOKUMENTÁCIÓ'!$K$50 -> 0
B16: 5. | C16: Adószáma: | H16: ='VIZSGÁLATI DOKUMENTÁCIÓ'!$K$44 -> 0 | P16: - | Q16: ='VIZSGÁLATI DOKUMENTÁCIÓ'!$P$44 -> 0 | R16: - | S16: ='VIZSGÁLATI DOKUMENTÁCIÓ'!$R$44 -> 0 | AD16: Adóazonosító jele: | AE16: ='VIZSGÁLATI DOKUMENTÁCIÓ'!$AD$44 -> 0
B17: 6. | C17: Gazdálkodási forma: | K17: ='VIZSGÁLATI DOKUMENTÁCIÓ'!$N$52 -> 0
B18: 7. | C18: Fő tevékenysége (TEÁOR ’08): | N18: ='VIZSGÁLATI DOKUMENTÁCIÓ'!$N$54 -> 0 | AI18: 8. Helyi egység fő tevékenysége (TEÁOR ’08): | AJ18: ='VIZSGÁLATI DOKUMENTÁCIÓ'!$N$56 -> 0
B19: 9. | C19: Összlétszám kategória: | M19: ='VIZSGÁLATI DOKUMENTÁCIÓ'!$N$58 -> 0 | AI19: 10. Helyi egység létszám kategória: | AJ19: ='VIZSGÁLATI DOKUMENTÁCIÓ'!$AE$58 -> 0
B22: (B) A sérült (munkavállaló) adatai:
B24: 1. | C24: Neve: | F24: ='VIZSGÁLATI DOKUMENTÁCIÓ'!$K$65 -> 0 | Y24: 2. | AC24: TAJ száma: | AD24: ='VIZSGÁLATI DOKUMENTÁCIÓ'!$K$73 -> 0 | AG24: - | AH24: ='VIZSGÁLATI DOKUMENTÁCIÓ'!$O$73 -> 0 | AK24: - | AL24: ='VIZSGÁLATI DOKUMENTÁCIÓ'!$S$73 -> 0
B25: 3. | C25: Születési neve: | I25: ='VIZSGÁLATI DOKUMENTÁCIÓ'!$K$67 -> 0 | Y25: 4. | AC25: Anyja neve: | AD25: ='VIZSGÁLATI DOKUMENTÁCIÓ'!$K$69 -> 0
B26: 5. | C26: Születési helye: | I26: ='VIZSGÁLATI DOKUMENTÁCIÓ'!$Z$71 -> 0 | T26: 6. | U26: Születési ideje: | AA26: ='VIZSGÁLATI DOKUMENTÁCIÓ'!$K$71 -> 0 | AE26: év | AG26: ='VIZSGÁLATI DOKUMENTÁCIÓ'!$P$71 -> 0 | AI26: hó | AK26: ='VIZSGÁLATI DOKUMENTÁCIÓ'!$S$71 -> 0 | AM26: nap
B27: 7. | C27: Neme: | F27: ='VIZSGÁLATI DOKUMENTÁCIÓ'!$Z$73 -> 0 | K27: 8. | L27: Állampolgársága: | S27: ='VIZSGÁLATI DOKUMENTÁCIÓ'!$K$75 -> 0
B28: 9. | C28: Lakcíme: | G28: ='VIZSGÁLATI DOKUMENTÁCIÓ'!$G$77 -> 0 | L28: ='VIZSGÁLATI DOKUMENTÁCIÓ'!$K$77 -> 0 | U28: Település | Y28: ='VIZSGÁLATI DOKUMENTÁCIÓ'!$V$77 -> 0 | AI28: út/utca | AL28: ='VIZSGÁLATI DOKUMENTÁCIÓ'!$AG$77 -> 0 | AN28: hsz.
C29: ='VIZSGÁLATI DOKUMENTÁCIÓ'!$K$79 -> 0 | E29: ép. | G29: ='VIZSGÁLATI DOKUMENTÁCIÓ'!$O$79 -> 0 | I29: lh. | K29: ='VIZSGÁLATI DOKUMENTÁCIÓ'!$S$79 -> 0 | M29: em. | O29: ='VIZSGÁLATI DOKUMENTÁCIÓ'!$W$79 -> 0 | Q29: ajtó | AA29: 10. | AB29: Telefonszáma: | AG29: ='VIZSGÁLATI DOKUMENTÁCIÓ'!$V$81 -> +36 ()
B30: 11. | C30: Foglalkozása (FEOR): | K30: ='VIZSGÁLATI DOKUMENTÁCIÓ'!$K$85 -> 0 | T30: ='VIZSGÁLATI DOKUMENTÁCIÓ'!$T$85 -> 0 | AA30: 12. | AB30: Foglalkoztatási jogviszonya: | AL30: ='VIZSGÁLATI DOKUMENTÁCIÓ'!$L$87 -> 0
B31: 13. | C31: Foglalkoztatás jellege: | L31: ='VIZSGÁLATI DOKUMENTÁCIÓ'!$L$89 -> 0
B34: (C) A munkabaleset adatai:
B36: 1. | C36: Dátuma: | G36: ='VIZSGÁLATI DOKUMENTÁCIÓ'!$K$94 -> 0 | J36: év | L36: ='VIZSGÁLATI DOKUMENTÁCIÓ'!$O$94 -> 0 | N36: hó | P36: ='VIZSGÁLATI DOKUMENTÁCIÓ'!$R$94 -> 0 | R36: nap | AI36: 2. Időpontja (óra: 24 órás időszámítás): | AK36: ='VIZSGÁLATI DOKUMENTÁCIÓ'!$K$96 -> 0
B37: 3. | C37: Sérülés a munkavégzés hányadik órájában: | S37: ='VIZSGÁLATI DOKUMENTÁCIÓ'!$V$98 -> 0
B38: 4. | C38: A sérülés típusa: | I38: ='VIZSGÁLATI DOKUMENTÁCIÓ'!$K$100 -> 0 | T38: ='VIZSGÁLATI DOKUMENTÁCIÓ'!$AG$100 -> 0 | AC38: 5. A sérült testrész: | AD38: ='VIZSGÁLATI DOKUMENTÁCIÓ'!$K$101 -> 0 | AM38: ='VIZSGÁLATI DOKUMENTÁCIÓ'!$AH$101 -> 0
B39: 6. | C39: A munkavégzés helye: | K39: ='VIZSGÁLATI DOKUMENTÁCIÓ'!$AI$102 -> 0 | V39: 7. A baleset földrajzi helye: | W39: ='VIZSGÁLATI DOKUMENTÁCIÓ'!$K$103 -> 0 | AI39: ='VIZSGÁLATI DOKUMENTÁCIÓ'!$AF$103 -> 0
B40: 8. | C40: A sérülés súlyossága | K40: ='VIZSGÁLATI DOKUMENTÁCIÓ'!$AI$104 -> 0 | AK40: 9. A munkaképtelenség időtartama:
B43: (D) A munkabaleset részletes leírása: | AO43: (A baleset leírása külön lapon folytatható!)
A44: ='VIZSGÁLATI DOKUMENTÁCIÓ'!$C$112 -> 0
B57: * (1) új / (2) tartalom módosító / (3) törlés a nyilvántartásból / (4) munkaképtelennapok számát közlő
B58: (E) A munkabalesettel kapcsolatos egyéb információk:
B60: 1. | D60: Munkahelyi környezet: | K60: ='VIZSGÁLATI DOKUMENTÁCIÓ'!$S$128 -> 0
B61: 2. | D61: Munkafolyamat: | K61: ='VIZSGÁLATI DOKUMENTÁCIÓ'!$S$129 -> 0
B62: 3. | D62: Sérült konkrét fizikai tevékenysége: | O62: ='VIZSGÁLATI DOKUMENTÁCIÓ'!$S$130 -> 0
B63: 3.1. | D63: A konkrét fizikai tevékenység anyagi (tárgyi) tényezője: | R63: ='VIZSGÁLATI DOKUMENTÁCIÓ'!$S$131 -> 0
B64: 4. | D64: Balesetet kiváltó különleges esemény: | O64: ='VIZSGÁLATI DOKUMENTÁCIÓ'!$S$132 -> 0
B65: 4.1. | D65: A különleges esemény anyagi (tárgyi) tényezője: | P65: ='VIZSGÁLATI DOKUMENTÁCIÓ'!$S$133 -> 0
B66: 5. | D66: A sérülést okozó érintkezés, a sérülés módja: | R66: ='VIZSGÁLATI DOKUMENTÁCIÓ'!$S$134 -> 0
B67: 5.1. | D67: A sérülést okozó érintkezés anyagi (tárgyi) tényezője: | R67: ='VIZSGÁLATI DOKUMENTÁCIÓ'!$S$135 -> 0
B68: 6. | D68: Személyi tényező(k): | K68: S | M68: ='VIZSGÁLATI DOKUMENTÁCIÓ'!$N$137 -> 0 | X68: ='VIZSGÁLATI DOKUMENTÁCIÓ'!$AH$137 -> 0 | Z68: M | AB68: ='VIZSGÁLATI DOKUMENTÁCIÓ'!$N$143 -> 0 | AM68: ='VIZSGÁLATI DOKUMENTÁCIÓ'!$AH$143 -> 0
B70: 7. | C70: A biztonsági- és jelzőberendezések, egyéni védőeszközök, egyéb védelmi megoldások alkalmassága:
F71: 7.1. | M71: 7.2. | T71: 7.3. | AB71: 7.4. | AL71: 7.5.
B72: Védőburkolat | F72: ='VIZSGÁLATI DOKUMENTÁCIÓ'!$L$208 -> 0 | L72: Védőberendezés | M72: ='VIZSGÁLATI DOKUMENTÁCIÓ'!$L$209 -> 0 | S72: Jelzőberendezés | T72: ='VIZSGÁLATI DOKUMENTÁCIÓ'!$L$210 -> 0 | AA72: Egyéni védőeszköz | AB72: ='VIZSGÁLATI DOKUMENTÁCIÓ'!$L$211 -> 0 | AK72: Egyéb védelmi megoldás | AL72: ='VIZSGÁLATI DOKUMENTÁCIÓ'!$L$212 -> 0
B75: (F) A balesethez vezető ok /okok:
A76: ='VIZSGÁLATI DOKUMENTÁCIÓ'!$B$504 -> 0
B81: (G) Munkáltatói intézkedés(ek) a hasonló balesetek megelőzésére:
B89: (H) Mellékletek, megjegyzések:
A90: ='VIZSGÁLATI DOKUMENTÁCIÓ'!$B$522 -> 0
B97: (I) A kivizsgálást végzők adatai, hitelesítések:
B98: 1. | C98: Munkavédelmi képviselő: | K98: ='VIZSGÁLATI DOKUMENTÁCIÓ'!$M$537 -> 0 | M98: A kivizsgálással: (1) Egyetért / (2) Nem ért egyet / (3) Nem vett részt / (4) Nincs képviselő
C99: Név: | E99: ='VIZSGÁLATI DOKUMENTÁCIÓ'!$F$539 -> 0 | Y99: Dátum: | Z99: ='VIZSGÁLATI DOKUMENTÁCIÓ'!$F$540 -> 0 | AE99: Aláírás: | AH99: ...…………………………
B100: 2. | C100: A baleset kivizsgálását végezte:
C101: Név: | E101: ='VIZSGÁLATI DOKUMENTÁCIÓ'!$F$544 -> 0 | Y101: Dátum: | Z101: ='VIZSGÁLATI DOKUMENTÁCIÓ'!$F$545 -> 0 | AE101: Aláírás: | AH101: ...…………………………
C102: Mv. képzettséget igazoló irat száma: | N102: ='VIZSGÁLATI DOKUMENTÁCIÓ'!$N$546 -> 0
B103: 3. | C103: Résztvevő foglalkozás-egészségügyi orvos:
C104: Név: | E104: ='VIZSGÁLATI DOKUMENTÁCIÓ'!$P$27 -> 0 | Y104: Dátum: | Z104: ='VIZSGÁLATI DOKUMENTÁCIÓ'!$F$552 -> 0 | AE104: Aláírás: | AH104: ...…………………………
C105: Orvos pecsétszáma: | N105: ='VIZSGÁLATI DOKUMENTÁCIÓ'!$I$553 -> 0
B106: 4. | C106: Munkáltató képviselője:
C107: Név: | E107: ='VIZSGÁLATI DOKUMENTÁCIÓ'!$F$557 -> 0 | Q107: Beosztás: | R107: ='VIZSGÁLATI DOKUMENTÁCIÓ'!$F$558 -> 0 | Y107: Dátum: | Z107: ='VIZSGÁLATI DOKUMENTÁCIÓ'!$F$559 -> 0 | AE107: Aláírás: | AH107: ...…………………………
B109: (J) A jegyzőkönyvet ellenőrző munkavédelmi hatóság:
B110: Megjegyzés:
C112: Név: | Q112: Ig. szám: | Y112: Dátum: | AE112: Aláírás: | AH112: ...…………………………

Sheet 4. Felhívás
Y1: év | AC1: sorszám
V2: Nyilvántartási szám: | X2: 20 | Y2: ='VIZSGÁLATI DOKUMENTÁCIÓ'!$P$35 -> 0 | AC2: ='VIZSGÁLATI DOKUMENTÁCIÓ'!$T$35 -> 0
R4: Felhívás a munkaviszonnyal összefüggésben bekövetkezett kár bejelentésére
B7: Név: | I7: ='VIZSGÁLATI DOKUMENTÁCIÓ'!$K$65 -> 0
B8: (Sérült vagy hozzátartozója)
B10: Munkaköre/beosztása: | K10: ='VIZSGÁLATI DOKUMENTÁCIÓ'!$K$83 -> 0
B12: Lakcíme: | G12: ='1.b Munkabaleseti nyilvántartás'!$G$24 -> 0 | I12: ='1.b Munkabaleseti nyilvántartás'!$I$24 -> 0 | Q12: Település | T12: ='1.b Munkabaleseti nyilvántartás'!$T$24 -> 0 | AC12: közter. | AE12: ='1.b Munkabaleseti nyilvántartás'!$AE$24 -> 0 | AG12: hsz.
B14: A Munka Törvénykönyvéről szóló 2012. évi I. törvény 166-168. §-ai alapján
R16: felhívom,
B18: hogy amennyiben a | I18: ='VIZSGÁLATI DOKUMENTÁCIÓ'!$K$94 -> 0 | L18: . | M18: ='VIZSGÁLATI DOKUMENTÁCIÓ'!$O$94 -> 0 | O18: . | P18: ='VIZSGÁLATI DOKUMENTÁCIÓ'!$R$94 -> 0 | R18: . | S18: napján történt munkabalesetével összefüggésben
B19: kárt szenvedett, az ezzel kapcsolatos igényét szíveskedjék mielőbb a
AC21: nek bejelenteni.
B25: Tájékoztatom, hogy kártérítési igénye kérdésében a bejelentés kézhezvételétől számított
O26: napon belül döntök,
B28: és döntésemről Önnek írásbeli, indoklással kiegészített választ adok.
B29: Felhívom a figyelmét, hogy a bejelentéssel ne késlekedjék, mivel a kárigény az esedékességtől számított három év elteltével (vagy külön jogszabályban meghatározott későbbi időpontban) elévül. Ha a kárigény bejelentésében akadályoztatva van, erről értesítsen. A kárigény kiterjed az elmaradt jövedelemre, a dologi kárra, a felmerült és indokolt költségekre, valamint a sérelemdíjra. Kérem, hogy bejelentését eszerint részletezve és összesítve, indokolva tegye meg, továbbá lehetőség szerint, saját névre kiállított számlákkal igazolja költségeit."
B43: Kelt: | AA43: P.H.
AA47: aláírás
AA48: (munkáltatói jogkör gyakorló)

Sheet Listák
C1: Területi kód | G1: Adatszolgáltatás jellege | K1: [A9, A10] Létszám kategória | O1: Nem | R1: Állampolgárság | V1: A munkavégzés helye | Y1: [C4] A sérülés típusa (Kód szerint rendezve) | AC1: [C4] A sérülés típusa (Név szerint rendezve) | AG1: [C5] A sérült testrész (Kód szerint rendezve) | AK1: [C5] A sérült testrész (Név szerint rendezve) | AO1: [C6] A munkavégzési hely | AS1: [C8] A sérülés súlyossága | AW1: [E1] Munkahelyi környezet | BA1: [E2] - Munkafolyamat | BE1: [E3] - A sérült konkrét fizikai tevékenysége | BI1: [E 3.1 - 4.1 - 5.1] Anyagi tényezők | BM1: [E4] Balesetet kivalto különleges esemény (Megnevezés szerint rendezve) | BQ1: [E5] Sérülés módja (Megnevezés szerint rendezve) | BU1: [E6] Személyi tényező (Kód szerint rendezve) | BY1: [E7] A biztonsági és jelző berendezések, egyéni védőeszközök, egyéb védelmi megoldások alkalmasság | CC1: [I1] Munkavédelmi képviselő | CF1: [I3] Résztvevő foglalkozás-egészségügyi orvos | CJ1: [B12] Foglalkoztatási jogviszonya | CN1: [B13] Foglalkoztatás jellege
A2: I/N | C2: Kód | D2: Terület | E2: Kód + Terület | G2: Kód | H2: Megnevezés | I2: Kód + Megnevezés | K2: Kategória | L2: Megjelölés | M2: Kód + Megnevezés | O2: Kategória | P2: Megjelölés | R2: Kategória | S2: Megnevezés | T2: Kód + Megnevezés | V2: Kategória | W2: Megjelölés | Y2: Kód | Z2: Megjelölés | AA2: Megnevezés + Kód | AC2: Kód | AD2: Megjelölés | AE2: Megnevezés + Kód | AG2: Kód | AH2: Megjelölés | AI2: Megnevezés + Kód | AK2: Kód | AL2: Megjelölés | AM2: Megnevezés + Kód | AO2: Kód | AP2: Megjelölés | AQ2: Megnevezés + Kód | AS2: Kód | AT2: Megjelölés | AU2: Megnevezés + Kód | AW2: Kód | AX2: Megnevezés | AY2: Megnevezés + Kód | BA2: Kód | BB2: Megnevezés | BC2: Megnevezés + Kód | BE2: Kód | BF2: Megnevezés | BG2: Megnevezés + Kód | BI2: Kód | BJ2: Megnevezés | BK2: Megnevezés + Kód | BM2: Kód | BN2: Megnevezés | BO2: Megnevezés + Kód | BQ2: Kód | BR2: Megnevezés | BS2: Megnevezés + Kód | BU2: Kód | BV2: Megjelölés | BW2: Megnevezés + Kód | BY2: Kód | BZ2: Megjelölés | CA2: Kód + Megnevezés | CC2: Kód | CD2: Megnevezés | CF2: Kód | CG2: Megnevezés | CH2: Kód + Megnevezés | CJ2: Kód | CK2: Megnevezés | CL2: Kód + Megnevezés | CN2: Kód | CO2: Megnevezés | CP2: Kód + Megnevezés
A3: I | C3: 01 | D3: Budapest | E3: =CONCATENATE(C3," - ",D3) -> 01 - Budapest | G3: 1 | H3: Új | I3: =CONCATENATE(G3," - ",H3) -> 1 - Új | K3: 0 | L3: Nincs munkavállaló | M3: =CONCATENATE(K3," - ",L3) -> 0 - Nincs munkavállaló | O3: 1 | P3: Férfi | R3: 0 | S3: Ismeretlen állampolgárságú | T3: =CONCATENATE(R3," - ",S3) -> 0 - Ismeretlen állampolgárságú | V3: 1 | W3: Szokásos munkavégzési hely | Y3: 000 | Z3: Meg nem határozott, illetve ismeretlen sérülés típus | AA3: =CONCATENATE(Z3," - ",Y3) -> Meg nem határozott, illetve ismeretlen sérülés típus - 000 | AC3: 109 | AD3: A szélsőséges hőmérséklet, fény, illetve sugárzás egyéb hatásai | AE3: =CONCATENATE(AD3," - ",AC3) -> A szélsőséges hőmérséklet, fény, illetve sugárzás egyéb hatásai - 109 | AG3: 00 | AH3: A sérült testrész nem határozható meg | AI3: =CONCATENATE(AH3," - ",AG3) -> A sérült testrész nem határozható meg - 00 | AK3: 00 | AL3: A sérült testrész nem határozható meg | AM3: =CONCATENATE(AL3," - ",AK3) -> A sérült testrész nem határozható meg - 00 | AO3: 1 | AP3: Szokásos munkavégzési hely | AQ3: =CONCATENATE(AP3," - ",AO3) -> Szokásos munkavégzési hely - 1 | AS3: 0 | AT3: Nem súlyos munkabaleset, a munkaképtelenség időtartama 1-3 munkanap | AU3: =CONCATENATE(AT3," - ",AS3) -> Nem súlyos munkabaleset, a munkaképtelenség időtartama 1-3 munkanap - 0 | AW3: 00000 | AX3: Nincs információ | AY3: =CONCATENATE(AW3," - ",AX3) -> 00000 - Nincs információ | BA3: 00 | BB3: Nincs információ | BC3: =CONCATENATE(BA3," - ",BB3) -> 00 - Nincs információ | BE3: 00 | BF3: Nincs információ | BG3: =CONCATENATE(BE3," - ",BF3) -> 00 - Nincs információ | BI3: 0001000 | BJ3: Nincs anyagi tényező | BK3: =CONCATENATE(BI3," - ",BJ3) -> 0001000 - Nincs anyagi tényező | BM3: 00 | BN3: Nincs információ | BO3: =CONCATENATE(BN3," - ",BM3) -> Nincs információ - 00 | BQ3: 00 | BR3: Nincs információ | BS3: =CONCATENATE(BR3," - ",BQ3) -> Nincs információ - 00 | BU3: 00 | BV3: A személyi tényezőknek nem volt szerepe a balesetben | BW3: =CONCATENATE(BV3," - ",BU3) -> A személyi tényezőknek nem volt szerepe a balesetben - 00 | BY3: 1 | BZ3: Alkalmas, rendeltetésszerűen használták | CA3: =CONCATENATE(BY3," - ",BZ3) -> 1 - Alkalmas, rendeltetésszerűen használták | CC3: 1 | CD3: Egyetért | CF3: 1 | CG3: Részt vett | CH3: =CONCATENATE(CF3," - ",CG3) -> 1 - Részt vett | CJ3: 000 | CK3: Foglalkoztatási jogviszony ismeretlen | CL3: =CONCATENATE(CJ3," - ",CK3) -> 000 - Foglalkoztatási jogviszony ismeretlen | CN3: 01 | CO3: Munkaviszony (kivéve: a természetes személy munkáltató háztartásában egyszerűsített foglalkoztatás keretében történő munkavégzés) | CP3: =CONCATENATE(CN3," - ",CO3) -> 01 - Munkaviszony (kivéve: a természetes személy munkáltató háztartásában egyszerűsített foglalkoztatás keretében történő munkavégzés)
A4: N | C4: 02 | D4: Baranya | E4: =CONCATENATE(C4," - ",D4) -> 02 - Baranya | G4: 2 | H4: Tartalom módosító | I4: =CONCATENATE(G4," - ",H4) -> 2 - Tartalom módosító | K4: 1 | L4: 1-9 fő munkavállaló | M4: =CONCATENATE(K4," - ",L4) -> 1 - 1-9 fő munkavállaló | O4: 2 | P4: Nő | R4: 1 | S4: Magyar állampolgár | T4: =CONCATENATE(R4," - ",S4) -> 1 - Magyar állampolgár | V4: 2 | W4: Változó munkavégzési hely | Y4: 011 | Z4: Felületi sérülés | AA4: =CONCATENATE(Z4," - ",Y4) -> Felületi sérülés - 011 | AC4: 111 | AD4: Agresszió és fenyegetés hatására fellépő sokk | AE4: =CONCATENATE(AD4," - ",AC4) -> Agresszió és fenyegetés hatására fellépő sokk - 111 | AG4: 11 | AH4: Fej, agy és agyidegek, agyi erek, véredények | AI4: =CONCATENATE(AH4," - ",AG4) -> Fej, agy és agyidegek, agyi erek, véredények - 11 | AK4: 59 | AL4: A felső végtagok fent nem említett egyéb részei | AM4: =CONCATENATE(AL4," - ",AK4) -> A felső végtagok fent nem említett egyéb részei - 59 | AO4: 2 | AP4: Változó munkavégzési hely | AQ4: =CONCATENATE(AP4," - ",AO4) -> Változó munkavégzési hely - 2 | AS4: 1 | AT4: Nem súlyos munkabaleset, a munkaképtelenség időtartama meghaladja a 3 munkanapot | AU4: =CONCATENATE(AT4," - ",AS4) -> Nem súlyos munkabaleset, a munkaképtelenség időtartama meghaladja a 3 munkanapot - 1 | AW4: 09300 | AX4: A levegőben, légi jármű fedélzetén lévő terület | AY4: =CONCATENATE(AW4," - ",AX4) -> 09300 - A levegőben, légi jármű fedélzetén lévő terület | BA4: 01 | BB4: A lakosság számára nyújtott szolgáltatás, ellátás, segítség | BC4: =CONCATENATE(BA4," - ",BB4) -> 01 - A lakosság számára nyújtott szolgáltatás, ellátás, segítség | BE4: 47 | BF4: (Fiók) kihúzása, (raktár-, iroda-, szekrényajtó) tolása | BG4: =CONCATENATE(BE4," - ",BF4) -> 47 - (Fiók) kihúzása, (raktár-, iroda-, szekrényajtó) tolása | BI4: 0002000 | BJ4: Nincs információ | BK4: =CONCATENATE(BI4," - ",BJ4) -> 0002000 - Nincs információ | BM4: 43 | BN4: A (motoros vagy nem motoros) kéziszerszám vagy a kéziszerszámmal megmunkált tárgy feletti irányítás (részleges vagy teljes) elvesztése | BO4: =CONCATENATE(BN4," - ",BM4) -> A (motoros vagy nem motoros) kéziszerszám vagy a kéziszerszámmal megmunkált tárgy feletti irányítás (részleges vagy teljes) elvesztése - 43 | BQ4: 45 | BR4: A mozgásban lévő sérült ütközése tárggyal - ideértve a járművet is -, illetve személlyel | BS4: =CONCATENATE(BR4," - ",BQ4) -> A mozgásban lévő sérült ütközése tárggyal - ideértve a járművet is -, illetve személlyel - 45 | BU4: 01 | BV4: Képzetlenség, szakképzetlenség | BW4: =CONCATENATE(BV4," - ",BU4) -> Képzetlenség, szakképzetlenség - 01 | BY4: 2 | BZ4: Alkalmas, nem rendeltetésszerűen használták | CA4: =CONCATENATE(BY4," - ",BZ4) -> 2 - Alkalmas, nem rendeltetésszerűen használták | CC4: 2 | CD4: Nem ért egyet | CF4: 2 | CG4: Nem vett részt | CH4: =CONCATENATE(CF4," - ",CG4) -> 2 - Nem vett részt | CJ4: 100 | CK4: Önfoglalkoztató | CL4: =CONCATENATE(CJ4," - ",CK4) -> 100 - Önfoglalkoztató | CN4: 02 | CO4: Közfoglalkoztatási jogviszony | CP4: =CONCATENATE(CN4," - ",CO4) -> 02 - Közfoglalkoztatási jogviszony
A5: - | C5: 03 | D5: Bács-Kiskun | E5: =CONCATENATE(C5," - ",D5) -> 03 - Bács-Kiskun | G5: 3 | H5: Törlés a nyilvántartásból | I5: =CONCATENATE(G5," - ",H5) -> 3 - Törlés a nyilvántartásból | K5: 2 | L5: 10-49 fő munkavállaló | M5: =CONCATENATE(K5," - ",L5) -> 2 - 10-49 fő munkavállaló | O5: 0 | R5: 2 | S5: Más EU-tagállam állampolgára | T5: =CONCATENATE(R5," - ",S5) -> 2 - Más EU-tagállam állampolgára | V5: 9 | W5: Egyéb munkavégzési hely | Y5: 012 | Z5: Nyílt sebek | AA5: =CONCATENATE(Z5," - ",Y5) -> Nyílt sebek - 012 | AC5: 051 | AD5: Agyrázkódás és koponyán belüli sérülések | AE5: =CONCATENATE(AD5," - ",AC5) -> Agyrázkódás és koponyán belüli sérülések - 051 | AG5: 12 | AH5: Arc | AI5: =CONCATENATE(AH5," - ",AG5) -> Arc - 12 | AK5: 39 | AL5: A hát fent nem említett egyéb részei | AM5: =CONCATENATE(AL5," - ",AK5) -> A hát fent nem említett egyéb részei - 39 | AO5: 9 | AP5: Egyéb munkavégzési hely | AQ5: =CONCATENATE(AP5," - ",AO5) -> Egyéb munkavégzési hely - 9 | AS5: 2 | AT5: Nem súlyos csonkulással járó munkabaleset | AU5: =CONCATENATE(AT5," - ",AS5) -> Nem súlyos csonkulással járó munkabaleset - 2 | AW5: 09200 | AX5: A magasban lévő terület - árboc, pilon, függesztett állvány | AY5: =CONCATENATE(AW5," - ",AX5) -> 09200 - A magasban lévő terület - árboc, pilon, függesztett állvány | BA5: 02 | BB5: A raktározás valamennyi típusa | BC5: =CONCATENATE(BA5," - ",BB5) -> 02 - A raktározás valamennyi típusa | BE5: 11 | BF5: A gép elindítása, leállítása | BG5: =CONCATENATE(BE5," - ",BF5) -> 11 - A gép elindítása, leállítása | BI5: 502190 | BJ5: Akkumulátor telep | BK5: =CONCATENATE(BI5," - ",BJ5) -> 502190 - Akkumulátor telep | BM5: 42 | BN5: A (motoros vagy nem motoros) közlekedési eszköz vagy anyagmozgató gép feletti irányítás (részleges vagy teljes) elvesztése | BO5: =CONCATENATE(BN5," - ",BM5) -> A (motoros vagy nem motoros) közlekedési eszköz vagy anyagmozgató gép feletti irányítás (részleges vagy teljes) elvesztése - 42 | BQ5: 71 | BR5: A vázizomrendszer fizikai igénybevétele | BS5: =CONCATENATE(BR5," - ",BQ5) -> A vázizomrendszer fizikai igénybevétele - 71 | BU5: 02 | BV5: Gyakorlatlanság | BW5: =CONCATENATE(BV5," - ",BU5) -> Gyakorlatlanság - 02 | BY5: 3 | BZ5: Alkalmas, nem használták | CA5: =CONCATENATE(BY5," - ",BZ5) -> 3 - Alkalmas, nem használták | CC5: 3 | CD5: Nem vett részt | CF5: 3 | CG5: Nincs orvos | CH5: =CONCATENATE(CF5," - ",CG5) -> 3 - Nincs orvos | CJ5: 311 | CK5: Határozatlan idejű (állandó) munkaviszony, teljes munkaidőben | CL5: =CONCATENATE(CJ5," - ",CK5) -> 311 - Határozatlan idejű (állandó) munkaviszony, teljes munkaidőben | CN5: 03 | CO5: Kormányzati szolgálati jogviszony | CP5: =CONCATENATE(CN5," - ",CO5) -> 03 - Kormányzati szolgálati jogviszony
C6: 04 | D6: Békés | E6: =CONCATENATE(C6," - ",D6) -> 04 - Békés | G6: 4 | H6: Munkaképtelen napok számát közlő | I6: =CONCATENATE(G6," - ",H6) -> 4 - Munkaképtelen napok számát közlő | K6: 3 | L6: 50-249 fő munkavállaló | M6: =CONCATENATE(K6," - ",L6) -> 3 - 50-249 fő munkavállaló | R6: 3 | S6: EU-tagállamon kívüli ország állampolgára | T6: =CONCATENATE(R6," - ",S6) -> 3 - EU-tagállamon kívüli ország állampolgára | Y6: 019 | Z6: Egyéb típusú sebek és felületi sérülések | AA6: =CONCATENATE(Z6," - ",Y6) -> Egyéb típusú sebek és felületi sérülések - 019 | AC6: 103 | AD6: Alacsony hőmérséklet hatásai | AE6: =CONCATENATE(AD6," - ",AC6) -> Alacsony hőmérséklet hatásai - 103 | AG6: 13 | AH6: Szem(ek) | AI6: =CONCATENATE(AH6," - ",AG6) -> Szem(ek) - 13 | AK6: 29 | AL6: A nyak fent nem említett egyéb részei, (pl. nyakszírt, a nyak izmai) | AM6: =CONCATENATE(AL6," - ",AK6) -> A nyak fent nem említett egyéb részei, (pl. nyakszírt, a nyak izmai) - 29 | AS6: 3 | AT6: Súlyos csonkulásos munkabaleset | AU6: =CONCATENATE(AT6," - ",AS6) -> Súlyos csonkulásos munkabaleset - 3 | AW6: 09100 | AX6: A magasban, rögzített szinten lévő terület (tető, terasz stb.) | AY6: =CONCATENATE(AW6," - ",AX6) -> 09100 - A magasban, rögzített szinten lévő terület (tető, terasz stb.) | BA6: 03 | BB6: A termelés, gyártás, feldolgozás valamennyi típusa | BC6: =CONCATENATE(BA6," - ",BB6) -> 03 - A termelés, gyártás, feldolgozás valamennyi típusa | BE6: 13 | BF6: A gép ellenőrzése, valamint működtetése vagy vezetése | BG6: =CONCATENATE(BE6," - ",BF6) -> 13 - A gép ellenőrzése, valamint működtetése vagy vezetése | BI6: 301020 | BJ6: Akna, csatorna | BK6: =CONCATENATE(BI6," - ",BJ6) -> 301020 - Akna, csatorna | BM6: 44 | BN6: A (mozgatott, szállított, kezelt stb.) tárgy feletti irányítás (részleges vagy teljes) elvesztése | BO6: =CONCATENATE(BN6," - ",BM6) -> A (mozgatott, szállított, kezelt stb.) tárgy feletti irányítás (részleges vagy teljes) elvesztése - 44 | BQ6: 62 | BR6: Beszorulás, összezúzódás tárgy alá/alatt | BS6: =CONCATENATE(BR6," - ",BQ6) -> Beszorulás, összezúzódás tárgy alá/alatt - 62 | BU6: 03 | BV6: Egészségi okok (eü. alkalmatlanság, egyéb abnormális élettani hatás) | BW6: =CONCATENATE(BV6," - ",BU6) -> Egészségi okok (eü. alkalmatlanság, egyéb abnormális élettani hatás) - 03 | BY6: 4 | BZ6: Alkalmatlan, rendeltetésszerűen használták | CA6: =CONCATENATE(BY6," - ",BZ6) -> 4 - Alkalmatlan, rendeltetésszerűen használták | CC6: 4 | CD6: Nincs képviselő | CJ6: 312 | CK6: Határozatlan idejű (állandó) munkaviszony, részmunkaidőben | CL6: =CONCATENATE(CJ6," - ",CK6) -> 312 - Határozatlan idejű (állandó) munkaviszony, részmunkaidőben | CN6: 04 | CO6: Állami szolgálati jogviszony | CP6: =CONCATENATE(CN6," - ",CO6) -> 04 - Állami szolgálati jogviszony
C7: 05 | D7: Borsod-Abaúj-Zemplén | E7: =CONCATENATE(C7," - ",D7) -> 05 - Borsod-Abaúj-Zemplén | K7: 4 | L7: 250-499 fő munkavállaló | M7: =CONCATENATE(K7," - ",L7) -> 4 - 250-499 fő munkavállaló | Y7: 021 | Z7: Zárt törések | AA7: =CONCATENATE(Z7," - ",Y7) -> Zárt törések - 021 | AC7: 052 | AD7: Belső sérülések | AE7: =CONCATENATE(AD7," - ",AC7) -> Belső sérülések - 052 | AG7: 14 | AH7: Fül(ek) | AI7: =CONCATENATE(AH7," - ",AG7) -> Fül(ek) - 14 | AK7: 78 | AL7: A test több része sérült | AM7: =CONCATENATE(AL7," - ",AK7) -> A test több része sérült - 78 | AS7: 4 | AT7: Halálos munkabaleset (sérült, magzata, újszülöttje) | AU7: =CONCATENATE(AT7," - ",AS7) -> Halálos munkabaleset (sérült, magzata, újszülöttje) - 4 | AW7: 01086 | AX7: Akkumulátor-telep és töltőberendezések munkahelyei | AY7: =CONCATENATE(AW7," - ",AX7) -> 01086 - Akkumulátor-telep és töltőberendezések munkahelyei | BA7: 04 | BB7: Ásatás, földmunka | BC7: =CONCATENATE(BA7," - ",BB7) -> 04 - Ásatás, földmunka | BE7: 12 | BF7: A gép feltöltése, kiürítése | BG7: =CONCATENATE(BE7," - ",BF7) -> 12 - A gép feltöltése, kiürítése | BI7: 901210 | BJ7: Alagútfúró | BK7: =CONCATENATE(BI7," - ",BJ7) -> 901210 - Alagútfúró | BM7: 82 | BN7: A munkáltató felügyelete alá tartozó munkavállalók közötti erőszak, agresszió, fenyegetés | BO7: =CONCATENATE(BN7," - ",BM7) -> A munkáltató felügyelete alá tartozó munkavállalók közötti erőszak, agresszió, fenyegetés - 82 | BQ7: 63 | BR7: Beszorulás, összezúzódás tárgyak közé/között | BS7: =CONCATENATE(BR7," - ",BQ7) -> Beszorulás, összezúzódás tárgyak közé/között - 63 | BU7: 04 | BV7: Alkoholos befolyásoltság | BW7: =CONCATENATE(BV7," - ",BU7) -> Alkoholos befolyásoltság - 04 | BY7: 5 | BZ7: Alkalmatlan, nem rendeltetésszerűen használták | CA7: =CONCATENATE(BY7," - ",BZ7) -> 5 - Alkalmatlan, nem rendeltetésszerűen használták | CJ7: 321 | CK7: Határozott idejű (ideiglenes) munkaviszony, teljes munkaidőben | CL7: =CONCATENATE(CJ7," - ",CK7) -> 321 - Határozott idejű (ideiglenes) munkaviszony, teljes munkaidőben | CN7: 05 | CO7: Közszolgálati jogviszony | CP7: =CONCATENATE(CN7," - ",CO7) -> 05 - Közszolgálati jogviszony
C8: 06 | D8: Csongrád-Csanád | E8: =CONCATENATE(C8," - ",D8) -> 06 - Csongrád-Csanád | K8: 5 | L8: 500 vagy több munkavállaló | M8: =CONCATENATE(K8," - ",L8) -> 5 - 500 vagy több munkavállaló | Y8: 022 | Z8: Nyílt törések | AA8: =CONCATENATE(Z8," - ",Y8) -> Nyílt törések - 022 | AC8: 061 | AD8: Égési sérülések, forrázások (hőhatás miatt) | AE8: =CONCATENATE(AD8," - ",AC8) -> Égési sérülések, forrázások (hőhatás miatt) - 061 | AG8: 15 | AH8: Fogak | AI8: =CONCATENATE(AH8," - ",AG8) -> Fogak - 15 | AK8: 49 | AL8: A törzs fent nem említett részei | AM8: =CONCATENATE(AL8," - ",AK8) -> A törzs fent nem említett részei - 49 | AS8: 5 | AT8: Önálló életvezetést gátló maradandó károsodás | AU8: =CONCATENATE(AT8," - ",AS8) -> Önálló életvezetést gátló maradandó károsodás - 5 | AW8: 01040 | AX8: Alakos betonidom darabok, építőelemek, mészhomokkövek gyártásának helyei | AY8: =CONCATENATE(AW8," - ",AX8) -> 01040 - Alakos betonidom darabok, építőelemek, mészhomokkövek gyártásának helyei | BA8: 05 | BB8: Átépítés, tatarozás, bővítés, épület-karbantartás - valamennyi épülettípus | BC8: =CONCATENATE(BA8," - ",BB8) -> 05 - Átépítés, tatarozás, bővítés, épület-karbantartás - valamennyi épülettípus | BE8: 62 | BF8: Be- és kiszállás | BG8: =CONCATENATE(BE8," - ",BF8) -> 62 - Be- és kiszállás | BI8: 1012033 | BJ8: Aligátorollók | BK8: =CONCATENATE(BI8," - ",BJ8) -> 1012033 - Aligátorollók | BM8: 85 | BN8: A sérült vagy harmadik személy puszta jelenléte, amely saját magára és feltehetőleg másokra is veszélyt jelentő jelenléte | BO8: =CONCATENATE(BN8," - ",BM8) -> A sérült vagy harmadik személy puszta jelenléte, amely saját magára és feltehetőleg másokra is veszélyt jelentő jelenléte - 85 | BQ8: 61 | BR8: Beszorulás, összezúzódás tárgyba/tárgyban | BS8: =CONCATENATE(BR8," - ",BQ8) -> Beszorulás, összezúzódás tárgyba/tárgyban - 61 | BU8: 05 | BV8: Gyógyszer hatása | BW8: =CONCATENATE(BV8," - ",BU8) -> Gyógyszer hatása - 05 | BY8: 6 | BZ8: Alkalmatlan, nem használták | CA8: =CONCATENATE(BY8," - ",BZ8) -> 6 - Alkalmatlan, nem használták | CJ8: 322 | CK8: Határozott idejű (ideiglenes) munkaviszony, részmunkaidőben | CL8: =CONCATENATE(CJ8," - ",CK8) -> 322 - Határozott idejű (ideiglenes) munkaviszony, részmunkaidőben | CN8: 06 | CO8: Közalkalmazotti jogviszony | CP8: =CONCATENATE(CN8," - ",CO8) -> 06 - Közalkalmazotti jogviszony
C9: 07 | D9: Fejér | E9: =CONCATENATE(C9," - ",D9) -> 07 - Fejér | K9: 9 | L9: A munkavállalók száma ismeretlen | M9: =CONCATENATE(K9," - ",L9) -> 9 - A munkavállalók száma ismeretlen | Y9: 029 | Z9: Egyéb típusú csonttörések | AA9: =CONCATENATE(Z9," - ",Y9) -> Egyéb típusú csonttörések - 029 | AC9: 059 | AD9: Egyéb típusú agyrázkódás, illetve belső sérülések | AE9: =CONCATENATE(AD9," - ",AC9) -> Egyéb típusú agyrázkódás, illetve belső sérülések - 059 | AG9: 18 | AH9: Többszörös fejsérülés | AI9: =CONCATENATE(AH9," - ",AG9) -> Többszörös fejsérülés - 18 | AK9: 68 | AL9: Alsó végtagok több helyen sérültek | AM9: =CONCATENATE(AL9," - ",AK9) -> Alsó végtagok több helyen sérültek - 68 | AS9: 6 | AT9: Valamely érzékszerv (v. érzékelő képesség) és a reprodukciós képesség elvesztésével, ill. jelentős mértékű károsodásával járó munkabaleset | AU9: =CONCATENATE(AT9," - ",AS9) -> Valamely érzékszerv (v. érzékelő képesség) és a reprodukciós képesség elvesztésével, ill. jelentős mértékű károsodásával járó munkabaleset - 6 | AW9: 03100 | AX9: Állattenyésztési terület | AY9: =CONCATENATE(AW9," - ",AX9) -> 03100 - Állattenyésztési terület | BA9: 06 | BB9: Bontás - valamennyi épülettípus | BC9: =CONCATENATE(BA9," - ",BB9) -> 06 - Bontás - valamennyi épülettípus | BE9: 45 | BF9: Doboz, köteg, csomag felnyitása, lezárása | BG9: =CONCATENATE(BE9," - ",BF9) -> 45 - Doboz, köteg, csomag felnyitása, lezárása | BI9: 714020 | BJ9: Álló hajszárító | BK9: =CONCATENATE(BI9," - ",BJ9) -> 714020 - Álló hajszárító | BM9: 62 | BN9: Adott tárgyra térdelés, ráülés, nekitámaszkodás | BO9: =CONCATENATE(BN9," - ",BM9) -> Adott tárgyra térdelés, ráülés, nekitámaszkodás - 62 | BQ9: 19 | BR9: Egyéb, a 10. csoportba tartozó, a fentiekben fel nem sorolt érintkezés és sérülési mód | BS9: =CONCATENATE(BR9," - ",BQ9) -> Egyéb, a 10. csoportba tartozó, a fentiekben fel nem sorolt érintkezés és sérülési mód - 19 | BU9: 06 | BV9: Kábítószer hatása | BW9: =CONCATENATE(BV9," - ",BU9) -> Kábítószer hatása - 06 | BY9: 7 | BZ9: Szükséges, de nem volt | CA9: =CONCATENATE(BY9," - ",BZ9) -> 7 - Szükséges, de nem volt | CJ9: 500 | CK9: Tanuló vagy hallgató (szakmai, gyakorlati képzés esetén) | CL9: =CONCATENATE(CJ9," - ",CK9) -> 500 - Tanuló vagy hallgató (szakmai, gyakorlati képzés esetén) | CN9: 07 | CO9: Bíró szolgálati jogviszony | CP9: =CONCATENATE(CN9," - ",CO9) -> 07 - Bíró szolgálati jogviszony
C10: 08 | D10: Győr-Moson-Sopron | E10: =CONCATENATE(C10," - ",D10) -> 08 - Győr-Moson-Sopron | M10: =CONCATENATE(K10," - ",L10) -> - | Y10: 031 | Z10: Ficamok | AA10: =CONCATENATE(Z10," - ",Y10) -> Ficamok - 031 | AC10: 029 | AD10: Egyéb típusú csonttörések | AE10: =CONCATENATE(AD10," - ",AC10) -> Egyéb típusú csonttörések - 029 | AG10: 19 | AH10: Fej fent nem említett egyéb részeinek sérülése | AI10: =CONCATENATE(AH10," - ",AG10) -> Fej fent nem említett egyéb részeinek sérülése - 19 | AK10: 12 | AL10: Arc | AM10: =CONCATENATE(AL10," - ",AK10) -> Arc - 12 | AS10: 7 | AT10: Orvosi vélemény szerint életveszélyes sérüléssel, károsodással járó munkabaleset | AU10: =CONCATENATE(AT10," - ",AS10) -> Orvosi vélemény szerint életveszélyes sérüléssel, károsodással járó munkabaleset - 7 | AW10: 06206 | AX10: Anyagmozgató-, földmunkagép egyébrésze | AY10: =CONCATENATE(AW10," - ",AX10) -> 06206 - Anyagmozgató-, földmunkagép egyébrésze | BA10: 07 | BB10: Egyéb, a 10. csoportba tartozó, a fentiekben fel nem sorolt munkafolyamat | BC10: =CONCATENATE(BA10," - ",BB10) -> 07 - Egyéb, a 10. csoportba tartozó, a fentiekben fel nem sorolt munkafolyamat | BE10: 19 | BF10: Egyéb, a 10. csoportba tartozó, a fentiekben fel nem sorolt konkrét fizikai tevékenység | BG10: =CONCATENATE(BE10," - ",BF10) -> 19 - Egyéb, a 10. csoportba tartozó, a fentiekben fel nem sorolt konkrét fizikai tevékenység | BI10: 202020 | BJ10: Állványoszlopok, portáloszlopok, átjárók, félemeletek, vezetékoszlopok | BK10: =CONCATENATE(BI10," - ",BJ10) -> 202020 - Állványoszlopok, portáloszlopok, átjárók, félemeletek, vezetékoszlopok | BM10: 84 | BN10: Állat általi agresszió, felöklelés, fellökés | BO10: =CONCATENATE(BN10," - ",BM10) -> Állat általi agresszió, felöklelés, fellökés - 84 | BQ10: 29 | BR10: Egyéb, a 20. csoportba tartozó, a fentiekben fel nem sorolt érintkezés és sérülési mód | BS10: =CONCATENATE(BR10," - ",BQ10) -> Egyéb, a 20. csoportba tartozó, a fentiekben fel nem sorolt érintkezés és sérülési mód - 29 | BU10: 07 | BV10: Oktatás hiánya | BW10: =CONCATENATE(BV10," - ",BU10) -> Oktatás hiánya - 07 | BY10: 8 | BZ10: Nem szükséges | CA10: =CONCATENATE(BY10," - ",BZ10) -> 8 - Nem szükséges | CJ10: 900 | CK10: Egyéb foglalkoztatási jogviszony | CL10: =CONCATENATE(CJ10," - ",CK10) -> 900 - Egyéb foglalkoztatási jogviszony | CN10: 08 | CO10: Igazságügyi alkalmazottak szolgálati jogviszonya | CP10: =CONCATENATE(CN10," - ",CO10) -> 08 - Igazságügyi alkalmazottak szolgálati jogviszonya
C11: 09 | D11: Hajdu-Bihar | E11: =CONCATENATE(C11," - ",D11) -> 09 - Hajdu-Bihar | Y11: 032 | Z11: Húzódások, rándulások | AA11: =CONCATENATE(Z11," - ",Y11) -> Húzódások, rándulások - 032 | AC11: 069 | AD11: Egyéb típusú égési, fagyási sérülések és forrázások | AE11: =CONCATENATE(AD11," - ",AC11) -> Egyéb típusú égési, fagyási sérülések és forrázások - 069 | AG11: 21 | AH11: Nyak, a nyaki gerinccel és csigolyákkal együtt | AI11: =CONCATENATE(AH11," - ",AG11) -> Nyak, a nyaki gerinccel és csigolyákkal együtt - 21 | AK11: 69 | AL11: Az alsó végtagok fent nem említett egyéb részei | AM11: =CONCATENATE(AL11," - ",AK11) -> Az alsó végtagok fent nem említett egyéb részei - 69 | AS11: 8 | AT11: A beszélőképesség elvesztésével, feltűnő torzulással, bénulással, elmezavarral járó munkabaleset | AU11: =CONCATENATE(AT11," - ",AS11) -> A beszélőképesség elvesztésével, feltűnő torzulással, bénulással, elmezavarral járó munkabaleset - 8 | AW11: 06205 | AX11: Anyagmozgató-, földmunkagép vezetőállása | AY11: =CONCATENATE(AW11," - ",AX11) -> 06205 - Anyagmozgató-, földmunkagép vezetőállása | BA11: 08 | BB11: Egyéb, a 20. csoportba tartozó, a fentiekben fel nem sorolt munkafolyamat | BC11: =CONCATENATE(BA11," - ",BB11) -> 08 - Egyéb, a 20. csoportba tartozó, a fentiekben fel nem sorolt munkafolyamat | BE11: 29 | BF11: Egyéb, a 20. csoportba tartozó, a fentiekben fel nem sorolt konkrét fizikai tevékenység | BG11: =CONCATENATE(BE11," - ",BF11) -> 29 - Egyéb, a 20. csoportba tartozó, a fentiekben fel nem sorolt konkrét fizikai tevékenység | BI11: 204010 | BJ11: Állványzat (nem mozgatható) | BK11: =CONCATENATE(BI11," - ",BJ11) -> 204010 - Állványzat (nem mozgatható) | BM11: 31 | BN11: Anyag törése illesztési helyen, varratnál | BO11: =CONCATENATE(BN11," - ",BM11) -> Anyag törése illesztési helyen, varratnál - 31 | BQ11: 39 | BR11: Egyéb, a 30. csoportba tartozó, a fentiekben fel nem sorolt érintkezés és sérülési mód | BS11: =CONCATENATE(BR11," - ",BQ11) -> Egyéb, a 30. csoportba tartozó, a fentiekben fel nem sorolt érintkezés és sérülési mód - 39 | BU11: 08 | BV11: Figyelmetlenség | BW11: =CONCATENATE(BV11," - ",BU11) -> Figyelmetlenség - 08 | CL11: =CONCATENATE(CJ11," - ",CK11) -> - | CN11: 09 | CO11: Ügyészségi szolgálati jogviszony | CP11: =CONCATENATE(CN11," - ",CO11) -> 09 - Ügyészségi szolgálati jogviszony
C12: 10 | D12: Heves | E12: =CONCATENATE(C12," - ",D12) -> 10 - Heves | Y12: 039 | Z12: Egyéb típusú ficamok, húzódások, rándulások | AA12: =CONCATENATE(Z12," - ",Y12) -> Egyéb típusú ficamok, húzódások, rándulások - 039 | AC12: 039 | AD12: Egyéb típusú ficamok, húzódások, rándulások | AE12: =CONCATENATE(AD12," - ",AC12) -> Egyéb típusú ficamok, húzódások, rándulások - 039 | AG12: 29 | AH12: A nyak fent nem említett egyéb részei, (pl. nyakszírt, a nyak izmai) | AI12: =CONCATENATE(AH12," - ",AG12) -> A nyak fent nem említett egyéb részei, (pl. nyakszírt, a nyak izmai) - 29 | AK12: 63 | AL12: Boka | AM12: =CONCATENATE(AL12," - ",AK12) -> Boka - 63 | AW12: 06114 | AX12: Ártér, gát, zsilip | AY12: =CONCATENATE(AW12," - ",AX12) -> 06114 - Ártér, gát, zsilip | BA12: 09 | BB12: Egyéb, a 30. csoportba tartozó, a fentiekben fel nem sorolt munkafolyamat | BC12: =CONCATENATE(BA12," - ",BB12) -> 09 - Egyéb, a 30. csoportba tartozó, a fentiekben fel nem sorolt munkafolyamat | BE12: 39 | BF12: Egyéb, a 30. csoportba tartozó, a fentiekben fel nem sorolt konkrét fizikai tevékenység | BG12: =CONCATENATE(BE12," - ",BF12) -> 39 - Egyéb, a 30. csoportba tartozó, a fentiekben fel nem sorolt konkrét fizikai tevékenység | BI12: 1402010 | BJ12: Alvázak, motorházak, burkolatok | BK12: =CONCATENATE(BI12," - ",BJ12) -> 1402010 - Alvázak, motorházak, burkolatok | BM12: 34 | BN12: Anyagi tényező csúszása, esése, dőlése alulról (a sérültet magával rántva) | BO12: =CONCATENATE(BN12," - ",BM12) -> Anyagi tényező csúszása, esése, dőlése alulról (a sérültet magával rántva) - 34 | BQ12: 49 | BR12: Egyéb, a 40. csoportba tartozó, a fentiekben fel nem sorolt érintkezés és sérülési mód | BS12: =CONCATENATE(BR12," - ",BQ12) -> Egyéb, a 40. csoportba tartozó, a fentiekben fel nem sorolt érintkezés és sérülési mód - 49 | BU12: 09 | BV12: Fegyelmezetlenség, szabályszegő, utasítás ellenes magatartás, tevékenység | BW12: =CONCATENATE(BV12," - ",BU12) -> Fegyelmezetlenség, szabályszegő, utasítás ellenes magatartás, tevékenység - 09 | CN12: 10 | CO12: Rendvédelmi és katonai feladatokat ellátó szervek hivatásos állományának szolgálati jogviszonya | CP12: =CONCATENATE(CN12," - ",CO12) -> 10 - Rendvédelmi és katonai feladatokat ellátó szervek hivatásos állományának szolgálati jogviszonya
C13: 11 | D13: Komárom-Esztergom | E13: =CONCATENATE(C13," - ",D13) -> 11 - Komárom-Esztergom | Y13: 040 | Z13: Traumás amputáció [testrész(ek) elvesztése] | AA13: =CONCATENATE(Z13," - ",Y13) -> Traumás amputáció [testrész(ek) elvesztése] - 040 | AC13: 079 | AD13: Egyéb típusú mérgezések és fertőzések | AE13: =CONCATENATE(AD13," - ",AC13) -> Egyéb típusú mérgezések és fertőzések - 079 | AG13: 31 | AH13: Hát a hátgerinccel és hátcsigolyákkal együtt | AI13: =CONCATENATE(AH13," - ",AG13) -> Hát a hátgerinccel és hátcsigolyákkal együtt - 31 | AK13: 61 | AL13: Csípő és csípőízület | AM13: =CONCATENATE(AL13," - ",AK13) -> Csípő és csípőízület - 61 | AW13: 01105 | AX13: Asztalosműhely | AY13: =CONCATENATE(AW13," - ",AX13) -> 01105 - Asztalosműhely | BA13: 10 | BB13: Egyéb, a 40. csoportba tartozó, a fentiekben fel nem sorolt munkafolyamat | BC13: =CONCATENATE(BA13," - ",BB13) -> 10 - Egyéb, a 40. csoportba tartozó, a fentiekben fel nem sorolt munkafolyamat | BE13: 49 | BF13: Egyéb, a 40. csoportba tartozó, a fentiekben fel nem sorolt konkrét fizikai tevékenység | BG13: =CONCATENATE(BE13," - ",BF13) -> 49 - Egyéb, a 40. csoportba tartozó, a fentiekben fel nem sorolt konkrét fizikai tevékenység | BI13: 812000 | BJ13: Anyagbefogás céljára szolgáló eszköz | BK13: =CONCATENATE(BI13," - ",BJ13) -> 812000 - Anyagbefogás céljára szolgáló eszköz | BM13: 35 | BN13: Anyagi tényező csúszása, esése, dőlése azonos szinten | BO13: =CONCATENATE(BN13," - ",BM13) -> Anyagi tényező csúszása, esése, dőlése azonos szinten - 35 | BQ13: 69 | BR13: Egyéb, a 60. csoportba tartozó, a fentiekben fel nem sorolt érintkezés és sérülési mód | BS13: =CONCATENATE(BR13," - ",BQ13) -> Egyéb, a 60. csoportba tartozó, a fentiekben fel nem sorolt érintkezés és sérülési mód - 69 | BU13: 10 | BV13: Egyéb, a besorolásban nem szereplő személyi tényező | BW13: =CONCATENATE(BV13," - ",BU13) -> Egyéb, a besorolásban nem szereplő személyi tényező - 10 | CN13: 11 | CO13: Szövetkezeti tagság esetén a munkaviszony jellegű jogviszony | CP13: =CONCATENATE(CN13," - ",CO13) -> 11 - Szövetkezeti tagság esetén a munkaviszony jellegű jogviszony
C14: 12 | D14: Nógrád | E14: =CONCATENATE(C14," - ",D14) -> 12 - Nógrád | Y14: 051 | Z14: Agyrázkódás és koponyán belüli sérülések | AA14: =CONCATENATE(Z14," - ",Y14) -> Agyrázkódás és koponyán belüli sérülések - 051 | AC14: 019 | AD14: Egyéb típusú sebek és felületi sérülések | AE14: =CONCATENATE(AD14," - ",AC14) -> Egyéb típusú sebek és felületi sérülések - 019 | AG14: 39 | AH14: A hát fent nem említett egyéb részei | AI14: =CONCATENATE(AH14," - ",AG14) -> A hát fent nem említett egyéb részei - 39 | AK14: 55 | AL14: Csukló | AM14: =CONCATENATE(AL14," - ",AK14) -> Csukló - 55 | AW14: 06107 | AX14: Átjáró, felüljáró, aluljáró (jármű- és gyalogos forgalom) | AY14: =CONCATENATE(AW14," - ",AX14) -> 06107 - Átjáró, felüljáró, aluljáró (jármű- és gyalogos forgalom) | BA14: 11 | BB14: Egyéb, a 60. csoportba tartozó, a fentiekben fel nem sorolt munkafolyamat | BC14: =CONCATENATE(BA14," - ",BB14) -> 11 - Egyéb, a 60. csoportba tartozó, a fentiekben fel nem sorolt munkafolyamat | BE14: 69 | BF14: Egyéb, a 60. csoportba tartozó, a fentiekben fel nem sorolt konkrét fizikai tevékenység | BG14: =CONCATENATE(BE14," - ",BF14) -> 69 - Egyéb, a 60. csoportba tartozó, a fentiekben fel nem sorolt konkrét fizikai tevékenység | BI14: 809000 | BJ14: Anyagkitermelés, talajmegmunkálás céljára szolgáló eszköz | BK14: =CONCATENATE(BI14," - ",BJ14) -> 809000 - Anyagkitermelés, talajmegmunkálás céljára szolgáló eszköz | BM14: 33 | BN14: Anyagi tényező csúszása, esése, dőlése felülről (a sérültre esve) | BO14: =CONCATENATE(BN14," - ",BM14) -> Anyagi tényező csúszása, esése, dőlése felülről (a sérültre esve) - 33 | BQ14: 79 | BR14: Egyéb, a 70. csoportba tartozó, a fentiekben fel nem sorolt érintkezés és sérülési mód | BS14: =CONCATENATE(BR14," - ",BQ14) -> Egyéb, a 70. csoportba tartozó, a fentiekben fel nem sorolt érintkezés és sérülési mód - 79 | CN14: 12 | CO14: Szakképző iskolákban a tanulói jogviszony keretében a szakmai képzési követelmények teljesülése során végzett munka | CP14: =CONCATENATE(CN14," - ",CO14) -> 12 - Szakképző iskolákban a tanulói jogviszony keretében a szakmai képzési követelmények teljesülése során végzett munka
C15: 13 | D15: Pest | E15: =CONCATENATE(C15," - ",D15) -> 13 - Pest | Y15: 052 | Z15: Belső sérülések | AA15: =CONCATENATE(Z15," - ",Y15) -> Belső sérülések - 052 | AC15: 089 | AD15: Egyéb típusú vízbefulladás és fulladás | AE15: =CONCATENATE(AD15," - ",AC15) -> Egyéb típusú vízbefulladás és fulladás - 089 | AG15: 41 | AH15: Mellkas, bordák az ízületekkel és a lapockákkal együtt | AI15: =CONCATENATE(AH15," - ",AG15) -> Mellkas, bordák az ízületekkel és a lapockákkal együtt - 41 | AK15: 71 | AL15: Egész test (általános szervezeti hatások) | AM15: =CONCATENATE(AL15," - ",AK15) -> Egész test (általános szervezeti hatások) - 71 | AW15: 01018 | AX15: Automata gépsor | AY15: =CONCATENATE(AW15," - ",AX15) -> 01018 - Automata gépsor | BA15: 12 | BB15: Egyéb, az 50. csoportba tartozó, a fentiekben fel nem sorolt munkafolyamat | BC15: =CONCATENATE(BA15," - ",BB15) -> 12 - Egyéb, az 50. csoportba tartozó, a fentiekben fel nem sorolt munkafolyamat | BE15: 59 | BF15: Egyéb, az 50. csoportba tartozó, a fentiekben fel nem sorolt konkrét fizikai tevékenység | BG15: =CONCATENATE(BE15," - ",BF15) -> 59 - Egyéb, az 50. csoportba tartozó, a fentiekben fel nem sorolt konkrét fizikai tevékenység | BI15: 1017026 | BJ15: Áramfejlesztőgépek | BK15: =CONCATENATE(BI15," - ",BJ15) -> 1017026 - Áramfejlesztőgépek | BM15: 45 | BN15: Az állat feletti irányítás (részleges vagy teljes) elvesztése | BO15: =CONCATENATE(BN15," - ",BM15) -> Az állat feletti irányítás (részleges vagy teljes) elvesztése - 45 | BQ15: 89 | BR15: Egyéb, a 80. csoportba tartozó, a fentiekben fel nem sorolt érintkezés és sérülési mód | BS15: =CONCATENATE(BR15," - ",BQ15) -> Egyéb, a 80. csoportba tartozó, a fentiekben fel nem sorolt érintkezés és sérülési mód - 89 | CN15: 13 | CO15: Tanulószerződés alapján végzett munka | CP15: =CONCATENATE(CN15," - ",CO15) -> 13 - Tanulószerződés alapján végzett munka
C16: 14 | D16: Somogy | E16: =CONCATENATE(C16," - ",D16) -> 14 - Somogy | Y16: 059 | Z16: Egyéb típusú agyrázkódás, illetve belső sérülések | AA16: =CONCATENATE(Z16," - ",Y16) -> Egyéb típusú agyrázkódás, illetve belső sérülések - 059 | AC16: 999 | AD16: Egyéb, más kategóriába nem sorolható sérülések | AE16: =CONCATENATE(AD16," - ",AC16) -> Egyéb, más kategóriába nem sorolható sérülések - 999 | AG16: 42 | AH16: Mellkasi terület a belső szervekkel | AI16: =CONCATENATE(AH16," - ",AG16) -> Mellkasi terület a belső szervekkel - 42 | AK16: 19 | AL16: Fej fent nem említett egyéb részeinek sérülése | AM16: =CONCATENATE(AL16," - ",AK16) -> Fej fent nem említett egyéb részeinek sérülése - 19 | AW16: 07200 | AX16: Az épület közös használatban lévő részei, melléképületek, saját családi kert | AY16: =CONCATENATE(AW16," - ",AX16) -> 07200 - Az épület közös használatban lévő részei, melléképületek, saját családi kert | BA16: 13 | BB16: Erdőgazdálkodási jellegű munka | BC16: =CONCATENATE(BA16," - ",BB16) -> 13 - Erdőgazdálkodási jellegű munka | BE16: 65 | BF16: Felállás, leülés | BG16: =CONCATENATE(BE16," - ",BF16) -> 65 - Felállás, leülés | BI16: 1007290 | BJ16: Aranyozó prés, domborító prés (ny) | BK16: =CONCATENATE(BI16," - ",BJ16) -> 1007290 - Aranyozó prés, domborító prés (ny) | BM16: 11 | BN16: Berendezés meghibásodása miatt bekövetkezett, közvetett érintkezéshez vezető elektromos hiba | BO16: =CONCATENATE(BN16," - ",BM16) -> Berendezés meghibásodása miatt bekövetkezett, közvetett érintkezéshez vezető elektromos hiba - 11 | BQ16: 99 | BR16: Egyéb, a fentiekben fel nem sorolt érintkezés – sérülési mód | BS16: =CONCATENATE(BR16," - ",BQ16) -> Egyéb, a fentiekben fel nem sorolt érintkezés – sérülési mód - 99 | CN16: 14 | CO16: Hallgatói jogviszonyban a gyakorlati képzés során végzett munka | CP16: =CONCATENATE(CN16," - ",CO16) -> 14 - Hallgatói jogviszonyban a gyakorlati képzés során végzett munka
C17: 15 | D17: Szabolcs-Szatmár-Bereg | E17: =CONCATENATE(C17," - ",D17) -> 15 - Szabolcs-Szatmár-Bereg | Y17: 061 | Z17: Égési sérülések, forrázások (hőhatás miatt) | AA17: =CONCATENATE(Z17," - ",Y17) -> Égési sérülések, forrázások (hőhatás miatt) - 061 | AC17: 063 | AD17: Fagyási sérülések | AE17: =CONCATENATE(AD17," - ",AC17) -> Fagyási sérülések - 063 | AG17: 43 | AH17: Medence és has a belső szervekkel | AI17: =CONCATENATE(AH17," - ",AG17) -> Medence és has a belső szervekkel - 43 | AK17: 11 | AL17: Fej, agy és agyidegek, agyi erek, véredények | AM17: =CONCATENATE(AL17," - ",AK17) -> Fej, agy és agyidegek, agyi erek, véredények - 11 | AW17: 08100 | AX17: Beltéri sportterület – sportcsarnok, tornaterem, fedett uszoda | AY17: =CONCATENATE(AW17," - ",AX17) -> 08100 - Beltéri sportterület – sportcsarnok, tornaterem, fedett uszoda | BA17: 14 | BB17: Felállítás, előkészítés, telepítés, felszerelés, szétszerelés, leszerelés | BC17: =CONCATENATE(BA17," - ",BB17) -> 14 - Felállítás, előkészítés, telepítés, felszerelés, szétszerelés, leszerelés | BE17: 51 | BF17: Függőleges mozgatás - tárgy felemelése, feltartása, leeresztése | BG17: =CONCATENATE(BE17," - ",BF17) -> 51 - Függőleges mozgatás - tárgy felemelése, feltartása, leeresztése | BI17: 1013044 | BJ17: Aranyozóprés | BK17: =CONCATENATE(BI17," - ",BJ17) -> 1013044 - Aranyozóprés | BM17: 19 | BN17: Egyéb, a 10. csoportba tartozó, a fentiekben fel nem sorolt rendellenesség | BO17: =CONCATENATE(BN17," - ",BM17) -> Egyéb, a 10. csoportba tartozó, a fentiekben fel nem sorolt rendellenesség - 19 | BQ17: 59 | BR17: Egyéb, az 50. csoportba tartozó, a fentiekben fel nem sorolt érintkezés és sérülési mód | BS17: =CONCATENATE(BR17," - ",BQ17) -> Egyéb, az 50. csoportba tartozó, a fentiekben fel nem sorolt érintkezés és sérülési mód - 59 | CN17: 15 | CO17: Elítéltként vagy egyéb jogcímen fogvatartottként végzett munka | CP17: =CONCATENATE(CN17," - ",CO17) -> 15 - Elítéltként vagy egyéb jogcímen fogvatartottként végzett munka
C18: 16 | D18: Jász-Nagykun-Szolnok | E18: =CONCATENATE(C18," - ",D18) -> 16 - Jász-Nagykun-Szolnok | Y18: 062 | Z18: Vegyi anyag (marás) okozta égési sérülések | AA18: =CONCATENATE(Z18," - ",Y18) -> Vegyi anyag (marás) okozta égési sérülések - 062 | AC18: 011 | AD18: Felületi sérülés | AE18: =CONCATENATE(AD18," - ",AC18) -> Felületi sérülés - 011 | AG18: 48 | AH18: Törzs több helyen sérült | AI18: =CONCATENATE(AH18," - ",AG18) -> Törzs több helyen sérült - 48 | AK18: 58 | AL18: Felső végtagok, több helyen sérültek | AM18: =CONCATENATE(AL18," - ",AK18) -> Felső végtagok, több helyen sérültek - 58 | AW18: 01106 | AX18: Bognárműhely | AY18: =CONCATENATE(AW18," - ",AX18) -> 01106 - Bognárműhely | BA18: 15 | BB18: Gyártási folyamatok, munkaterületek, szállítóeszközök, berendezések ellenőrzése, vizsgálata ellenőrző felszereléssel vagy anélkül | BC18: =CONCATENATE(BA18," - ",BB18) -> 15 - Gyártási folyamatok, munkaterületek, szállítóeszközök, berendezések ellenőrzése, vizsgálata ellenőrző felszereléssel vagy anélkül | BE18: 67 | BF18: Helyben végzett mozgás | BG18: =CONCATENATE(BE18," - ",BF18) -> 67 - Helyben végzett mozgás | BI18: 901110 | BJ18: Ároktömörítő gép (döngölő, ill. juhláb-henger, stb.) | BK18: =CONCATENATE(BI18," - ",BJ18) -> 901110 - Ároktömörítő gép (döngölő, ill. juhláb-henger, stb.) | BM18: 29 | BN18: Egyéb, a 20. csoportba tartozó, a fentiekben fel nem sorolt rendellenesség | BO18: =CONCATENATE(BN18," - ",BM18) -> Egyéb, a 20. csoportba tartozó, a fentiekben fel nem sorolt rendellenesség - 29 | BQ18: 12 | BR18: Elektromossággal való közvetlen érintkezés, elektromos töltés testbe jutása | BS18: =CONCATENATE(BR18," - ",BQ18) -> Elektromossággal való közvetlen érintkezés, elektromos töltés testbe jutása - 12 | CN18: 16 | CO18: Szabálysértési eljárás során alkalmazott közérdekű munka | CP18: =CONCATENATE(CN18," - ",CO18) -> 16 - Szabálysértési eljárás során alkalmazott közérdekű munka
C19: 17 | D19: Tolna | E19: =CONCATENATE(C19," - ",D19) -> 17 - Tolna | Y19: 063 | Z19: Fagyási sérülések | AA19: =CONCATENATE(Z19," - ",Y19) -> Fagyási sérülések - 063 | AC19: 031 | AD19: Ficamok | AE19: =CONCATENATE(AD19," - ",AC19) -> Ficamok - 031 | AG19: 49 | AH19: A törzs fent nem említett részei | AI19: =CONCATENATE(AH19," - ",AG19) -> A törzs fent nem említett részei - 49 | AK19: 15 | AL19: Fogak | AM19: =CONCATENATE(AL19," - ",AK19) -> Fogak - 15 | AW19: 01080 | AX19: Bőrgyártás munkahelyei | AY19: =CONCATENATE(AW19," - ",AX19) -> 01080 - Bőrgyártás munkahelyei | BA19: 16 | BB19: Halgazdálkodás, halászat | BC19: =CONCATENATE(BA19," - ",BB19) -> 16 - Halgazdálkodás, halászat | BE19: 61 | BF19: Járás, futás, felmenés, lemenés stb. | BG19: =CONCATENATE(BE19," - ",BF19) -> 61 - Járás, futás, felmenés, lemenés stb. | BI19: 609010 | BJ19: Ásó | BK19: =CONCATENATE(BI19," - ",BJ19) -> 609010 - Ásó | BM19: 39 | BN19: Egyéb, a 30. csoportba tartozó, a fentiekben fel nem sorolt rendellenesség | BO19: =CONCATENATE(BN19," - ",BM19) -> Egyéb, a 30. csoportba tartozó, a fentiekben fel nem sorolt rendellenesség - 39 | BQ19: 51 | BR19: Éles anyagi tényezővel (kés, penge stb.) való érintkezés | BS19: =CONCATENATE(BR19," - ",BQ19) -> Éles anyagi tényezővel (kés, penge stb.) való érintkezés - 51 | CN19: 17 | CO19: Büntetőügyben kiszabott közérdekű munka | CP19: =CONCATENATE(CN19," - ",CO19) -> 17 - Büntetőügyben kiszabott közérdekű munka
C20: 18 | D20: Vas | E20: =CONCATENATE(C20," - ",D20) -> 18 - Vas | Y20: 069 | Z20: Egyéb típusú égési, fagyási sérülések és forrázások | AA20: =CONCATENATE(Z20," - ",Y20) -> Egyéb típusú égési, fagyási sérülések és forrázások - 069 | AC20: 081 | AD20: Fulladások | AE20: =CONCATENATE(AD20," - ",AC20) -> Fulladások - 081 | AG20: 51 | AH20: Váll és vállízület (vállcsúcs, kulcscsont) | AI20: =CONCATENATE(AH20," - ",AG20) -> Váll és vállízület (vállcsúcs, kulcscsont) - 51 | AK20: 14 | AL20: Fül(ek) | AM20: =CONCATENATE(AL20," - ",AK20) -> Fül(ek) - 14 | AW20: 01079 | AX20: Cellulóz-, papír- és kartongyártás munkahelyei | AY20: =CONCATENATE(AW20," - ",AX20) -> 01079 - Cellulóz-, papír- és kartongyártás munkahelyei | BA20: 17 | BB20: Hulladékgazdálkodás, ártalmatlanítás, a hulladékkezelés valamennyi típusa | BC20: =CONCATENATE(BA20," - ",BB20) -> 17 - Hulladékgazdálkodás, ártalmatlanítás, a hulladékkezelés valamennyi típusa | BE20: 70 | BF20: Jelenlét | BG20: =CONCATENATE(BE20," - ",BF20) -> 70 - Jelenlét | BI20: 102010 | BJ20: Aszfalt | BK20: =CONCATENATE(BI20," - ",BJ20) -> 102010 - Aszfalt | BM20: 49 | BN20: Egyéb, a 40. csoportba tartozó, a fentiekben fel nem sorolt rendellenesség | BO20: =CONCATENATE(BN20," - ",BM20) -> Egyéb, a 40. csoportba tartozó, a fentiekben fel nem sorolt rendellenesség - 49 | BQ20: 42 | BR20: Eső tárgy által mért ütés | BS20: =CONCATENATE(BR20," - ",BQ20) -> Eső tárgy által mért ütés - 42 | CN20: 18 | CO20: Közérdekű önkéntes tevékenység | CP20: =CONCATENATE(CN20," - ",CO20) -> 18 - Közérdekű önkéntes tevékenység
C21: 19 | D21: Veszprém | E21: =CONCATENATE(C21," - ",D21) -> 19 - Veszprém | Y21: 071 | Z21: Heveny mérgezések | AA21: =CONCATENATE(Z21," - ",Y21) -> Heveny mérgezések - 071 | AC21: 099 | AD21: Hang, rezgés, illetve nyomás egyéb heveny hatásai | AE21: =CONCATENATE(AD21," - ",AC21) -> Hang, rezgés, illetve nyomás egyéb heveny hatásai - 099 | AG21: 52 | AH21: Kar a könyökkel együtt (felkar és alkar is) | AI21: =CONCATENATE(AH21," - ",AG21) -> Kar a könyökkel együtt (felkar és alkar is) - 52 | AK21: 31 | AL21: Hát a hátgerinccel és hátcsigolyákkal együtt | AM21: =CONCATENATE(AL21," - ",AK21) -> Hát a hátgerinccel és hátcsigolyákkal együtt - 31 | AW21: 01039 | AX21: Cement-, mész-, gipsz-, üveg- és kerámiagyártás munkaterületei | AY21: =CONCATENATE(AW21," - ",AX21) -> 01039 - Cement-, mész-, gipsz-, üveg- és kerámiagyártás munkaterületei | BA21: 18 | BB21: Karbantartás, javítás, beszabályozás, beállítás | BC21: =CONCATENATE(BA21," - ",BB21) -> 18 - Karbantartás, javítás, beszabályozás, beállítás | BE21: 21 | BF21: Kézi üzemű kéziszerszámokkal folytatott munka | BG21: =CONCATENATE(BE21," - ",BF21) -> 21 - Kézi üzemű kéziszerszámokkal folytatott munka | BI21: 1012060 | BJ21: Aszfaltvágó gépek | BK21: =CONCATENATE(BI21," - ",BJ21) -> 1012060 - Aszfaltvágó gépek | BM21: 69 | BN21: Egyéb, a 60. csoportba tartozó, a fentiekben fel nem sorolt rendellenesség | BO21: =CONCATENATE(BN21," - ",BM21) -> Egyéb, a 60. csoportba tartozó, a fentiekben fel nem sorolt rendellenesség - 69 | BQ21: 44 | BR21: Forgó, mozgó, szállított tárgy - ideértve a járművet is - által mért ütés | BS21: =CONCATENATE(BR21," - ",BQ21) -> Forgó, mozgó, szállított tárgy - ideértve a járművet is - által mért ütés - 44 | CN21: 19 | CO21: Munkáltató által szervezett (kezdeményezett, irányított vagy jóváhagyott) társadalmi munka | CP21: =CONCATENATE(CN21," - ",CO21) -> 19 - Munkáltató által szervezett (kezdeményezett, irányított vagy jóváhagyott) társadalmi munka
C22: 20 | D22: Zala | E22: =CONCATENATE(C22," - ",D22) -> 20 - Zala | Y22: 072 | Z22: Heveny fertőzések | AA22: =CONCATENATE(Z22," - ",Y22) -> Heveny fertőzések - 072 | AC22: 072 | AD22: Heveny fertőzések | AE22: =CONCATENATE(AD22," - ",AC22) -> Heveny fertőzések - 072 | AG22: 53 | AH22: Kéz (benne tenyér, kézfej) | AI22: =CONCATENATE(AH22," - ",AG22) -> Kéz (benne tenyér, kézfej) - 53 | AK22: 52 | AL22: Kar a könyökkel együtt (felkar és alkar is) | AM22: =CONCATENATE(AL22," - ",AK22) -> Kar a könyökkel együtt (felkar és alkar is) - 52 | AW22: 01107 | AX22: Cipészműhely | AY22: =CONCATENATE(AW22," - ",AX22) -> 01107 - Cipészműhely | BA22: 19 | BB22: Kereskedelmi tevékenység - vásárlás, értékesítés és a kapcsolódó szolgáltatások | BC22: =CONCATENATE(BA22," - ",BB22) -> 19 - Kereskedelmi tevékenység - vásárlás, értékesítés és a kapcsolódó szolgáltatások | BE22: 33 | BF22: Közlekedési eszközök fedélzetén utasként tartózkodás | BG22: =CONCATENATE(BE22," - ",BF22) -> 33 - Közlekedési eszközök fedélzetén utasként tartózkodás | BI22: 601030 | BJ22: Asztalos -ács- keretes fafűrész | BK22: =CONCATENATE(BI22," - ",BJ22) -> 601030 - Asztalos -ács- keretes fafűrész | BM22: 79 | BN22: Egyéb, a 70. csoportba tartozó, a fentiekben fel nem sorolt rendellenesség | BO22: =CONCATENATE(BN22," - ",BM22) -> Egyéb, a 70. csoportba tartozó, a fentiekben fel nem sorolt rendellenesség - 79 | BQ22: 21 | BR22: Fulladás folyadékban | BS22: =CONCATENATE(BR22," - ",BQ22) -> Fulladás folyadékban - 21 | CN22: 20 | CO22: Távmunkavégzés | CP22: =CONCATENATE(CN22," - ",CO22) -> 20 - Távmunkavégzés
C23: 21 | D23: Külföld | E23: =CONCATENATE(C23," - ",D23) -> 21 - Külföld | Y23: 079 | Z23: Egyéb típusú mérgezések és fertőzések | AA23: =CONCATENATE(Z23," - ",Y23) -> Egyéb típusú mérgezések és fertőzések - 079 | AC23: 091 | AD23: Heveny hallásvesztés | AE23: =CONCATENATE(AD23," - ",AC23) -> Heveny hallásvesztés - 091 | AG23: 54 | AH23: Ujj(ak) | AI23: =CONCATENATE(AH23," - ",AG23) -> Ujj(ak) - 54 | AK23: 53 | AL23: Kéz (benne tenyér, kézfej) | AM23: =CONCATENATE(AL23," - ",AK23) -> Kéz (benne tenyér, kézfej) - 53 | AW23: 01064 | AX23: Cipőgyártó üzemek | AY23: =CONCATENATE(AW23," - ",AX23) -> 01064 - Cipőgyártó üzemek | BA23: 20 | BB23: Mezőgazdasági jellegű munka - élő állatokkal végzett munka | BC23: =CONCATENATE(BA23," - ",BB23) -> 20 - Mezőgazdasági jellegű munka - élő állatokkal végzett munka | BE23: 64 | BF23: Kúszás, mászás stb. | BG23: =CONCATENATE(BE23," - ",BF23) -> 64 - Kúszás, mászás stb. | BI23: 1004110 | BJ23: Autokláv | BK23: =CONCATENATE(BI23," - ",BJ23) -> 1004110 - Autokláv | BM23: 89 | BN23: Egyéb, a 80. csoportba tartozó, a fentiekben fel nem sorolt rendellenesség | BO23: =CONCATENATE(BN23," - ",BM23) -> Egyéb, a 80. csoportba tartozó, a fentiekben fel nem sorolt rendellenesség - 89 | BQ23: 31 | BR23: Függőleges mozgás, ütközés (esés következtében) | BS23: =CONCATENATE(BR23," - ",BQ23) -> Függőleges mozgás, ütközés (esés következtében) - 31 | CN23: 21 | CO23: Bedolgozói munkaviszony | CP23: =CONCATENATE(CN23," - ",CO23) -> 21 - Bedolgozói munkaviszony
Y24: 081 | Z24: Fulladások | AA24: =CONCATENATE(Z24," - ",Y24) -> Fulladások - 081 | AC24: 071 | AD24: Heveny mérgezések | AE24: =CONCATENATE(AD24," - ",AC24) -> Heveny mérgezések - 071 | AG24: 55 | AH24: Csukló | AI24: =CONCATENATE(AH24," - ",AG24) -> Csukló - 55 | AK24: 62 | AL24: Láb a térdekkel (benne comb és alsólábszár) | AM24: =CONCATENATE(AL24," - ",AK24) -> Láb a térdekkel (benne comb és alsólábszár) - 62 | AW24: 01042 | AX24: Cukorgyártás munkahelyei | AY24: =CONCATENATE(AW24," - ",AX24) -> 01042 - Cukorgyártás munkahelyei | BA24: 21 | BB24: Mezőgazdasági jellegű munka - földművelés | BC24: =CONCATENATE(BA24," - ",BB24) -> 21 - Mezőgazdasági jellegű munka - földművelés | BE24: 31 | BF24: Mobil és motoros közlekedési eszköz vagy anyagmozgató gép vezetése | BG24: =CONCATENATE(BE24," - ",BF24) -> 31 - Mobil és motoros közlekedési eszköz vagy anyagmozgató gép vezetése | BI24: 1017025 | BJ24: Automaták | BK24: =CONCATENATE(BI24," - ",BJ24) -> 1017025 - Automaták | BM24: 99 | BN24: Egyéb, a fentiekben fel nem sorolt rendellenesség | BO24: =CONCATENATE(BN24," - ",BM24) -> Egyéb, a fentiekben fel nem sorolt rendellenesség - 99 | BQ24: 23 | BR24: Gázzal vagy levegőben található részecskékkel való beborítódás vagy körülkerítődés | BS24: =CONCATENATE(BR24," - ",BQ24) -> Gázzal vagy levegőben található részecskékkel való beborítódás vagy körülkerítődés - 23 | CN24: 22 | CO24: Egyszerűsített foglalkoztatásra vagy alkalmi munkára irányuló munkaviszony | CP24: =CONCATENATE(CN24," - ",CO24) -> 22 - Egyszerűsített foglalkoztatásra vagy alkalmi munkára irányuló munkaviszony
Y25: 082 | Z25: Vízbefulladás, nem halálos vízbe merülés | AA25: =CONCATENATE(Z25," - ",Y25) -> Vízbefulladás, nem halálos vízbe merülés - 082 | AC25: 101 | AD25: Hőguta és napszúrás | AE25: =CONCATENATE(AD25," - ",AC25) -> Hőguta és napszúrás - 101 | AG25: 58 | AH25: Felső végtagok, több helyen sérültek | AI25: =CONCATENATE(AH25," - ",AG25) -> Felső végtagok, több helyen sérültek - 58 | AK25: 64 | AL25: Lábfej (talp is) | AM25: =CONCATENATE(AL25," - ",AK25) -> Lábfej (talp is) - 64 | AW25: 01108 | AX25: Cukrászműhely, cukrászat | AY25: =CONCATENATE(AW25," - ",AX25) -> 01108 - Cukrászműhely, cukrászat | BA25: 22 | BB25: Mezőgazdasági jellegű munka - zöldségtermesztés, kertészet | BC25: =CONCATENATE(BA25," - ",BB25) -> 22 - Mezőgazdasági jellegű munka - zöldségtermesztés, kertészet | BE25: 32 | BF25: Mobil és nem motoros közlekedési eszköz vagy anyagmozgató gép vezetése | BG25: =CONCATENATE(BE25," - ",BF25) -> 32 - Mobil és nem motoros közlekedési eszköz vagy anyagmozgató gép vezetése | BI25: 1002450 | BJ25: Bálabontó gép | BK25: =CONCATENATE(BI25," - ",BJ25) -> 1002450 - Bálabontó gép | BM25: 59 | BN25: Egyéb, az 50. csoportba tartozó, a fentiekben fel nem sorolt rendellenesség | BO25: =CONCATENATE(BN25," - ",BM25) -> Egyéb, az 50. csoportba tartozó, a fentiekben fel nem sorolt rendellenesség - 59 | BQ25: 81 | BR25: Harapás | BS25: =CONCATENATE(BR25," - ",BQ25) -> Harapás - 81 | CN25: 23 | CO25: Köztulajdonban álló munkáltatóval fennálló munkaviszony | CP25: =CONCATENATE(CN25," - ",CO25) -> 23 - Köztulajdonban álló munkáltatóval fennálló munkaviszony
Y26: 089 | Z26: Egyéb típusú vízbefulladás és fulladás | AA26: =CONCATENATE(Z26," - ",Y26) -> Egyéb típusú vízbefulladás és fulladás - 089 | AC26: 032 | AD26: Húzódások, rándulások | AE26: =CONCATENATE(AD26," - ",AC26) -> Húzódások, rándulások - 032 | AG26: 59 | AH26: A felső végtagok fent nem említett egyéb részei | AI26: =CONCATENATE(AH26," - ",AG26) -> A felső végtagok fent nem említett egyéb részei - 59 | AK26: 65 | AL26: Lábujj(ak) | AM26: =CONCATENATE(AL26," - ",AK26) -> Lábujj(ak) - 65 | AW26: 01001 | AX26: Csapoló-csarnok, öntőcsarnok | AY26: =CONCATENATE(AW26," - ",AX26) -> 01001 - Csapoló-csarnok, öntőcsarnok | BA26: 23 | BB26: Mozgás, a közlekedési eszközökön folytatott mozgással együtt | BC26: =CONCATENATE(BA26," - ",BB26) -> 23 - Mozgás, a közlekedési eszközökön folytatott mozgással együtt | BE26: 22 | BF26: Motoros kéziszerszámokkal folytatott munka | BG26: =CONCATENATE(BE26," - ",BF26) -> 22 - Motoros kéziszerszámokkal folytatott munka | BI26: 1002640 | BJ26: Bambury-keverő-, zárt keverőgép | BK26: =CONCATENATE(BI26," - ",BJ26) -> 1002640 - Bambury-keverő-, zárt keverőgép | BM26: 61 | BN26: Éles tárgyba belelépés | BO26: =CONCATENATE(BN26," - ",BM26) -> Éles tárgyba belelépés - 61 | BQ26: 11 | BR26: Hegesztőívvel, szikrakisüléssel, villámmal való közvetett (passzív) érintkezés | BS26: =CONCATENATE(BR26," - ",BQ26) -> Hegesztőívvel, szikrakisüléssel, villámmal való közvetett (passzív) érintkezés - 11 | CN26: 24 | CO26: Munkaerő-kölcsönzés keretében végzett munka | CP26: =CONCATENATE(CN26," - ",CO26) -> 24 - Munkaerő-kölcsönzés keretében végzett munka
Y27: 091 | Z27: Heveny hallásvesztés | AA27: =CONCATENATE(Z27," - ",Y27) -> Heveny hallásvesztés - 091 | AC27: 000 | AD27: Meg nem határozott, illetve ismeretlen sérülés típus | AE27: =CONCATENATE(AD27," - ",AC27) -> Meg nem határozott, illetve ismeretlen sérülés típus - 000 | AG27: 61 | AH27: Csípő és csípőízület | AI27: =CONCATENATE(AH27," - ",AG27) -> Csípő és csípőízület - 61 | AK27: 43 | AL27: Medence és has a belső szervekkel | AM27: =CONCATENATE(AL27," - ",AK27) -> Medence és has a belső szervekkel - 43 | AW27: 01043 | AX27: Csokoládé- és cukorkagyártás munkahelyei | AY27: =CONCATENATE(AW27," - ",AX27) -> 01043 - Csokoládé- és cukorkagyártás munkahelyei | BA27: 24 | BB27: Munkaterületek, gépek ipari vagy kézi tisztítása | BC27: =CONCATENATE(BA27," - ",BB27) -> 24 - Munkaterületek, gépek ipari vagy kézi tisztítása | BE27: 46 | BF27: Öntés, beöntés, feltöltés, öntözés, permetezés, ürítés, préselés | BG27: =CONCATENATE(BE27," - ",BF27) -> 46 - Öntés, beöntés, feltöltés, öntözés, permetezés, ürítés, préselés | BI27: 601010 | BJ27: Barkács fűrész (fa, fém) | BK27: =CONCATENATE(BI27," - ",BJ27) -> 601010 - Barkács fűrész (fa, fém) | BM27: 74 | BN27: Elfordulás, megfordulás | BO27: =CONCATENATE(BN27," - ",BM27) -> Elfordulás, megfordulás - 74 | BQ27: 52 | BR27: Hegyes anyagi tényezővel (tű, hegyes szerszám stb.) való érintkezés | BS27: =CONCATENATE(BR27," - ",BQ27) -> Hegyes anyagi tényezővel (tű, hegyes szerszám stb.) való érintkezés - 52 | CN27: 25 | CO27: Szociális szövetkezetben tagi munkavégzési jogviszony | CP27: =CONCATENATE(CN27," - ",CO27) -> 25 - Szociális szövetkezetben tagi munkavégzési jogviszony
Y28: 092 | Z28: Nyomásból adódó hatások | AA28: =CONCATENATE(Z28," - ",Y28) -> Nyomásból adódó hatások - 092 | AC28: 012 | AD28: Nyílt sebek | AE28: =CONCATENATE(AD28," - ",AC28) -> Nyílt sebek - 012 | AG28: 62 | AH28: Láb a térdekkel (benne comb és alsólábszár) | AI28: =CONCATENATE(AH28," - ",AG28) -> Láb a térdekkel (benne comb és alsólábszár) - 62 | AK28: 41 | AL28: Mellkas, bordák az ízületekkel és a lapockákkal együtt | AM28: =CONCATENATE(AL28," - ",AK28) -> Mellkas, bordák az ízületekkel és a lapockákkal együtt - 41 | AW28: 01044 | AX28: Dohánygyártás munkahelyei | AY28: =CONCATENATE(AW28," - ",AX28) -> 01044 - Dohánygyártás munkahelyei | BA28: 25 | BB28: Sport, művészeti tevékenység | BC28: =CONCATENATE(BA28," - ",BB28) -> 25 - Sport, művészeti tevékenység | BE28: 53 | BF28: Személy által mozgatott teher szállítása | BG28: =CONCATENATE(BE28," - ",BF28) -> 53 - Személy által mozgatott teher szállítása | BI28: 1012109 | BJ28: Barkázó gépek | BK28: =CONCATENATE(BI28," - ",BJ28) -> 1012109 - Barkázó gépek | BM28: 71 | BN28: Emelés, mozgatás, felállás | BO28: =CONCATENATE(BN28," - ",BM28) -> Emelés, mozgatás, felállás - 71 | BQ28: 14 | BR28: Hideg vagy fagyott tárggyal vagy környezettel való érintkezés | BS28: =CONCATENATE(BR28," - ",BQ28) -> Hideg vagy fagyott tárggyal vagy környezettel való érintkezés - 14 | CN28: 26 | CO28: Iskolaszövetkezetben külső szolgáltatás teljesítésére irányuló megállapodás alapján történő személyes közreműködés | CP28: =CONCATENATE(CN28," - ",CO28) -> 26 - Iskolaszövetkezetben külső szolgáltatás teljesítésére irányuló megállapodás alapján történő személyes közreműködés
Y29: 099 | Z29: Hang, rezgés, illetve nyomás egyéb heveny hatásai | AA29: =CONCATENATE(Z29," - ",Y29) -> Hang, rezgés, illetve nyomás egyéb heveny hatásai - 099 | AC29: 022 | AD29: Nyílt törések | AE29: =CONCATENATE(AD29," - ",AC29) -> Nyílt törések - 022 | AG29: 63 | AH29: Boka | AI29: =CONCATENATE(AH29," - ",AG29) -> Boka - 63 | AK29: 42 | AL29: Mellkasi terület a belső szervekkel | AM29: =CONCATENATE(AL29," - ",AK29) -> Mellkasi terület a belső szervekkel - 42 | AW29: 01024 | AX29: Edzőműhely (cementálás is) | AY29: =CONCATENATE(AW29," - ",AX29) -> 01024 - Edzőműhely (cementálás is) | BA29: 26 | BB29: Szellemi munka - oktatás, képzés, adatfeldolgozás, irodai munka, szervezés, vezetés | BC29: =CONCATENATE(BA29," - ",BB29) -> 26 - Szellemi munka - oktatás, képzés, adatfeldolgozás, irodai munka, szervezés, vezetés | BE29: 44 | BF29: Tárgy eldobása, elhajítása | BG29: =CONCATENATE(BE29," - ",BF29) -> 44 - Tárgy eldobása, elhajítása | BI29: 201040 | BJ29: Be- és kirakodó rámpák | BK29: =CONCATENATE(BI29," - ",BJ29) -> 201040 - Be- és kirakodó rámpák | BM29: 64 | BN29: Esetlen mozdulat, véletlen vagy időszerűtlen cselekedetek | BO29: =CONCATENATE(BN29," - ",BM29) -> Esetlen mozdulat, véletlen vagy időszerűtlen cselekedetek - 64 | BQ29: 53 | BR29: Kemény vagy durva anyagi tényezővel való érintkezés | BS29: =CONCATENATE(BR29," - ",BQ29) -> Kemény vagy durva anyagi tényezővel való érintkezés - 53 | CP29: =CONCATENATE(CN29," - ",CO29) -> -
Y30: 101 | Z30: Hőguta és napszúrás | AA30: =CONCATENATE(Z30," - ",Y30) -> Hőguta és napszúrás - 101 | AC30: 092 | AD30: Nyomásból adódó hatások | AE30: =CONCATENATE(AD30," - ",AC30) -> Nyomásból adódó hatások - 092 | AG30: 64 | AH30: Lábfej (talp is) | AI30: =CONCATENATE(AH30," - ",AG30) -> Lábfej (talp is) - 64 | AK30: 21 | AL30: Nyak, a nyaki gerinccel és csigolyákkal együtt | AM30: =CONCATENATE(AL30," - ",AK30) -> Nyak, a nyaki gerinccel és csigolyákkal együtt - 21 | AW30: 05100 | AX30: Egészségügyi intézmény, magánkórház, kórház, gondozó intézmény | AY30: =CONCATENATE(AW30," - ",AX30) -> 05100 - Egészségügyi intézmény, magánkórház, kórház, gondozó intézmény | BA30: 27 | BB30: Új építkezés - épület | BC30: =CONCATENATE(BA30," - ",BB30) -> 27 - Új építkezés - épület | BE30: 43 | BF30: Tárgy függőleges rögzítése, felfüggesztése, felemelése, felhelyezése | BG30: =CONCATENATE(BE30," - ",BF30) -> 43 - Tárgy függőleges rögzítése, felfüggesztése, felemelése, felhelyezése | BI30: 204030 | BJ30: Bekötő hevederek, függő állványok | BK30: =CONCATENATE(BI30," - ",BJ30) -> 204030 - Bekötő hevederek, függő állványok | BM30: 22 | BN30: Folyékony halmazállapot - szivárgás, csepegés, folyás, fröccsenés, permetezés | BO30: =CONCATENATE(BN30," - ",BM30) -> Folyékony halmazállapot - szivárgás, csepegés, folyás, fröccsenés, permetezés - 22 | BQ30: 73 | BR30: Lelki stressz vagy sokk | BS30: =CONCATENATE(BR30," - ",BQ30) -> Lelki stressz vagy sokk - 73
Y31: 102 | Z31: Sugárzás hatásai (nem hősugárzás) | AA31: =CONCATENATE(Z31," - ",Y31) -> Sugárzás hatásai (nem hősugárzás) - 102 | AC31: 119 | AD31: Sokk egyéb formái | AE31: =CONCATENATE(AD31," - ",AC31) -> Sokk egyéb formái - 119 | AG31: 65 | AH31: Lábujj(ak) | AI31: =CONCATENATE(AH31," - ",AG31) -> Lábujj(ak) - 65 | AK31: 13 | AL31: Szem(ek) | AM31: =CONCATENATE(AL31," - ",AK31) -> Szem(ek) - 13 | AW31: 01053 | AX31: Egyéb élelmiszer előállítás munkahelyei | AY31: =CONCATENATE(AW31," - ",AX31) -> 01053 - Egyéb élelmiszer előállítás munkahelyei | BA31: 28 | BB31: Új építkezés - mélyépítés, infrastruktúrák, közutak, hidak, gátak, kikötők | BC31: =CONCATENATE(BA31," - ",BB31) -> 28 - Új építkezés - mélyépítés, infrastruktúrák, közutak, hidak, gátak, kikötők | BE31: 41 | BF31: Tárgy kézzel történő vízszintes megragadása, megmarkolása, megfogása, megtartása, elhelyezése | BG31: =CONCATENATE(BE31," - ",BF31) -> 41 - Tárgy kézzel történő vízszintes megragadása, megmarkolása, megfogása, megtartása, elhelyezése | BI31: 501010 | BJ31: Belsőégésű motor | BK31: =CONCATENATE(BI31," - ",BJ31) -> 501010 - Belsőégésű motor | BM31: 23 | BN31: Gázhalmazállapot - elpárolgás, aeroszolképződés, gázképződés | BO31: =CONCATENATE(BN31," - ",BM31) -> Gázhalmazállapot - elpárolgás, aeroszolképződés, gázképződés - 23 | BQ31: 43 | BR31: Lengő tárgy által mért ütés | BS31: =CONCATENATE(BR31," - ",BQ31) -> Lengő tárgy által mért ütés - 43
Y32: 103 | Z32: Alacsony hőmérséklet hatásai | AA32: =CONCATENATE(Z32," - ",Y32) -> Alacsony hőmérséklet hatásai - 103 | AC32: 102 | AD32: Sugárzás hatásai (nem hősugárzás) | AE32: =CONCATENATE(AD32," - ",AC32) -> Sugárzás hatásai (nem hősugárzás) - 102 | AG32: 68 | AH32: Alsó végtagok több helyen sérültek | AI32: =CONCATENATE(AH32," - ",AG32) -> Alsó végtagok több helyen sérültek - 68 | AK32: 18 | AL32: Többszörös fejsérülés | AM32: =CONCATENATE(AL32," - ",AK32) -> Többszörös fejsérülés - 18 | AW32: 01104 | AX32: Egyéb energia-előállítás munkahelyei | AY32: =CONCATENATE(AW32," - ",AX32) -> 01104 - Egyéb energia-előállítás munkahelyei | BA32: 29 | BB32: Egyéb, a fentiekben fel nem sorolt munkafolyamat | BC32: =CONCATENATE(BA32," - ",BB32) -> 29 - Egyéb, a fentiekben fel nem sorolt munkafolyamat | BE32: 42 | BF32: Tárgy kötése, megkötése, leszakítása, eloldása, szorítása, kicsavarozása, becsavarozása, forgatása | BG32: =CONCATENATE(BE32," - ",BF32) -> 42 - Tárgy kötése, megkötése, leszakítása, eloldása, szorítása, kicsavarozása, becsavarozása, forgatása | BI32: 1013070 | BJ32: Bemártó festőgépek | BK32: =CONCATENATE(BI32," - ",BJ32) -> 1013070 - Bemártó festőgépek | BM32: 41 | BN32: Irányítás (részleges vagy teljes) elvesztése a gép (ide értve a nem kívánt indítást is) vagy a géppel megmunkált tárgy felett | BO32: =CONCATENATE(BN32," - ",BM32) -> Irányítás (részleges vagy teljes) elvesztése a gép (ide értve a nem kívánt indítást is) vagy a géppel megmunkált tárgy felett - 41 | BQ32: 13 | BR32: Nyílt lánggal vagy forró/égő tárggyal/környezettel való érintkezés | BS32: =CONCATENATE(BR32," - ",BQ32) -> Nyílt lánggal vagy forró/égő tárggyal/környezettel való érintkezés - 13
Y33: 109 | Z33: A szélsőséges hőmérséklet, fény, illetve sugárzás egyéb hatásai | AA33: =CONCATENATE(Z33," - ",Y33) -> A szélsőséges hőmérséklet, fény, illetve sugárzás egyéb hatásai - 109 | AC33: 120 | AD33: Többszörös sérülések | AE33: =CONCATENATE(AD33," - ",AC33) -> Többszörös sérülések - 120 | AG33: 69 | AH33: Az alsó végtagok fent nem említett egyéb részei | AI33: =CONCATENATE(AH33," - ",AG33) -> Az alsó végtagok fent nem említett egyéb részei - 69 | AK33: 48 | AL33: Törzs több helyen sérült | AM33: =CONCATENATE(AL33," - ",AK33) -> Törzs több helyen sérült - 48 | AW33: 01041 | AX33: Egyéb építőanyag-ipari helyszín | AY33: =CONCATENATE(AW33," - ",AX33) -> 01041 - Egyéb építőanyag-ipari helyszín | BE33: 63 | BF33: Ugrás, ugrálás stb. | BG33: =CONCATENATE(BE33," - ",BF33) -> 63 - Ugrás, ugrálás stb. | BI33: 1103012 | BJ33: Berakó-, kirakógépek | BK33: =CONCATENATE(BI33," - ",BJ33) -> 1103012 - Berakó-, kirakógépek | BM33: 12 | BN33: Közvetlen érintkezéshez vezető elektromos hiba | BO33: =CONCATENATE(BN33," - ",BM33) -> Közvetlen érintkezéshez vezető elektromos hiba - 12 | BQ33: 41 | BR33: Repülő tárgy által mért ütés | BS33: =CONCATENATE(BR33," - ",BQ33) -> Repülő tárgy által mért ütés - 41
Y34: 111 | Z34: Agresszió és fenyegetés hatására fellépő sokk | AA34: =CONCATENATE(Z34," - ",Y34) -> Agresszió és fenyegetés hatására fellépő sokk - 111 | AC34: 040 | AD34: Traumás amputáció [testrész(ek) elvesztése] | AE34: =CONCATENATE(AD34," - ",AC34) -> Traumás amputáció [testrész(ek) elvesztése] - 040 | AG34: 71 | AH34: Egész test (általános szervezeti hatások) | AI34: =CONCATENATE(AH34," - ",AG34) -> Egész test (általános szervezeti hatások) - 71 | AK34: 54 | AL34: Ujj(ak) | AM34: =CONCATENATE(AL34," - ",AK34) -> Ujj(ak) - 54 | AW34: 01057 | AX34: Egyéb fafeldolgozási munkahely | AY34: =CONCATENATE(AW34," - ",AX34) -> 01057 - Egyéb fafeldolgozási munkahely | BE34: 66 | BF34: Úszás, merülés | BG34: =CONCATENATE(BE34," - ",BF34) -> 66 - Úszás, merülés | BI34: 102020 | BJ34: Beton és vasbeton | BK34: =CONCATENATE(BI34," - ",BJ34) -> 102020 - Beton és vasbeton | BM34: 83 | BN34: Külső személyek által a feladatait ellátó sérült irányában tanúsított erőszak, agresszió, fenyegetés (bankrablás, buszvezetők elleni fellépés stb.) | BO34: =CONCATENATE(BN34," - ",BM34) -> Külső személyek által a feladatait ellátó sérült irányában tanúsított erőszak, agresszió, fenyegetés (bankrablás, buszvezetők elleni fellépés stb.) - 83 | BQ34: 82 | BR34: Rovar vagy hal csípése | BS34: =CONCATENATE(BR34," - ",BQ34) -> Rovar vagy hal csípése - 82
Y35: 112 | Z35: Traumás sokk | AA35: =CONCATENATE(Z35," - ",Y35) -> Traumás sokk - 112 | AC35: 112 | AD35: Traumás sokk | AE35: =CONCATENATE(AD35," - ",AC35) -> Traumás sokk - 112 | AG35: 78 | AH35: A test több része sérült | AI35: =CONCATENATE(AH35," - ",AG35) -> A test több része sérült - 78 | AK35: 51 | AL35: Váll és vállízület (vállcsúcs, kulcscsont) | AM35: =CONCATENATE(AL35," - ",AK35) -> Váll és vállízület (vállcsúcs, kulcscsont) - 51 | AW35: 01029 | AX35: Egyéb felületkezelési munkahely | AY35: =CONCATENATE(AW35," - ",AX35) -> 01029 - Egyéb felületkezelési munkahely | BE35: 52 | BF35: Vízszintes mozgatás - tárgy húzása, tolása, görgetése | BG35: =CONCATENATE(BE35," - ",BF35) -> 52 - Vízszintes mozgatás - tárgy húzása, tolása, görgetése | BI35: 901250 | BJ35: Betonegyengető, simítógép | BK35: =CONCATENATE(BI35," - ",BJ35) -> 901250 - Betonegyengető, simítógép | BM35: 73 | BN35: Lehelyezés, lehajolás | BO35: =CONCATENATE(BN35," - ",BM35) -> Lehelyezés, lehajolás - 73 | BQ35: 72 | BR35: Sugárzás, zaj, fény vagy nyomás keltette fizikai igénybevétel | BS35: =CONCATENATE(BR35," - ",BQ35) -> Sugárzás, zaj, fény vagy nyomás keltette fizikai igénybevétel - 72
Y36: 119 | Z36: Sokk egyéb formái | AA36: =CONCATENATE(Z36," - ",Y36) -> Sokk egyéb formái - 119 | AC36: 062 | AD36: Vegyi anyag (marás) okozta égési sérülések | AE36: =CONCATENATE(AD36," - ",AC36) -> Vegyi anyag (marás) okozta égési sérülések - 062 | AG36: 99 | AH36: A test fent nem említett egyéb részei | AI36: =CONCATENATE(AH36," - ",AG36) -> A test fent nem említett egyéb részei - 99 | AK36: 99 | AL36: A test fent nem említett egyéb részei | AM36: =CONCATENATE(AL36," - ",AK36) -> A test fent nem említett egyéb részei - 99 | AW36: 01061 | AX36: Egyéb gép- és járműgyártási munkahelyek | AY36: =CONCATENATE(AW36," - ",AX36) -> 01061 - Egyéb gép- és járműgyártási munkahelyek | BE36: 99 | BF36: Egyéb, a fentiekben fel nem sorolt konkrét fizikai tevékenység | BG36: =CONCATENATE(BE36," - ",BF36) -> 99 - Egyéb, a fentiekben fel nem sorolt konkrét fizikai tevékenység | BI36: 1002670 | BJ36: Betonkeverő | BK36: =CONCATENATE(BI36," - ",BJ36) -> 1002670 - Betonkeverő | BM36: 24 | BN36: Porszerű anyag - füstképződés, lebegő/kibocsátott por/szemcsék | BO36: =CONCATENATE(BN36," - ",BM36) -> Porszerű anyag - füstképződés, lebegő/kibocsátott por/szemcsék - 24 | BQ36: 22 | BR36: Szilárd anyag alá temetődés | BS36: =CONCATENATE(BR36," - ",BQ36) -> Szilárd anyag alá temetődés - 22
Y37: 120 | Z37: Többszörös sérülések | AA37: =CONCATENATE(Z37," - ",Y37) -> Többszörös sérülések - 120 | AC37: 082 | AD37: Vízbefulladás, nem halálos vízbe merülés | AE37: =CONCATENATE(AD37," - ",AC37) -> Vízbefulladás, nem halálos vízbe merülés - 082 | AI37: =CONCATENATE(AH37," - ",AG37) -> - | AW37: 01205 | AX37: Egyéb járműkarbantanó műhely | AY37: =CONCATENATE(AW37," - ",AX37) -> 01205 - Egyéb járműkarbantanó műhely | BI37: 1002680 | BJ37: Betonkeverő üzem | BK37: =CONCATENATE(BI37," - ",BJ37) -> 1002680 - Betonkeverő üzem | BM37: 13 | BN37: Robbanás | BO37: =CONCATENATE(BN37," - ",BM37) -> Robbanás - 13 | BQ37: 83 | BR37: Ütés, rúgás, lefejelés, fojtogatás | BS37: =CONCATENATE(BR37," - ",BQ37) -> Ütés, rúgás, lefejelés, fojtogatás - 83
Y38: 999 | Z38: Egyéb, más kategóriába nem sorolható sérülések | AA38: =CONCATENATE(Z38," - ",Y38) -> Egyéb, más kategóriába nem sorolható sérülések - 999 | AC38: 021 | AD38: Zárt törések | AE38: =CONCATENATE(AD38," - ",AC38) -> Zárt törések - 021 | AI38: =CONCATENATE(AH38," - ",AG38) -> - | AW38: 01207 | AX38: Egyéb javító műhely (kivéve szakipari műhelyek) | AY38: =CONCATENATE(AW38," - ",AX38) -> 01207 - Egyéb javító műhely (kivéve szakipari műhelyek) | BI38: 709030 | BJ38: Betonzúzó | BK38: =CONCATENATE(BI38," - ",BJ38) -> 709030 - Betonzúzó | BM38: 75 | BN38: Rossz lépés, a láb vagy a boka kificamítása, elesés nélküli megcsúszás | BO38: =CONCATENATE(BN38," - ",BM38) -> Rossz lépés, a láb vagy a boka kificamítása, elesés nélküli megcsúszás - 75 | BQ38: 64 | BR38: Végtag, kéz vagy ujj leszakadása vagy levágása | BS38: =CONCATENATE(BR38," - ",BQ38) -> Végtag, kéz vagy ujj leszakadása vagy levágása - 64
AA39: =CONCATENATE(Z39," - ",Y39) -> - | AE39: =CONCATENATE(AD39," - ",AC39) -> - | AW39: 01070 | AX39: Egyéb könnyűipari feldolgozás munkahelye | AY39: =CONCATENATE(AW39," - ",AX39) -> 01070 - Egyéb könnyűipari feldolgozás munkahelye | BI39: 1104013 | BJ39: Billenthető szállítószalag, targonca, kétkerekű kocsi, poggyászkocsi | BK39: =CONCATENATE(BI39," - ",BJ39) -> 1104013 - Billenthető szállítószalag, targonca, kétkerekű kocsi, poggyászkocsi | BM39: 81 | BN39: Sokk, ijedség | BO39: =CONCATENATE(BN39," - ",BM39) -> Sokk, ijedség - 81 | BQ39: 17 | BR39: Veszélyes anyagokkal való érintkezés az emésztőrendszeren keresztül, nyelés vagy elfogyasztás útján | BS39: =CONCATENATE(BR39," - ",BQ39) -> Veszélyes anyagokkal való érintkezés az emésztőrendszeren keresztül, nyelés vagy elfogyasztás útján - 17
AA40: =CONCATENATE(Z40," - ",Y40) -> - | AE40: =CONCATENATE(AD40," - ",AC40) -> - | AW40: 06115 | AX40: Egyéb közlekedési terület | AY40: =CONCATENATE(AW40," - ",AX40) -> 06115 - Egyéb közlekedési terület | BI40: 1903000 | BJ40: Biológiai anyagokból, növényekből, állatokból keletkezett ömlesztett hulladékok (labora-tóriumi és kórházi hulladék, állati maradványok, stb.) | BK40: =CONCATENATE(BI40," - ",BJ40) -> 1903000 - Biológiai anyagokból, növényekből, állatokból keletkezett ömlesztett hulladékok (labora-tóriumi és kórházi hulladék, állati maradványok, stb.) | BM40: 52 | BN40: Személy csúszása, botlása és elesése, esése azonos szinten | BO40: =CONCATENATE(BN40," - ",BM40) -> Személy csúszása, botlása és elesése, esése azonos szinten - 52 | BQ40: 16 | BR40: Veszélyes anyagokkal való érintkezés bőrön vagy szemen át | BS40: =CONCATENATE(BR40," - ",BQ40) -> Veszélyes anyagokkal való érintkezés bőrön vagy szemen át - 16
AW41: 01078 | AX41: Egyéb kutatási, laboratóriumi munkahelyek | AY41: =CONCATENATE(AW41," - ",AX41) -> 01078 - Egyéb kutatási, laboratóriumi munkahelyek | BI41: 1507050 | BJ41: Biológiai eredetű allergének | BK41: =CONCATENATE(BI41," - ",BJ41) -> 1507050 - Biológiai eredetű allergének | BM41: 51 | BN41: Személy esése - alacsonyabban lévő szintre | BO41: =CONCATENATE(BN41," - ",BM41) -> Személy esése - alacsonyabban lévő szintre - 51 | BQ41: 15 | BR41: Veszélyes anyagokkal való érintkezés orron vagy szájon át, belégzéssel | BS41: =CONCATENATE(BR41," - ",BQ41) -> Veszélyes anyagokkal való érintkezés orron vagy szájon át, belégzéssel - 15
AW42: 01142 | AX42: Egyéb szakipari műhely | AY42: =CONCATENATE(AW42," - ",AX42) -> 01142 - Egyéb szakipari műhely | BI42: 1507040 | BJ42: Biológiai folyadékok, sperma, köpet, nyák, kolloidok, stb. | BK42: =CONCATENATE(BI42," - ",BJ42) -> 1507040 - Biológiai folyadékok, sperma, köpet, nyák, kolloidok, stb. | BM42: 32 | BN42: Szilánkkeletkezéssel járó törés, repedés (fa, üveg, fém, kő, műanyag, egyéb) | BO42: =CONCATENATE(BN42," - ",BM42) -> Szilánkkeletkezéssel járó törés, repedés (fa, üveg, fém, kő, műanyag, egyéb) - 32 | BQ42: 32 | BR42: Vízszintes mozgás, ütközés | BS42: =CONCATENATE(BR42," - ",BQ42) -> Vízszintes mozgás, ütközés - 32
AW43: 01011 | AX43: Egyéb színesfém-gyártási helyszín | AY43: =CONCATENATE(AW43," - ",AX43) -> 01011 - Egyéb színesfém-gyártási helyszín | BI43: 901140 | BJ43: Bitumenszóró és bitumen-melegítő | BK43: =CONCATENATE(BI43," - ",BJ43) -> 901140 - Bitumenszóró és bitumen-melegítő | BM43: 21 | BN43: Szilárd halmazállapot - túlömlés, felborulás | BO43: =CONCATENATE(BN43," - ",BM43) -> Szilárd halmazállapot - túlömlés, felborulás - 21
AW44: 01311 | AX44: Egyéb tároló | AY44: =CONCATENATE(AW44," - ",AX44) -> 01311 - Egyéb tároló | BI44: 1008010 | BJ44: Blokk sorok | BK44: =CONCATENATE(BI44," - ",BJ44) -> 1008010 - Blokk sorok | BM44: 63 | BN44: Tárgy vagy lendület általi megragadás vagy elragadás | BO44: =CONCATENATE(BN44," - ",BM44) -> Tárgy vagy lendület általi megragadás vagy elragadás - 63
AW45: 01085 | AX45: Egyéb textilipari munkahelyek | AY45: =CONCATENATE(AW45," - ",AX45) -> 01085 - Egyéb textilipari munkahelyek | BI45: 901230 | BJ45: Bontóberendezés (betonzúzó, légcsákány) | BK45: =CONCATENATE(BI45," - ",BJ45) -> 901230 - Bontóberendezés (betonzúzó, légcsákány) | BM45: 72 | BN45: Tolás, húzás | BO45: =CONCATENATE(BN45," - ",BM45) -> Tolás, húzás - 72
AW46: 01006 | AX46: Egyéb vas- és acélgyártási helyszín | AY46: =CONCATENATE(AW46," - ",AX46) -> 01006 - Egyéb vas- és acélgyártási helyszín | BI46: 1002540 | BJ46: Bontógép, cérnázógép | BK46: =CONCATENATE(BI46," - ",BJ46) -> 1002540 - Bontógép, cérnázógép | BM46: 14 | BN46: Tűz, lobbanás | BO46: =CONCATENATE(BN46," - ",BM46) -> Tűz, lobbanás - 14
AW47: 01023 | AX47: Egyéb vas-és fémtermékek gyártási munkahelyei | AY47: =CONCATENATE(AW47," - ",AX47) -> 01023 - Egyéb vas-és fémtermékek gyártási munkahelyei | BI47: 1008170 | BJ47: Boríték gyártó | BK47: =CONCATENATE(BI47," - ",BJ47) -> 1008170 - Boríték gyártó
AW48: 01038 | AX48: Egyéb vegyi termékek előállításának helyei | AY48: =CONCATENATE(AW48," - ",AX48) -> 01038 - Egyéb vegyi termékek előállításának helyei | BI48: 1012103 | BJ48: Borotváló gépek | BK48: =CONCATENATE(BI48," - ",BJ48) -> 1012103 - Borotváló gépek
AW49: 01075 | AX49: Egyéb víz... | AY49: =CONCATENATE(AW49," - ",AX49) -> 01075 - Egyéb víz... | BI49: 102130 | BJ49: Botlásveszélyes járófelület (szabálytalan anyagtárolás pl. bontott zsaluanyag villamos kábel vezetés stb.) | BK49: =CONCATENATE(BI49," - ",BJ49) -> 102130 - Botlásveszélyes járófelület (szabálytalan anyagtárolás pl. bontott zsaluanyag villamos kábel vezetés stb.)
AW50: 01900 | AX50: Egyéb, a 01000. csoportba tartozó, a fentiekben fel nem sorolt munkakörnyezet | AY50: =CONCATENATE(AW50," - ",AX50) -> 01900 - Egyéb, a 01000. csoportba tartozó, a fentiekben fel nem sorolt munkakörnyezet | BI50: 902050 | BJ50: Bozótirtó gép (fűrésszel, huzallal, stb.), metszőolló (villamos, pneumatikus, stb.) | BK50: =CONCATENATE(BI50," - ",BJ50) -> 902050 - Bozótirtó gép (fűrésszel, huzallal, stb.), metszőolló (villamos, pneumatikus, stb.)
AW51: 02904 | AX51: Egyéb, a 02000. csoportba tartozó, a fentiekben fel nem sorolt munkakörnyezet | AY51: =CONCATENATE(AW51," - ",AX51) -> 02904 - Egyéb, a 02000. csoportba tartozó, a fentiekben fel nem sorolt munkakörnyezet | BI51: 902040 | BJ51: Bozótirtó gép (vontatott kivitelben is), merev pengéjű gyepsáv vágó | BK51: =CONCATENATE(BI51," - ",BJ51) -> 902040 - Bozótirtó gép (vontatott kivitelben is), merev pengéjű gyepsáv vágó
AW52: 03904 | AX52: Egyéb, a 03000. csoportba tartozó, a fentiekben fel nem sorolt munkakörnyezet | AY52: =CONCATENATE(AW52," - ",AX52) -> 03904 - Egyéb, a 03000. csoportba tartozó, a fentiekben fel nem sorolt munkakörnyezet | BI52: 1012107 | BJ52: Bőrcsiszoló gépek | BK52: =CONCATENATE(BI52," - ",BJ52) -> 1012107 - Bőrcsiszoló gépek
AW53: 04905 | AX53: Egyéb, a 04000. csoportba tartozó, a fentiekben fel nem sorolt munkakörnyezet | AY53: =CONCATENATE(AW53," - ",AX53) -> 04905 - Egyéb, a 04000. csoportba tartozó, a fentiekben fel nem sorolt munkakörnyezet | BI53: 1012106 | BJ53: Bőrfaragó gépek | BK53: =CONCATENATE(BI53," - ",BJ53) -> 1012106 - Bőrfaragó gépek
AW54: 05900 | AX54: Egyéb, a 05000. csoportba tartozó, a fentiekben fel nem sorolt munkakörnyezet | AY54: =CONCATENATE(AW54," - ",AX54) -> 05900 - Egyéb, a 05000. csoportba tartozó, a fentiekben fel nem sorolt munkakörnyezet | BI54: 1007320 | BJ54: Bőrfényező gép | BK54: =CONCATENATE(BI54," - ",BJ54) -> 1007320 - Bőrfényező gép
AW55: 06900 | AX55: Egyéb, a 06000. csoportba tartozó, a fentiekben fel nem sorolt munkakörnyezet | AY55: =CONCATENATE(AW55," - ",AX55) -> 06900 - Egyéb, a 06000. csoportba tartozó, a fentiekben fel nem sorolt munkakörnyezet | BI55: 1008340 | BJ55: Bőrkikészítő gép | BK55: =CONCATENATE(BI55," - ",BJ55) -> 1008340 - Bőrkikészítő gép
AW56: 07900 | AX56: Egyéb, a 07000. csoportba tartozó, a fentiekben fel nem sorolt munkakörnyezet | AY56: =CONCATENATE(AW56," - ",AX56) -> 07900 - Egyéb, a 07000. csoportba tartozó, a fentiekben fel nem sorolt munkakörnyezet | BI56: 1008330 | BJ56: Bőrnyújtó gép | BK56: =CONCATENATE(BI56," - ",BJ56) -> 1008330 - Bőrnyújtó gép
AW57: 08900 | AX57: Egyéb, a 08000. csoportba tartozó, a fentiekben fel nem sorolt munkakörnyezet | AY57: =CONCATENATE(AW57," - ",AX57) -> 08900 - Egyéb, a 08000. csoportba tartozó, a fentiekben fel nem sorolt munkakörnyezet | BI57: 1012102 | BJ57: Bőrrétegvágó gépek | BK57: =CONCATENATE(BI57," - ",BJ57) -> 1012102 - Bőrrétegvágó gépek
AW58: 09900 | AX58: Egyéb, a 09000. csoportba tartozó, a fentiekben fel nem sorolt munkakörnyezet, az építési területek kivételével | AY58: =CONCATENATE(AW58," - ",AX58) -> 09900 - Egyéb, a 09000. csoportba tartozó, a fentiekben fel nem sorolt munkakörnyezet, az építési területek kivételével | BI58: 901070 | BJ58: Buldózer, rakodógép | BK58: =CONCATENATE(BI58," - ",BJ58) -> 901070 - Buldózer, rakodógép
... AW201: 01008 | AX201: Színesfém - előkészítő üzem | AY201: =CONCATENATE(AW201," - ",AX201) -> 01008 - Színesfém - előkészítő üzem | BI201: 902100 | BJ201: Egyéb vontatott mezőgazdasági gép | BK201: =CONCATENATE(BI201," - ",BJ201) -> 902100 - Egyéb vontatott mezőgazdasági gép
AW202: 01009 | AX202: Színesfém - olvasztó üzem | AY202: =CONCATENATE(AW202," - ",AX202) -> 01009 - Színesfém - olvasztó üzem | BI202: 0099000 | BJ202: Egyéb, a 0000000. csoportba tartozó, a fentiekben fel nem sorolt helyzet | BK202: =CONCATENATE(BI202," - ",BJ202) -> 0099000 - Egyéb, a 0000000. csoportba tartozó, a fentiekben fel nem sorolt helyzet
AW203: 01010 | AX203: Színesfém - öntőcsarnok, öntőberendezés | AY203: =CONCATENATE(AW203," - ",AX203) -> 01010 - Színesfém - öntőcsarnok, öntőberendezés | BI203: 199000 | BJ203: Egyéb, a 0100000. csoportba tartozó, a fentiekben fel nem sorolt földszinti épület és felület | BK203: =CONCATENATE(BI203," - ",BJ203) -> 199000 - Egyéb, a 0100000. csoportba tartozó, a fentiekben fel nem sorolt földszinti épület és felület
AW204: 01007 | AX204: Színesfém tároló, salaktér (színesfém) | AY204: =CONCATENATE(AW204," - ",AX204) -> 01007 - Színesfém tároló, salaktér (színesfém) | BI204: 299000 | BJ204: Egyéb, a 0200000. csoportba tartozó, a fentiekben fel nem sorolt földszint feletti épület, építmény és felület | BK204: =CONCATENATE(BI204," - ",BJ204) -> 299000 - Egyéb, a 0200000. csoportba tartozó, a fentiekben fel nem sorolt földszint feletti épület, építmény és felület
AW205: 04903 | AX205: Színház, mozi, műterem, stúdió, táncterem | AY205: =CONCATENATE(AW205," - ",AX205) -> 04903 - Színház, mozi, műterem, stúdió, táncterem | BI205: 399000 | BJ205: Egyéb, a 0300000. csoportba tartozó, de a fentiekben fel nem sorolt földszint alatti építmény | BK205: =CONCATENATE(BI205," - ",BJ205) -> 399000 - Egyéb, a 0300000. csoportba tartozó, de a fentiekben fel nem sorolt földszint alatti építmény
AW206: 01082 | AX206: Szőrme előállítás munkahelyei | AY206: =CONCATENATE(AW206," - ",AX206) -> 01082 - Szőrme előállítás munkahelyei | BI206: 499000 | BJ206: Egyéb, a 0400000. csoportba tartozó, a fentiekben fel nem sorolt anyagellátó és -elosztó rendszer, valamint csővezeték | BK206: =CONCATENATE(BI206," - ",BJ206) -> 499000 - Egyéb, a 0400000. csoportba tartozó, a fentiekben fel nem sorolt anyagellátó és -elosztó rendszer, valamint csővezeték
AW207: 01083 | AX207: Szövöde, kötő-, hurkolóüzem | AY207: =CONCATENATE(AW207," - ",AX207) -> 01083 - Szövöde, kötő-, hurkolóüzem | BI207: 699000 | BJ207: Egyéb, a 0600000. csoportba tartozó munkáknál használt, a fentiekben fel nem sorolt, nem motoros kéziszerszám és eszköz | BK207: =CONCATENATE(BI207," - ",BJ207) -> 699000 - Egyéb, a 0600000. csoportba tartozó munkáknál használt, a fentiekben fel nem sorolt, nem motoros kéziszerszám és eszköz
AW208: 01132 | AX208: Szűcsműhely | AY208: =CONCATENATE(AW208," - ",AX208) -> 01132 - Szűcsműhely | BI208: 799000 | BJ208: Egyéb, a 0700000. csoportba tartozó, a fentiekben fel nem sorolt kézi vagy kézi irányítású motoros szerszám | BK208: =CONCATENATE(BI208," - ",BJ208) -> 799000 - Egyéb, a 0700000. csoportba tartozó, a fentiekben fel nem sorolt kézi vagy kézi irányítású motoros szerszám
AW209: 03903 | AX209: Takarmány-előkészítés munkahelyei | AY209: =CONCATENATE(AW209," - ",AX209) -> 03903 - Takarmány-előkészítés munkahelyei | BI209: 899000 | BJ209: Egyéb, a 0800000. csoportba tartozó egyéb munkákhoz használt, a fentiekben fel nem sorolt kéziszerszám - energiaforrás megadása nélkül | BK209: =CONCATENATE(BI209," - ",BJ209) -> 899000 - Egyéb, a 0800000. csoportba tartozó egyéb munkákhoz használt, a fentiekben fel nem sorolt kéziszerszám - energiaforrás megadása nélkül
AW210: 01306 | AX210: Tartálytelep | AY210: =CONCATENATE(AW210," - ",AX210) -> 01306 - Tartálytelep | BI210: 999000 | BJ210: Egyéb, a 0900000. csoportba tartozó, a fentiekben fel nem sorolt hordozható vagy mobil gép és berendezés | BK210: =CONCATENATE(BI210," - ",BJ210) -> 999000 - Egyéb, a 0900000. csoportba tartozó, a fentiekben fel nem sorolt hordozható vagy mobil gép és berendezés
AW211: 01101 | AX211: Távközlési vezetékek (oszlopokkal együtt) | AY211: =CONCATENATE(AW211," - ",AX211) -> 01101 - Távközlési vezetékek (oszlopokkal együtt) | BI211: 1099000 | BJ211: Egyéb, a 1000000. csoportba tartozó, a fentiekben fel nem sorolt, rögzített gép és berendezés | BK211: =CONCATENATE(BI211," - ",BJ211) -> 1099000 - Egyéb, a 1000000. csoportba tartozó, a fentiekben fel nem sorolt, rögzített gép és berendezés
AW212: 01051 | AX212: Tej és tejtermékek előállításának munkahelyei | AY212: =CONCATENATE(AW212," - ",AX212) -> 01051 - Tej és tejtermékek előállításának munkahelyei | BI212: 1199000 | BJ212: Egyéb, a 1100000. csoportba tartozó, a fentiekben fel nem sorolt anyagmozgató, szállító- és tárolórendszer | BK212: =CONCATENATE(BI212," - ",BJ212) -> 1199000 - Egyéb, a 1100000. csoportba tartozó, a fentiekben fel nem sorolt anyagmozgató, szállító- és tárolórendszer
AW213: 11100 | AX213: Tengeri vagy óceáni terület – bármely vízi jármű, fúrósziget, hajó, csónak, | AY213: =CONCATENATE(AW213," - ",AX213) -> 11100 - Tengeri vagy óceáni terület – bármely vízi jármű, fúrósziget, hajó, csónak, | BI213: 1299000 | BJ213: Egyéb, a 1200000. csoportba tartozó, a fentiekben fel nem sorolt szárazföldi jármű | BK213: =CONCATENATE(BI213," - ",BJ213) -> 1299000 - Egyéb, a 1200000. csoportba tartozó, a fentiekben fel nem sorolt szárazföldi jármű
AW214: 03902 | AX214: Terményszárítás munkahelyei | AY214: =CONCATENATE(AW214," - ",AX214) -> 03902 - Terményszárítás munkahelyei | BI214: 1399000 | BJ214: Egyéb, a 1300000. csoportba tartozó, a fentiekben fel nem sorolt jármű | BK214: =CONCATENATE(BI214," - ",BJ214) -> 1399000 - Egyéb, a 1300000. csoportba tartozó, a fentiekben fel nem sorolt jármű
... AW245: 99900 | AX245: Egyéb, a fentiekben fel nem sorolt munkakörnyezet | AY245: =CONCATENATE(AW245," - ",AX245) -> 99900 - Egyéb, a fentiekben fel nem sorolt munkakörnyezet | BI245: 1806000 | BJ245: Emberek | BK245: =CONCATENATE(BI245," - ",BJ245) -> 1806000 - Emberek
BI246: 1411000 | BJ246: Emelő berendezésről , daruról lógó teher | BK246: =CONCATENATE(BI246," - ",BJ246) -> 1411000 - Emelő berendezésről , daruról lógó teher
BI247: 1102020 | BJ247: Emelő csigaszerkezetek | BK247: =CONCATENATE(BI247," - ",BJ247) -> 1102020 - Emelő csigaszerkezetek
BI248: 1409010 | BJ248: Emelő csigaszerkezetre, darura függesztett rakományok | BK248: =CONCATENATE(BI248," - ",BJ248) -> 1409010 - Emelő csigaszerkezetre, darura függesztett rakományok
BI249: 1105020 | BJ249: Emelőgerendák, markolók, elektromágnesek, szívóemelők, szívókorongok | BK249: =CONCATENATE(BI249," - ",BJ249) -> 1105020 - Emelőgerendák, markolók, elektromágnesek, szívóemelők, szívókorongok
BI250: 1104010 | BJ250: Emelőszerkezet nélküli szállító berendezések | BK250: =CONCATENATE(BI250," - ",BJ250) -> 1104010 - Emelőszerkezet nélküli szállító berendezések
BI251: 1104020 | BJ251: Emelővillás targoncák | BK251: =CONCATENATE(BI251," - ",BJ251) -> 1104020 - Emelővillás targoncák
BI252: 1008250 | BJ252: Enyvező gép | BK252: =CONCATENATE(BI252," - ",BJ252) -> 1008250 - Enyvező gép
BI253: 1008290 | BJ253: Enyvező prés | BK253: =CONCATENATE(BI253," - ",BJ253) -> 1008290 - Enyvező prés
BI254: 1013085 | BJ254: Enyvfelhordógépek | BK254: =CONCATENATE(BI254," - ",BJ254) -> 1013085 - Enyvfelhordógépek
BI255: 0101010 | BJ255: Épületasztalos- és ép. ács- termék fából (pl. nyílászáró) | BK255: =CONCATENATE(BI255," - ",BJ255) -> 0101010 - Épületasztalos- és ép. ács- termék fából (pl. nyílászáró)
BI256: 1002710 | BJ256: Erjesztő kád | BK256: =CONCATENATE(BI256," - ",BJ256) -> 1002710 - Erjesztő kád
BI257: 1009100 | BJ257: Expanziós gép, habgenerátor | BK257: =CONCATENATE(BI257," - ",BJ257) -> 1009100 - Expanziós gép, habgenerátor
BI258: 1009040 | BJ258: Extrudáló, ill. fröccsöntő prések (fémmegmunkálás) | BK258: =CONCATENATE(BI258," - ",BJ258) -> 1009040 - Extrudáló, ill. fröccsöntő prések (fémmegmunkálás)
BI259: 102030 | BJ259: Fa | BK259: =CONCATENATE(BI259," - ",BJ259) -> 102030 - Fa
BI260: 1012091 | BJ260: Fa- és egyéb anyagokhoz csiszológépek | BK260: =CONCATENATE(BI260," - ",BJ260) -> 1012091 - Fa- és egyéb anyagokhoz csiszológépek
BI261: 1012083 | BJ261: Fa- és egyéb anyagokhoz használatos vágógépek | BK261: =CONCATENATE(BI261," - ",BJ261) -> 1012083 - Fa- és egyéb anyagokhoz használatos vágógépek
BI262: 603020 | BJ262: Fafaragókés, fametsző (nem kertészeti) | BK262: =CONCATENATE(BI262," - ",BJ262) -> 603020 - Fafaragókés, fametsző (nem kertészeti)
BI263: 1010130 | BJ263: Faipari automata megmunkáló gépsor | BK263: =CONCATENATE(BI263," - ",BJ263) -> 1010130 - Faipari automata megmunkáló gépsor
BI264: 1010110 | BJ264: Faipari csiszológép | BK264: =CONCATENATE(BI264," - ",BJ264) -> 1010110 - Faipari csiszológép
BI265: 1010120 | BJ265: Faipari esztergagép | BK265: =CONCATENATE(BI265," - ",BJ265) -> 1010120 - Faipari esztergagép
BI266: 1010140 | BJ266: Faipari fúrógép | BK266: =CONCATENATE(BI266," - ",BJ266) -> 1010140 - Faipari fúrógép
BI267: 1010100 | BJ267: Faipari fűrészgép | BK267: =CONCATENATE(BI267," - ",BJ267) -> 1010100 - Faipari fűrészgép
... BI881: 9900000 | BJ881: Egyéb, a fentiekben fel nem sorolt anyagi tényező | BK881: =CONCATENATE(BI881," - ",BJ881) -> 9900000 - Egyéb, a fentiekben fel nem sorolt anyagi tényező

Sheet Értelmezési útmutató
R2: Értelmezési útmutató
B4: A Használathoz szükséges szoftver háttér: Ms Office 2010 vagy annál újabb verziójú Excel, illetve LibreOffice 7 vagy annál újabb verziójú Calc program. (A beépített formázások, feltételekhez kötött megjelenítések, illetve választólisták csak ebben az esetben működnek hibátlanul).
B5: A munkabaleset vizsgálat módszertani segédlet működése (használata): A baleset helyszínén, a vizsgálati dokumentáció kitöltésével indul a folyamat, és a később készítendő/készíthető dokumentációkba átemelésre kerülnek a releváns adatok (pl. Sérült neve, Munkáltatói adatok, Munkabaleset adatai, stb.). - Munkabaleset minősítése (elutasítás esetén kötelező); - Munkabaleseti nyilvántartás (kötelező); - Munkabaleset vizsgálati jkv. (nem kötelező); - Kárigény felhívás (nem kötelező); - Munkabaleseti jkv (kötelező). Amennyiben a vizsgálati dokumentációban rögzítendő adatok valamelyike nem áll rendelkezésre a vizsgálat időpontjában, úgy azok később is rögzíthetőek itt. A Munkabaleseti jegyzőkönyv "D" blokkja egy olyan fix (közvetlenül nem módosítható) adatterület, melyet csak a "Vizsgálati dokumentáció" "D" blokkjának kitöltésével lehet feltölteni. A munkabaleseti nyilvántartási számot is először a vizsgálati dokumentációban szükséges megadni (később ezt is lehet pótolni). Adott cellákból migrált adatok később felülírhatók, így azonban a további hivatkozás erre a cellára megszűnik. A módszertani segédlet kitöltéséhez munkavédelmi ismeretek szükségesek, az Mvt. szerint a munkabaleset kivizsgálása munkabiztonsági szaktevékenység.
B7: Orvosi vélemény beszerzése szükséges, ha a sérülés megtörténte is kérdéses, a munkabaleset súlyosságát nehéz egyértelműen megítélni illetve az egészségkárosodás vagy elhalálozás oka sorsszerű megbetegedés vagy belső hatás is lehetett (pl. szívinfarktus). Szintén orvosi vélemény beszerzése szükséges, ha a külső hatásnak csak később jelentkeztek a következményei (pl. rovarcsípés, derék húzódás).
B9: Nem tekinthető az Mvt. 87. § 1/A. pontja szerinti balesetnek, például:
B10: a) a sérült saját maga által szándékosan okozott sérülése, mérgezése, egészségkárosodása (így az öngyilkosság sem), b) az olyan esemény, amelyről megállapítható, hogy kizárólag az emberi szervezeten belüli (endogén) okokból ered (például heveny keringési, agyműködési zavar, epilepsziás roham, egyéb hirtelen jelentkező egészségügyi probléma), kivéve amennyiben a heveny egészségkárosodás bekövetkezését követően külső hatások is közrejátszanak a végső állapot (sérülés, mérgezés vagy más testi, lelki egészségkárosodás, illetve halál) kialakulásában.
B18: A "Jegyzőkönyv munkabaleset vizsgálatáról" munkafüzetlapon, a meghallgatáson résztvevő személyek között szerepel a "További résztvevő". További résztvevő lehet pl.: munkavédelmi képviselő, sérült jogi képviselője, FESZ orvos
B19: Választólisták használata: A módszertani anyag egyes munkafüzet lapjain (pl. Vizsgálati dokumentáció) több helyen is beépítésre kerültek olyan legördíthető választólisták, melyek segítheik egyes adatcellák kitöltését. Tekintettel az egyes listák tartalmára, a listák tartalmának sorrendje eltérő lehet. Egyes esetekben ABC sorrend került beállításra, míg másik esetben a kódok szerint történik a sorbaállítás. (Rövid listáknál jellemzően az ABC sorrend a meghatározó, míg a hosszabb összetettebb listáknál a kódszám az iránymutató. Amennyiben egyes adatok esetében szükség volna "látni" a teljes lista adattartalmat - kód+megnevezés - célszerű a "Listák" munkafüzetlapra lépni, ahol az összes módszertani anyagban felhasznált lista megtalálható)
B20: Intézkedés (szabálytalanság esetén) A "vizsgálati dokumentáció" E) 6. pontjánál, illetve a későbbiekben a jegyzőkönyv felvételekor még nem biztos, hogy rövid-középtávú intézkedés elrendelésre kerül, így ezen esetben, az "Intézkedés (szabálytalanság esetén)" mezőbe, szövegesen javasolt beírni, hogy később kerül meghatározásra.
B21: Javaslat! A vizsgálat lezárását követően, a keletkezett dokumentumokat (Vizsgálati dokumentáció, Munkabaleset minősítése, Munkabaleseti nyilvántartás, MBJKV, Felhívás) célszerű munkalaponként önálló dokumentumokként lementeni.
